BEGIN:VCALENDAR
VERSION:2.0
PRODID:-//Aktionshalle Stanzerei - ECPv6.15.20//NONSGML v1.0//EN
CALSCALE:GREGORIAN
METHOD:PUBLISH
X-WR-CALNAME:Aktionshalle Stanzerei
X-ORIGINAL-URL:https://www.stanzerei-baden.ch
X-WR-CALDESC:Veranstaltungen für Aktionshalle Stanzerei
REFRESH-INTERVAL;VALUE=DURATION:PT1H
X-Robots-Tag:noindex
X-PUBLISHED-TTL:PT1H
BEGIN:VTIMEZONE
TZID:Europe/Zurich
BEGIN:DAYLIGHT
TZOFFSETFROM:+0100
TZOFFSETTO:+0200
TZNAME:CEST
DTSTART:20170326T010000
END:DAYLIGHT
BEGIN:STANDARD
TZOFFSETFROM:+0200
TZOFFSETTO:+0100
TZNAME:CET
DTSTART:20171029T010000
END:STANDARD
BEGIN:DAYLIGHT
TZOFFSETFROM:+0100
TZOFFSETTO:+0200
TZNAME:CEST
DTSTART:20180325T010000
END:DAYLIGHT
BEGIN:STANDARD
TZOFFSETFROM:+0200
TZOFFSETTO:+0100
TZNAME:CET
DTSTART:20181028T010000
END:STANDARD
BEGIN:DAYLIGHT
TZOFFSETFROM:+0100
TZOFFSETTO:+0200
TZNAME:CEST
DTSTART:20190331T010000
END:DAYLIGHT
BEGIN:STANDARD
TZOFFSETFROM:+0200
TZOFFSETTO:+0100
TZNAME:CET
DTSTART:20191027T010000
END:STANDARD
END:VTIMEZONE
BEGIN:VEVENT
DTSTART;TZID=Europe/Zurich:20180314T080000
DTEND;TZID=Europe/Zurich:20180314T170000
DTSTAMP:20260425T162739
CREATED:20180905T151904Z
LAST-MODIFIED:20180905T151904Z
UID:10000682-1521014400-1521046800@www.stanzerei-baden.ch
SUMMARY:SOLOSTUNDE - Paul Giger
DESCRIPTION:Ein Musiker\, ein Instrument\, eine Stunde. \nPaul Giger – Violine \nDer Fokus liegt auf dem Wesentlichen. Im Kegel des Scheinwerferlichts steht der Solist mit seinem Instrument. \n\nBeim Violinisten Paul Giger ist Musik die irdische Spiegelung geistiger Welten und Wirklichkeiten. Formen\, Themen\, Klangfarben\, Rhythmen und Zeitbögen weiten sich zu seelischen Universen. \nhttps://paul-giger.ch/
URL:https://www.stanzerei-baden.ch/kultur/solostunde-paul-giger
CATEGORIES:ENDLICH MITTWOCH!,SOLOSTUNDE
ATTACH;FMTTYPE=image/jpeg:https://www.stanzerei-baden.ch/wp-content/uploads/2018/09/18-03-14_so_giger_web_em.jpg
END:VEVENT
BEGIN:VEVENT
DTSTART;TZID=Europe/Zurich:20180307T201500
DTEND;TZID=Europe/Zurich:20180307T201500
DTSTAMP:20260425T162739
CREATED:20180906T071953Z
LAST-MODIFIED:20180906T072024Z
UID:10000683-1520453700-1520453700@www.stanzerei-baden.ch
SUMMARY:BASLERHASLERKUHN
DESCRIPTION:Live-Talkshow mit Patti Basler\, Etrit Hasler und Philippe Kuhn. \nSatirisch überhöht und auf den Punkt gebracht befasst sich die Show mit politisch aktuellen Themen. Zur brisanten Gesprächsrunde mit musikalischer Begleitung werden PolitikerInnen\, sowie nationale und internationale KünstlerInnen aus den Bereichen Kleinkunst/Kabarett und Spoken Word geladen. \nMit 9 Volt Nelly und Jonas Fricker (GPS).
URL:https://www.stanzerei-baden.ch/kultur/baslerhaslerkuhn-4
CATEGORIES:BASLERHASLERKUHN,ENDLICH MITTWOCH!
ATTACH;FMTTYPE=image/jpeg:https://www.stanzerei-baden.ch/wp-content/uploads/2018/09/baslerhaslerkuhn_web_em2.jpg
END:VEVENT
BEGIN:VEVENT
DTSTART;TZID=Europe/Zurich:20180228T201500
DTEND;TZID=Europe/Zurich:20180228T201500
DTSTAMP:20260425T162739
CREATED:20180906T081801Z
LAST-MODIFIED:20180906T081842Z
UID:10000684-1519848900-1519848900@www.stanzerei-baden.ch
SUMMARY:GREYHOUND - Heidi Maria Glössner
DESCRIPTION:„Marlene – eine Plauderei am Klavier“ \nHeidi Maria Glössner verkörpert Marlene Dietrich auf der Stanzereibühne. In einer persönlichen Annäherung an die Diva erzählt die Schauspielerin aus dem bewegten Leben der\nHollywood- & Stilikone in den goldenen Zwanziger Jahren.\nVon und mit: Heidi Maria Glössner.\nAm Klavier begleitet wird sie von: Wieslaw Pipczynski. \nMit den schönsten Liedern aus Marlenes Konzertrepertoire.
URL:https://www.stanzerei-baden.ch/kultur/greyhound-heidi-maria-gloessner
CATEGORIES:ENDLICH MITTWOCH!,GREYHOUND
ATTACH;FMTTYPE=image/jpeg:https://www.stanzerei-baden.ch/wp-content/uploads/2018/09/18-02-28_gloessner_web.jpg
END:VEVENT
BEGIN:VEVENT
DTSTART;TZID=Europe/Zurich:20180221T201500
DTEND;TZID=Europe/Zurich:20180221T201500
DTSTAMP:20260425T162739
CREATED:20180906T082104Z
LAST-MODIFIED:20180906T082104Z
UID:10000685-1519244100-1519244100@www.stanzerei-baden.ch
SUMMARY:SONGCIRCLE
DESCRIPTION:Hendrix Ackle\, Adrian Stern und ihre Gäste.  \nLegendär – einzigartig – pur und unplugged. Im Zentrum stehen für einmal nicht die eigenen Songs der geladenen Gäste\, sondern deren persönliche Lieblingssongs. \n\nAm Songcircle dreht sich alles um Musik als lebensbegleitendes Element: Sei es der Song\, der einen zum Musikmachen bewegt hat\, der Song\, der einen die erste grosse Liebe nicht vergessen lässt\, der uncoolste Song\, zu dem man hinter gezogenen Vorhängen durchs Wohnzimmer tanzt\, der beste Song aller Zeiten\, den leider niemand kennt\, Songtrouvaillen aus Reisen in andere Länder oder auch einfach nur die aktuelle Nummer 1 der Hitparade\, der man beim besten Willen nicht entfliehen kann. All das steht im Zentrum vom Songcircle und nimmt Sie mit auf eine einzigartige Reise.Entdecken Sie neue Musik\, geniessen Sie den Einblick in die private Plattensammlung und den ganz persönlichen Musikgeschmack der Gäste\, lauschen Sie spannenden Geschichten und spontanen Gesprächen von Musikern unter sich und hören Sie\, wie sie sich ihre liebsten Songs gegenseitig vorspielen\, pur und unplugged. \nwww.hendrixackle.com  /   www.adrianstern.ch \nGäste: Trauffer & GUSTAV
URL:https://www.stanzerei-baden.ch/kultur/songcircle-8
CATEGORIES:ENDLICH MITTWOCH!,SONGCIRCLE
ATTACH;FMTTYPE=image/jpeg:https://www.stanzerei-baden.ch/wp-content/uploads/2018/09/18-02-21_sc_trauffer_gustav_web_em.jpg
END:VEVENT
BEGIN:VEVENT
DTSTART;TZID=Europe/Zurich:20180131T201500
DTEND;TZID=Europe/Zurich:20180131T201500
DTSTAMP:20260425T162739
CREATED:20180906T082957Z
LAST-MODIFIED:20180906T095939Z
UID:10000686-1517429700-1517429700@www.stanzerei-baden.ch
SUMMARY:CARTEBLANCHE - pulp.noir
DESCRIPTION:pulp.noir – Plato’s Cave \nWenn die Ungewissheit nicht aus der Welt zu schaffen ist\, dann nutzen wir sie eben als Freiheit. \nUngewissheit war für die westliche Welt lange Zeit kaum ein Thema mehr\, aber jetzt sitzen wieder alle im gleichen Boot. Oder um es mit Platon zu sagen: in der gleichen Höhle. Denn er vergleicht die Menschen mit Höhlenbewohnern\, denen ein Schattentheater vorgespielt wird\, das sie irrigerweise für die Wirklichkeit halten. Gewissheit gibt’s nur draussen\, wohin uns allerdings weder die Philosophie\, noch die Religionen oder Naturwissenschaften je geführt haben. – Doch vielleicht ist das gar nicht so schlimm? \nIn „Plato’s Cave“ warten die Menschen zwar vergeblich auf das Eindeutige und Beständige\, aber dafür bietet ihnen die Welt aus Schatten und Echos viel Spielraum\, und sinnlich ist sie auch. \npulp.noir operiert an der offenen Grenze zwischen den Künsten und erkundet mit allen Mitteln und Medien die Absurdität des Lebens\, um sie dem Publikum in Installationen und Performances zugänglich zu machen. \nEine Sound-Wort-Video-Performance mit Fred Bürki\, Eric Hunziker\, Vincent Membrez\, Julia Maria Morf\, Tobias Reber\, Rahel Sternberg\, Thomas Winkler\, Thomas Fischer.
URL:https://www.stanzerei-baden.ch/kultur/carteblanche-pulp-noir
CATEGORIES:CARTEBLANCHE,ENDLICH MITTWOCH!
ATTACH;FMTTYPE=image/jpeg:https://www.stanzerei-baden.ch/wp-content/uploads/2018/09/18-01-31_cb_pulpnoir_web.jpg
END:VEVENT
BEGIN:VEVENT
DTSTART;TZID=Europe/Zurich:20180124T201500
DTEND;TZID=Europe/Zurich:20180124T201500
DTSTAMP:20260425T162739
CREATED:20180906T092851Z
LAST-MODIFIED:20180906T092851Z
UID:10000687-1516824900-1516824900@www.stanzerei-baden.ch
SUMMARY:KLASSIKHALT - Ueli Angstmann und Hannes Giger
DESCRIPTION:„Von Bach zu Mingus“ – Musik zwischen Klassik & Jazz \nSaxophonist Ueli Angstmann und Kontrabassist Hannes Giger treffen sich für eine Auseinandersetzung mit dem absoluten Genie J.S. Bach und dem fehlerhaften Genie und Bachbewunderer Charles Mingus:  Kulturelle Progressivität in den Zeiten des Barocks und den 60er und 70er Jahren des 20. Jahrhunderts. \nUeli Angstmann / Hannes Giger
URL:https://www.stanzerei-baden.ch/kultur/klassikhalt-ueli-angstmann-und-hannes-giger
CATEGORIES:ENDLICH MITTWOCH!,KLASSIKHALT
ATTACH;FMTTYPE=image/jpeg:https://www.stanzerei-baden.ch/wp-content/uploads/2018/09/18-01-24_kh_giger_angstmann_web_em.jpg
END:VEVENT
BEGIN:VEVENT
DTSTART;TZID=Europe/Zurich:20180117T201500
DTEND;TZID=Europe/Zurich:20180117T201500
DTSTAMP:20260425T162739
CREATED:20180906T093132Z
LAST-MODIFIED:20180906T093132Z
UID:10000688-1516220100-1516220100@www.stanzerei-baden.ch
SUMMARY:SOLOSTUNDE - Marcel Lüscher
DESCRIPTION:Ein Musiker\, seine Instrumente\, eine Stunde. \n\nMarcel Lüscher – Saxophon & Klarinette\n\n\nMarcel Lüscher ist ein bunter Hund in der Musikwelt\, spielt mit seinen Saxophonen und Klarinetten gerne in so unterschiedlichen Klangwelten wie zum Beispiel bei Stephan Eicher\, dem argovia philharmonic orchestra oder Max Lässer. Ein coup de coeur\, eine Entdeckung\, eine Umarmung. \nwww.marcelluescher.com \n 
URL:https://www.stanzerei-baden.ch/kultur/solostunde-marcel-luescher
CATEGORIES:ENDLICH MITTWOCH!,SOLOSTUNDE
ATTACH;FMTTYPE=image/jpeg:https://www.stanzerei-baden.ch/wp-content/uploads/2018/09/18-01-17_so_luescher_web_em.jpg
END:VEVENT
END:VCALENDAR