BEGIN:VCALENDAR
VERSION:2.0
PRODID:-//Aktionshalle Stanzerei - ECPv6.15.20//NONSGML v1.0//EN
CALSCALE:GREGORIAN
METHOD:PUBLISH
X-WR-CALNAME:Aktionshalle Stanzerei
X-ORIGINAL-URL:https://www.stanzerei-baden.ch
X-WR-CALDESC:Veranstaltungen für Aktionshalle Stanzerei
REFRESH-INTERVAL;VALUE=DURATION:PT1H
X-Robots-Tag:noindex
X-PUBLISHED-TTL:PT1H
BEGIN:VTIMEZONE
TZID:Europe/Zurich
BEGIN:DAYLIGHT
TZOFFSETFROM:+0100
TZOFFSETTO:+0200
TZNAME:CEST
DTSTART:20230326T010000
END:DAYLIGHT
BEGIN:STANDARD
TZOFFSETFROM:+0200
TZOFFSETTO:+0100
TZNAME:CET
DTSTART:20231029T010000
END:STANDARD
BEGIN:DAYLIGHT
TZOFFSETFROM:+0100
TZOFFSETTO:+0200
TZNAME:CEST
DTSTART:20240331T010000
END:DAYLIGHT
BEGIN:STANDARD
TZOFFSETFROM:+0200
TZOFFSETTO:+0100
TZNAME:CET
DTSTART:20241027T010000
END:STANDARD
BEGIN:DAYLIGHT
TZOFFSETFROM:+0100
TZOFFSETTO:+0200
TZNAME:CEST
DTSTART:20250330T010000
END:DAYLIGHT
BEGIN:STANDARD
TZOFFSETFROM:+0200
TZOFFSETTO:+0100
TZNAME:CET
DTSTART:20251026T010000
END:STANDARD
END:VTIMEZONE
BEGIN:VEVENT
DTSTART;TZID=Europe/Zurich:20240110T201500
DTEND;TZID=Europe/Zurich:20240110T201500
DTSTAMP:20260426T062246
CREATED:20230711T113322Z
LAST-MODIFIED:20231213T154559Z
UID:10000884-1704917700-1704917700@www.stanzerei-baden.ch
SUMMARY:CASTIADAS - DODO HUG ENSEMLBE
DESCRIPTION:canti sardi di ieri e di oggi – sardische Lieder einst und jetzt \nCASTIADAS – So nennen Dodo Hug & Efisio Contini ihr neues Konzertprogramm. Es bedeutet auf Sardisch Blick oder Ausblick und steht für eine Art neugieriges «Sehen mit den Ohren». Ein Blick auf ein weiteres\, sehr kreatives Schaffen der «Grande Dame» der Schweizer Kleinkunst und Musikszene mit ihrem kongenialen\, langjährigen Sardischen Bühnen- und Lebenspartner Efisio Contini. Eine glückliche Fügung ist dabei die Zusammenarbeit mit dem italienischen Sänger und Multiinstrumentalisten Michele Siciliano\, der Dodo & Efisio für dieses Projekt wunderbar ergänzt. \nEs ist uns ausserdem eine grosse Freude\, dass die Sängerin und Percussionistin Yvonne Baumer auch bei diesem Programm mit uns auf der Bühne steht. \nMit CASTIADAS eröffnet sich ein akustischer Blick in einen Garten voller Lieder und Klänge\,\ntraditionelle\, neue und eigene. Gesungen in vielen Sardischen Dialekten\, inklusiv der beiden Sprachminderheiten Katalanisch und Tabarkinisch (ein genuesischer Dialekt von der südlichen Insel San Pietro). Und aus Sympathie für die Nachbarinsel\, sogar ein Lied aus Korsika. Mal Acappella\, dann wieder mit verschiedenen Instrumenten. Gitarren\, Trommeln\, Tammorra und weiteren Perkussionsinstrumente. \nGespielt und interpretiert mit Freude und Melancholie\, authentisch und hingebungsvoll.\nCASTIADAS berührt und öffnet Türen zu einem alten Land\, zu einem reichen Erbe der Traditionen\nund aussergewöhnlicher Originalität. CASTIADAS ist eine Hymne an das kleine sardische Dorf\nim Süden der Insel Sardinien. An jenes Dorf in welchem Efisio Contini seine ersten Schuljahre verbrachte. Ein Hochgenuss für die Freundinnen und Freunde tiefer\, vielseitiger und inspirierender Musik. \nMusicians\nDodo Hug: vocals\, guitars\, cuatro\, accordion\, framedrum\, handpercussion\nEfisio Contini: vocals\, guitars\, chitarra sarda\, mandolin\nMichele Siciliano: vocals\, chitarra battente\, mandolin\, tammorra\, flauti\, scacciapensieri\nYvonne Baumer: vocals\, bassdrum\, handpercussion \n \n  \n  \n  \n  \n  \n  \n  \nMit der Unterstützung von
URL:https://www.stanzerei-baden.ch/kultur/dodo-hug
CATEGORIES:CARTEBLANCHE,ENDLICH MITTWOCH!
ATTACH;FMTTYPE=image/jpeg:https://www.stanzerei-baden.ch/wp-content/uploads/2023/06/CASTIADAS_2.jpeg
ORGANIZER;CN="ENDLICH MITTWOCH!":MAILTO:endlichmittwoch@stanzerei-baden.ch
END:VEVENT
BEGIN:VEVENT
DTSTART;TZID=Europe/Zurich:20240112T210000
DTEND;TZID=Europe/Zurich:20240112T210000
DTSTAMP:20260426T062246
CREATED:20231218T105722Z
LAST-MODIFIED:20231218T152412Z
UID:10000922-1705093200-1705093200@www.stanzerei-baden.ch
SUMMARY:numu präsentiert: Ensemble Nickel + Noa Frenkel
DESCRIPTION:Das Ensemble Nikel ist radikal zeitgenössisch. Seit 2006 forschen die vier Mitglieder Brian Archinal\, Yaron Deutsch\, Antoine Françoise und Patrick Stadler an einer ganz neuen Form der Kammermusik. Das Ensemble Nikel schafft dies mit einer ungewöhnlichen elektroakustischen Besetzung\, die an eine Rockband erinnert: Saxofon\, E-Gitarre\, Schlagzeug und Piano sind die Grundinstrumente der vier Musiker mit Wurzeln in den USA\, Deutschland\, Israel und der Schweiz. \nDas Ensemble spielt an international vielbeachteten Festivals für zeitgenössische Musik wie den Donaueschinger Musiktagen oder dem Huddersfield Contemporary Music Festival. Tourneen führten das Ensemble auch nach Südamerika oder Neuseeland. \n2023 wurden sie mit dem Schweizer Musikpreis ausgezeichnet. \nDas Repertoire des Ensemble Nikel besteht aus Werken\, die speziell für ihre einzigartige Besetzung komponiert werden. Bei numu wird eine Komposition für Nikel und Gesang von Rebecca Saunders im Fokus stehen. Wir freuen uns!  www.ensemblenikel.com \n  \n  \n \nBrian Archinal: Perkussion \nYaron Deutsch: e-Gitarre \nAntoine Françoise: Klavier \nPatrick Stadler: Saxofon \nGastsängerin: Noa Frenkel \n  \n  \n  \n numu steht für Neue & unentdeckte Musik und will zeitgenössische Musik in der Öffentlichkeit fördern und jungen Musikerinnen und Musikern eine professionelle Plattform bieten. \nnumu wird unterstützt durch: \nAargauer Kuratorium\, Stadt Baden\, Gemeinde Ennetbaden\, Migros Kulturprozent \nWeitere Infos unter www.numu.ch \n  \n  \n  \n  \n 
URL:https://www.stanzerei-baden.ch/kultur/numu-praesentiert-ensemble-nickel
CATEGORIES:numu
ATTACH;FMTTYPE=image/jpeg:https://www.stanzerei-baden.ch/wp-content/uploads/2023/12/ensemble-nickel_1.jpeg
ORGANIZER;CN="numu":MAILTO:info@numu.ch
END:VEVENT
BEGIN:VEVENT
DTSTART;TZID=Europe/Zurich:20240117T201500
DTEND;TZID=Europe/Zurich:20240117T201500
DTSTAMP:20260426T062246
CREATED:20230828T151830Z
LAST-MODIFIED:20230828T153613Z
UID:10000882-1705522500-1705522500@www.stanzerei-baden.ch
SUMMARY:FRÜEHNER - ORION VOKAL 4
DESCRIPTION:Das Quartett «orion vokal 4» lässt diesen Wunsch in Erfüllung gehen und nimmt Sie mit auf eine musikalische Zeitreise: Von «Chum mir wei go Chrieseli günne» und «Dert äne am Bärgli»\, zu «I ghöre es Glöggli» und «Schlof Chindli\, schlof»\, von den Titelliedern unserer Lieblingshelden wie «Die drei ???» und «TKKG» zu den hartnäckigsten Ohrwürmern aus Fernsehwerbungen wie «Haribo» oder den «Smarties». Die Lieder unserer Kindheit trägt jeder Mensch in sich und sie begleiten uns\, ob wir wollen oder nicht\, ein Leben lang. Wie die Düfte aus Grossmutters Küche vermag es auch eine Melodie\, Zeit und Raum zu überwinden und uns zurück in die Vergangenheit zu tragen. \nUnter dem Titel «FRÜEHNER» singt «orion vokal 4» bekannte und vielleicht (noch) unbekannte Lieder und Melodien aus der Kindheit verschiedenster Generationen. Dazu erklingen vertonte Texte des Badener Slam Poeten Simon Libsig. Die Lieder schauen zurück auf unsere jungen Jahre\, handeln vom langsamen\, aber unausweichlichen Erwachsenwerden und bringen uns so wieder zurück in die Gegenwart. Gönnen Sie sich eine musikalische «Verjüngungskur» und erfüllen Sie sich den Wunsch\, für einen kurzen Moment wieder Kind zu sein. \nWer hat nicht schon einmal davon geträumt\, einfach wieder ein Kind zu sein? \nDaniel Pérez Bass\nJoël Morand Tenor\nAntonia Frey Alt\nNoëmi Sohn Nad Sopran
URL:https://www.stanzerei-baden.ch/kultur/frueehner-orion-vokal-4
CATEGORIES:CARTEBLANCHE,ENDLICH MITTWOCH!
ATTACH;FMTTYPE=image/jpeg:https://www.stanzerei-baden.ch/wp-content/uploads/2023/07/Frueehner_orion-vokal-4-e1693236606976.jpg
ORGANIZER;CN="ENDLICH MITTWOCH!":MAILTO:endlichmittwoch@stanzerei-baden.ch
END:VEVENT
BEGIN:VEVENT
DTSTART;TZID=Europe/Zurich:20240120T184500
DTEND;TZID=Europe/Zurich:20240120T184500
DTSTAMP:20260426T062246
CREATED:20231124T091900Z
LAST-MODIFIED:20231129T145239Z
UID:10000921-1705776300-1705776300@www.stanzerei-baden.ch
SUMMARY:RC Wettingen & RC Wettingen-Heitersberg präsentieren: 13. Midlife Party
DESCRIPTION:Am 20. Januar 2024 ist es endlich wieder so weit: Unter dem Motto „Tanzen für einen guten Zweck“ findet in der Stanzerei bereits die dreizehnte Ausgabe der legendären Midlife-Party statt. Hierbei handelt es sich um einen Event mit live Musik\, Tanz\, Barbetrieb und einer Lounge.  Als Organisatoren treten die beiden Rotary Clubs Wettingen und Wettingen-Heitersberg auf. \nZiel der Midlife Party ist nicht nur\, dass die Gäste einen fantastischen und ausgefallenen Abend mit viel Freude und Spass verbringen können\, sondern auch\, dass ein guter Zweck unterstützt wird. Mit dem Reinerlös der Midlife Party 2024 werden die drei folgenden Organisationen unterstützt: \n> Klösterli Wettingen \n> Happy Moments  \n> Wakina Mama Na Watoto Tansania \n  \nMit live Musik von \n19:30 – 20:15h \nCartridge ist eine junge Badener Newcomer Band\, welche um 19:30 den Party-Abend mit ihren eigenen Pop/Rock Songs eröffnet. Darf man einfach nicht verpassen! \n \n  \n20:30 – 22:30h \nDie Band Makossa ist wie ein guter alter Rotwein:  Vor langer Zeit gekeltert und seither nur in den besten Übungskellern gelagert. Anfangs stürmisch und quirlig\, mit den Jahren gehaltvoll und zu vollem Charakter gereift. An unzähligen Degustationen wahre Begeisterungsstürme ausgelöst. Wer immer eine „Château Makossa Grand Cru 1976“ chambriert und entkorkt\, wird sich über das stimmige Bouquet mit Geschmacksnoten von den Eagles\, CCR\, Stones\, Brian Adams\, Queen & Co. sowie das harmonische Zusammenspiel und den intensiven\, anhaltenden Abgang freuen können. \n \n  \n22:30 – 02:00h  \nDJ Freddy ist mit seinem HITMIX ein Synonym für gute Laune. \n  \nTickets sind unter untersehendem Link via Eventfrog erhältlich.  \n  \n  \n 
URL:https://www.stanzerei-baden.ch/kultur/12-midlife-party
CATEGORIES:Benefizanlass,Disco,Kultur
ATTACH;FMTTYPE=image/png:https://www.stanzerei-baden.ch/wp-content/uploads/2023/11/Midlifeparty_20.01.24-e1704754479447.png
END:VEVENT
BEGIN:VEVENT
DTSTART;TZID=Europe/Zurich:20240124T201500
DTEND;TZID=Europe/Zurich:20240124T201500
DTSTAMP:20260426T062246
CREATED:20230711T112803Z
LAST-MODIFIED:20230817T090113Z
UID:10000890-1706127300-1706127300@www.stanzerei-baden.ch
SUMMARY:MONK BIS MOSER: ALTFRENTSCHE BESETZUNG & ANDREA KIRCHHOFER
DESCRIPTION:Als „Altfrentsche Besetzung“ ist das Trio Lincke-Menzi-Härtel seit 2015 unterwegs. Gekonnt verbinden der Geiger Matthias Lincke\, Elias Menzi am Appenzeller Hackbrett und Bassgeiger und Jodler Matthias Härtel ihre traditionellen Wurzeln mit ihrem Drang nach freiem musikalischem Ausdruck. Andrea Kirchhofer ist mit ihrem Duo Zugluft bekannt für aus den Fugen geratene Volksmusik fürs 21. Jahrhundert. Wenn sie auf die Altfrentsche Besetzung trifft\, durchmischt sie die hausbackene Altfrentsche Streichmusik mit neuartigen Klängen aus Klezmer\, Minimalmusic und Tango. \nIm aktuellen Programm „Monk bis Moser“ wendet sich das zum Quartett erweiterte Trio der Tradition der Improvisierten Musik und deren Wurzeln im Jazz zu. Sie „machen auf“ mit ungewohnten Klängen im Spannungsfeld zwischen dem kauzigen Jazz eines Thelonious Monk und klassischer Appenzeller Streichmusik\, geprägt von Musikantenfamilien wie den Mosers oder Alders. Dabei streifen sie allerhand einladende bis unwegsame Gebiete – ein musikalischer Aufbruch. \nMatthias Lincke: Geige\nAndrea Kirchhofer: Geige\nElias Menzi: Appenzeller Hackbrett\nMatthias Härtel: Kontrabass
URL:https://www.stanzerei-baden.ch/kultur/monk-bis-moser-altfrentsche-besetzung-andrea-kirchhofer
CATEGORIES:CARTEBLANCHE,ENDLICH MITTWOCH!
ATTACH;FMTTYPE=image/jpeg:https://www.stanzerei-baden.ch/wp-content/uploads/2023/07/240124_Monk-bis-Moser-Collage.jpg
ORGANIZER;CN="ENDLICH MITTWOCH!":MAILTO:endlichmittwoch@stanzerei-baden.ch
END:VEVENT
BEGIN:VEVENT
DTSTART;TZID=Europe/Zurich:20240131T201500
DTEND;TZID=Europe/Zurich:20240131T201500
DTSTAMP:20260426T062246
CREATED:20230828T153357Z
LAST-MODIFIED:20230926T134828Z
UID:10000909-1706732100-1706732100@www.stanzerei-baden.ch
SUMMARY:AT THE LAST LOUSY MOMENTS OF LOVE
DESCRIPTION:«Does its odour remind one of llamas\, or has it a comforting smell?» \nUngewohnte Fragen zum Thema «Liebe». Ein nicht nur klassischer Liederabend\, der sich von Benjamin Britten\, über Bolcom bis hin zu Gershwin und Holländer zieht. Taucht ein in eine unterhaltsame szenische Geschichte\, und lasst euch vom Genremix überzeugen. \nGesang: Désirée Mori\nKlavier: Rahel Sohn\nSaxophon: Rafael Baier
URL:https://www.stanzerei-baden.ch/kultur/at-the-last-lousy-moments-of-love
CATEGORIES:ENDLICH MITTWOCH!,KLASSIKHALT
ATTACH;FMTTYPE=image/jpeg:https://www.stanzerei-baden.ch/wp-content/uploads/2023/08/240131_At-the-last-Lousy-Moments-of-love.jpeg
ORGANIZER;CN="ENDLICH MITTWOCH!":MAILTO:endlichmittwoch@stanzerei-baden.ch
END:VEVENT
END:VCALENDAR