BEGIN:VCALENDAR
VERSION:2.0
PRODID:-//Aktionshalle Stanzerei - ECPv6.15.20//NONSGML v1.0//EN
CALSCALE:GREGORIAN
METHOD:PUBLISH
X-ORIGINAL-URL:https://www.stanzerei-baden.ch
X-WR-CALDESC:Veranstaltungen für Aktionshalle Stanzerei
REFRESH-INTERVAL;VALUE=DURATION:PT1H
X-Robots-Tag:noindex
X-PUBLISHED-TTL:PT1H
BEGIN:VTIMEZONE
TZID:Europe/Zurich
BEGIN:DAYLIGHT
TZOFFSETFROM:+0100
TZOFFSETTO:+0200
TZNAME:CEST
DTSTART:20230326T010000
END:DAYLIGHT
BEGIN:STANDARD
TZOFFSETFROM:+0200
TZOFFSETTO:+0100
TZNAME:CET
DTSTART:20231029T010000
END:STANDARD
BEGIN:DAYLIGHT
TZOFFSETFROM:+0100
TZOFFSETTO:+0200
TZNAME:CEST
DTSTART:20240331T010000
END:DAYLIGHT
BEGIN:STANDARD
TZOFFSETFROM:+0200
TZOFFSETTO:+0100
TZNAME:CET
DTSTART:20241027T010000
END:STANDARD
BEGIN:DAYLIGHT
TZOFFSETFROM:+0100
TZOFFSETTO:+0200
TZNAME:CEST
DTSTART:20250330T010000
END:DAYLIGHT
BEGIN:STANDARD
TZOFFSETFROM:+0200
TZOFFSETTO:+0100
TZNAME:CET
DTSTART:20251026T010000
END:STANDARD
END:VTIMEZONE
BEGIN:VEVENT
DTSTART;TZID=Europe/Zurich:20241106T201500
DTEND;TZID=Europe/Zurich:20241106T201500
DTSTAMP:20260422T203824
CREATED:20240710T165132Z
LAST-MODIFIED:20240718T092223Z
UID:10000936-1730924100-1730924100@www.stanzerei-baden.ch
SUMMARY:NICHTS SCHÖNERES
DESCRIPTION:NICHTS SCHÖNERES\nein Schumannliederabend in vierzehn Szenen\nfür sieben Instrumente und Gesang\neingerichtet von Lorenz Haas \n„Nichts Schöneres“ ist eine musikalisch bearbeitete und szenisch konzipierte Auswahl von Liedern Robert Schumanns. Durch den Versuch\, das Paradox zu überwinden\, sich gleichzeitig möglichst weit vom Original wegzubewegen\, ohne sich aber von diesem zu entfernen\, sollen Schumanns Liedkompositionen sich in der Bearbeitung möglichst ungleich gleichen. Das führt auf den Begriff der Ironie: Was erklingt\, ist nicht allein das\, was es zu hören gilt. Gleichzeitig wird in vierzehn Stationen aus dem Leben einer Stimme aufgezeigt\, wie die Behauptung\, dass die Stimme mit der Seele gleichgesetzt werden muss\, sich bewahrheitet. \nEnsemble für Neue Musik Zürich\nElia Pianaro (Flöten)\nMartin Sonderegger (Klarinetten)\nFrancesco Palmieri (E. Gitarre)\nDaniela Müller (Violine)\nNicola Romanò (Violoncello)\nLorenz Haas (Percussion/Gesang)\nViviane Hasler (Gesang)\nJürg Henneberger (Leitung\, Klavier)\nMichael Wolf/oeil extérieur
URL:https://www.stanzerei-baden.ch/kultur/nichtsschoeneres
CATEGORIES:ENDLICH MITTWOCH!,KLASSIKHALT
ATTACH;FMTTYPE=image/jpeg:https://www.stanzerei-baden.ch/wp-content/uploads/2024/07/241107_nichts-schoeneres.jpg
ORGANIZER;CN="ENDLICH MITTWOCH!":MAILTO:endlichmittwoch@stanzerei-baden.ch
END:VEVENT
BEGIN:VEVENT
DTSTART;TZID=Europe/Zurich:20241113T201500
DTEND;TZID=Europe/Zurich:20241113T201500
DTSTAMP:20260422T203824
CREATED:20240711T194956Z
LAST-MODIFIED:20240829T134430Z
UID:10000938-1731528900-1731528900@www.stanzerei-baden.ch
SUMMARY:WORTSCHATZ
DESCRIPTION:Lesung & Diskussion mit Nadine Olonetzky (Autorin\, Herausgeberin\, Redaktorin) & Andrea Arežina (Schriftstellerin). Moderation Bettina Spoerri. \nAlles dreht sich um Sprache und Geschichten. Eingeladene Gäste mit unterschiedlichen Bezügen zur Literatur stellen ihre persönlichen „Wortschätze“ vor\, Texte mit einer persönlichen Bedeutung und einer eigenen Geschichte dazu. Sie lesen ihre Lieblingsbücher\, -gedichte\, -texte sowie eigene Werke vor. Im Zirkel wird darüber philosophiert und über prägende Literatur gesprochen. Durch den Abend führt Bettina Spoerri\, inspirierende Worte und passende Geschichten werden ausgetauscht.
URL:https://www.stanzerei-baden.ch/kultur/wortschatz-2
CATEGORIES:ENDLICH MITTWOCH!,WORTSCHATZ
ATTACH;FMTTYPE=image/jpeg:https://www.stanzerei-baden.ch/wp-content/uploads/2024/07/241113_Wortschat-mit-Olonetzky-Arezina.jpg
ORGANIZER;CN="ENDLICH MITTWOCH!":MAILTO:endlichmittwoch@stanzerei-baden.ch
END:VEVENT
BEGIN:VEVENT
DTSTART;TZID=Europe/Zurich:20241114T190000
DTEND;TZID=Europe/Zurich:20241114T190000
DTSTAMP:20260422T203824
CREATED:20241108T122135Z
LAST-MODIFIED:20241108T122654Z
UID:10000969-1731610800-1731610800@www.stanzerei-baden.ch
SUMMARY:SOLARLOBBY PRÄSENTIERT: Doppelter Nutzen durch AGRI-PV
DESCRIPTION:«AGRI-PV: Win Win für Landwirtschaft und Energieproduktion» \n \n  \nModeration: Christian Keller\, Grossrat\, Nussbaumen \nDie Teilnahme ist kostenlos; Unkosten- und Wertschätzungsbeitrag nach eigenem Ermessen. \n  \nWeitere Details unter Solarlobby.ch.
URL:https://www.stanzerei-baden.ch/kultur/solarlobby-praesentiert-doppelter-nutzen-durch-agri-pv
ATTACH;FMTTYPE=image/jpeg:https://www.stanzerei-baden.ch/wp-content/uploads/2024/11/Solarlobby_14.11.24-e1731068807235.jpg
END:VEVENT
BEGIN:VEVENT
DTSTART;TZID=Europe/Zurich:20241120T201500
DTEND;TZID=Europe/Zurich:20241120T201500
DTSTAMP:20260422T203824
CREATED:20240711T200133Z
LAST-MODIFIED:20241010T185438Z
UID:10000939-1732133700-1732133700@www.stanzerei-baden.ch
SUMMARY:VOICES FROM... OUR PARTNERS IN CRIME - MORDSLIEDER
DESCRIPTION:ANNAKIN PRESENTS \nVOICES FROM…\nOUR PARTNERS IN CRIME – MORDSLIEDER \nANNAKIN * ED HARCOURT * DOMINIQUE MÜLLER\nMit der Tänzerin Christina Szegedi und einem Local Hero aus dem Gefängnis \n  \nVoices from … ist eine abendfüllende Konzertreihe\, die über ein Musikerlebnis hinausgeht. Mit hochkarätigen Performances\, spannenden Hintergrundinformationen\, berührenden Geschichten und humorvollen Anekdoten. Mit den local heroes und den rising stars\, von ernst bis fröhlich und immer unterhaltsam – tanzend\, spielend oder lesend. Sinnlich\, ein bisschen frech auch – aber anders als Vieles. Und nahe am Thema und am Herzen. \n  \n„Voices from . . . Our Partners in Crime – Mordslieder“ befasst sich mit den Stimmen\, welche die Details der Verbrechen aus Leidenschaft und deren Konsequenzen aufdecken. Annakin und ihre Partners in Crime spielen live eine Auswahl an Mordsliedern und bringen ans Licht\, was hinter Michael Jacksons „Smooth Criminal“ und der brutalen Schilderung des Tathergangs einer Mörderballade von Nick Cave and the Bad Seeds steckt. Und „Stan“\, der verrückte Fan von Eminem wird analysiert – worauf Annakin ihren Englischen Sideman Ed Harcourt natürlich fragen wird\, ob sie nicht alle ein bisschen verrückt sind\, die Fans? Aber auch ein Schweizer Mordslied und Annakins Sichtweise zum Thema aus ihrem grossen Back Catalogue werden in dieser neuen Konzertreihe jeweils nicht fehlen. \nEin Badener Sozialarbeiter aus dem Gefängnis ist der Gast des Abends und erzählt von seinen Erlebnissen mit den harten Jungs. Die Badener Tänzerin Christina Szegedi beleuchtet das Thema mit ihrer Kunstform von einer ganz anderen Seite und zeigt mit zwei ausdrucksstarken Tänzen eine neue Bedeutungsebene auf. Annakin und der Schauspieler und Musikliebhaber Dominique Müller führen zusammen durch den Abend. Sie leiten ins Thema ein\, gehen den Songs und Lyrics auf den Grund und verbinden diese mit selbsterlebten Anekdoten\, zu denen jeweils auch Ed Harcourt und bestimmt auch das Publikum noch ein Wörtchen mitzureden haben.
URL:https://www.stanzerei-baden.ch/kultur/voices-from-our-partner-im-crime-mordslieder
CATEGORIES:ENDLICH MITTWOCH!,Voices from ...
ATTACH;FMTTYPE=image/jpeg:https://www.stanzerei-baden.ch/wp-content/uploads/2024/07/Voices-from-our-partners-in-crime-online-3_2.jpg
ORGANIZER;CN="ENDLICH MITTWOCH!":MAILTO:endlichmittwoch@stanzerei-baden.ch
END:VEVENT
BEGIN:VEVENT
DTSTART;TZID=Europe/Zurich:20241125T183000
DTEND;TZID=Europe/Zurich:20241125T183000
DTSTAMP:20260422T203824
CREATED:20240927T144708Z
LAST-MODIFIED:20241007T072703Z
UID:10000964-1732559400-1732559400@www.stanzerei-baden.ch
SUMMARY:IG ENGELSHAAR PRÄSENTIERT: 17 Jahr\, Engelshaar - Die Jubiläum-Weihnachtsshow
DESCRIPTION:  \nMontag\, 25.11.2024 / Dienstag\, 26.11.2024 \n  \n18.30 Nachtessen / Barbetrieb \n20.00 Jubiläum-Weihnachtsshow \n21.30 Dessert / Barbetrieb \nmit Barbara Terpoorten\, Christoph Simon\, Urs Augstburger\, Sven Furrer\, Anja Kofmel\, Monika Schärer\,  Pascal Dussex und HP Stamm \n  \nDas Faro-Catering sorgt wieder für die kulinarische Rundumbetreuung\, vom Appetizer-Plättli über die vegetarischen und nicht vegetarischen Hauptgänge bis hin zum Dessert. \n  \nDie Weihnachtsshow der legendären IG-Engelshaar feiert Jubiläum. «17 Jahr\, Engelshaar» heisst das Programm frei nach Udo Jürgens\, denn der Truppe um Schriftsteller Urs Augstburger droht die unmittelbare Volljährigkeit. Da muss das Fest noch gefeiert werden\, wie es eben fällt\, zum letzten Mal ohne Angst vor juristischen Konsequenzen. Der Geburtstag ist etwas unrund\, aber wer will den schon auswuchten\, wenn Christoph Simon\, Schweizer Meister in der Slampoetry und Träger des Salzburger Stiers\, mit neuen Texten droht. Wenn Schauspielerin Barbara Terpoorten (Der Bestatter)\, Stimmkünstlerin Monika Schärer und Comedian Sven Furrer dialektfest Augstburgers skurrile Weihnachtsgeschichte zum Leben erwecken\, ganz ohne KI diesmal. Und wenn sich Musikkabarettist Pascal Dussex (Les trois suisses) mit Simon und Bläsermeister HP Stamm Evergreens annimmt\, die man so noch nie gehört hat. Während Livezeichnerin Anja Kofmel sich und die Bühnengeschichten auf der Leinwand mit jedem Pinselstrich neu erfindet. Jubiläumsgäste aus der reichen Geschichte der Engelshaarigen sind zudem zu befürchten. \n 
URL:https://www.stanzerei-baden.ch/kultur/ig-engelshaar-praesentiert-17-jahr-engelshaar-die-jubilaeum-weihnachtsshow
CATEGORIES:Kultur,Theater
ATTACH;FMTTYPE=image/jpeg:https://www.stanzerei-baden.ch/wp-content/uploads/2024/09/IG_Engelshaar_Jubilaeum_Weihnachtsshow_2025-e1727448684678.jpg
END:VEVENT
BEGIN:VEVENT
DTSTART;TZID=Europe/Zurich:20241126T183000
DTEND;TZID=Europe/Zurich:20241126T183000
DTSTAMP:20260422T203824
CREATED:20240927T144856Z
LAST-MODIFIED:20241007T072552Z
UID:10000965-1732645800-1732645800@www.stanzerei-baden.ch
SUMMARY:IG ENGELSHAAR PRÄSENTIERT: 17 Jahr\, Engelshaar - Die Jubiläum-Weihnachtsshow
DESCRIPTION:  \nMontag\, 25.11.2024 / Dienstag\, 26.11.2024 \n  \n18.30 Nachtessen / Barbetrieb \n20.00 Jubiläum-Weihnachtsshow \n21.30 Dessert / Barbetrieb \nmit Barbara Terpoorten\, Christoph Simon\, Urs Augstburger\, Sven Furrer\, Anja Kofmel\, Monika Schärer\,  Pascal Dussex und HP Stamm \n  \nDas Faro-Catering sorgt wieder für die kulinarische Rundumbetreuung\, vom Appetizer-Plättli über die vegetarischen und nicht vegetarischen Hauptgänge bis hin zum Dessert. \n  \nDie Weihnachtsshow der legendären IG-Engelshaar feiert Jubiläum. «17 Jahr\, Engelshaar» heisst das Programm frei nach Udo Jürgens\, denn der Truppe um Schriftsteller Urs Augstburger droht die unmittelbare Volljährigkeit. Da muss das Fest noch gefeiert werden\, wie es eben fällt\, zum letzten Mal ohne Angst vor juristischen Konsequenzen. Der Geburtstag ist etwas unrund\, aber wer will den schon auswuchten\, wenn Christoph Simon\, Schweizer Meister in der Slampoetry und Träger des Salzburger Stiers\, mit neuen Texten droht. Wenn Schauspielerin Barbara Terpoorten (Der Bestatter)\, Stimmkünstlerin Monika Schärer und Comedian Sven Furrer dialektfest Augstburgers skurrile Weihnachtsgeschichte zum Leben erwecken\, ganz ohne KI diesmal. Und wenn sich Musikkabarettist Pascal Dussex (Les trois suisses) mit Simon und Bläsermeister HP Stamm Evergreens annimmt\, die man so noch nie gehört hat. Während Livezeichnerin Anja Kofmel sich und die Bühnengeschichten auf der Leinwand mit jedem Pinselstrich neu erfindet. Jubiläumsgäste aus der reichen Geschichte der Engelshaarigen sind zudem zu befürchten. \n 
URL:https://www.stanzerei-baden.ch/kultur/ig-engelshaar-praesentiert-17-jahr-engelshaar-die-jubilaeum-weihnachtsshow-2
CATEGORIES:Kultur,Theater
ATTACH;FMTTYPE=image/jpeg:https://www.stanzerei-baden.ch/wp-content/uploads/2024/09/IG_Engelshaar_Jubilaeum_Weihnachtsshow_2025-e1727448684678.jpg
END:VEVENT
BEGIN:VEVENT
DTSTART;TZID=Europe/Zurich:20241127T201500
DTEND;TZID=Europe/Zurich:20241127T201500
DTSTAMP:20260422T203824
CREATED:20240711T201900Z
LAST-MODIFIED:20240829T134459Z
UID:10000940-1732738500-1732738500@www.stanzerei-baden.ch
SUMMARY:geORges – AUS DEM PÜNKTCHEN IST EIN GOLDSTÜCK GEWORDEN
DESCRIPTION:geORges – AUS DEM PÜNKTCHEN IST EIN GOLDSTÜCK GEWORDEN \nDas junge\, verliebte Mädchen im Pünktchenkleid\, sehnsüchtig auf den Anruf ihres Liebsten Giorgio wartend\, hat sich zu einer mitten im Leben stehenden Frau entwickelt. Ein Spiel mit verschiedenen Frauenrollen jener Zeit\, und einmal mehr geht es um die Liebe in allen Facetten. Das Dienstmädchen in ihrer Liebe zum Gärtner\, die Amours fous einer mondänen Pariserin\, die konsumfreudige Grande Dame – oder einfaches Nachsinnen über die Liebe\, wunderbar vertont in den Liedern von Paul Burkhar \nEin Liederabend mit dezenter Regie.\nNoëmi Sohn\, Gesang\nRahel Sohn\, Klavier\nTrix Lehr\, Regie \nnoemisohn.ch\nrahelsohn.ch
URL:https://www.stanzerei-baden.ch/kultur/georges-aus-dem-puenktchen-ist-ein-goldstueck-geworden
CATEGORIES:ENDLICH MITTWOCH!,KLASSIKHALT
ATTACH;FMTTYPE=image/jpeg:https://www.stanzerei-baden.ch/wp-content/uploads/2024/07/241127_Georges.jpg
ORGANIZER;CN="ENDLICH MITTWOCH!":MAILTO:endlichmittwoch@stanzerei-baden.ch
END:VEVENT
END:VCALENDAR