BEGIN:VCALENDAR
VERSION:2.0
PRODID:-//Aktionshalle Stanzerei - ECPv6.15.20//NONSGML v1.0//EN
CALSCALE:GREGORIAN
METHOD:PUBLISH
X-WR-CALNAME:Aktionshalle Stanzerei
X-ORIGINAL-URL:https://www.stanzerei-baden.ch
X-WR-CALDESC:Veranstaltungen für Aktionshalle Stanzerei
REFRESH-INTERVAL;VALUE=DURATION:PT1H
X-Robots-Tag:noindex
X-PUBLISHED-TTL:PT1H
BEGIN:VTIMEZONE
TZID:Europe/Zurich
BEGIN:DAYLIGHT
TZOFFSETFROM:+0100
TZOFFSETTO:+0200
TZNAME:CEST
DTSTART:20230326T010000
END:DAYLIGHT
BEGIN:STANDARD
TZOFFSETFROM:+0200
TZOFFSETTO:+0100
TZNAME:CET
DTSTART:20231029T010000
END:STANDARD
BEGIN:DAYLIGHT
TZOFFSETFROM:+0100
TZOFFSETTO:+0200
TZNAME:CEST
DTSTART:20240331T010000
END:DAYLIGHT
BEGIN:STANDARD
TZOFFSETFROM:+0200
TZOFFSETTO:+0100
TZNAME:CET
DTSTART:20241027T010000
END:STANDARD
BEGIN:DAYLIGHT
TZOFFSETFROM:+0100
TZOFFSETTO:+0200
TZNAME:CEST
DTSTART:20250330T010000
END:DAYLIGHT
BEGIN:STANDARD
TZOFFSETFROM:+0200
TZOFFSETTO:+0100
TZNAME:CET
DTSTART:20251026T010000
END:STANDARD
END:VTIMEZONE
BEGIN:VEVENT
DTSTART;TZID=Europe/Zurich:20241204T201500
DTEND;TZID=Europe/Zurich:20241204T201500
DTSTAMP:20260422T185836
CREATED:20240711T202954Z
LAST-MODIFIED:20240829T134603Z
UID:10000941-1733343300-1733343300@www.stanzerei-baden.ch
SUMMARY:DOPPEL3
DESCRIPTION:Doppel3 – Jazz & Literatur \nEin improvisierendes Jazz-Trio lädt ein Autoren-Trio ein zum gemeinsamen Konzert. Claude Meier (Bass)\, Marco Käppeli (Schlagzeug) und Ruedi Häusermann (Bassklarinette\, Flöten) sind eine eingespielte Formation\, welche immer mal wieder Gäste zu sich auf die Bühne holt. Diesmal sind es gleich deren drei. Die Autoren Beat Sterchi\, Pedro Lenz und Guy Krneta haben vor zwanzig Jahren das Spoken-Word-Ensemble «Bern ist überall» aus der Taufe gehoben und zu dritt an Ruedi Häusermanns Lenzburger Produktion «Ängelrain» mitgewirkt. Im Doppel3 begegnen sich Text und Musik\, sie lösen sich gegenseitig ab\, laden sich auf\, wirken aufeinander ein\, überlappen\, überlagern sich und bilden eine eigene Welt: Schräg und erhellend\, ungewohnt und unterhaltsam. Baden raunt sich im Versteckten zu: «Könnte ev. gut werden!».
URL:https://www.stanzerei-baden.ch/kultur/doppel3
CATEGORIES:ENDLICH MITTWOCH!,KLASSIKHALT
ATTACH;FMTTYPE=image/jpeg:https://www.stanzerei-baden.ch/wp-content/uploads/2024/07/241204_Doppel3-Collage-.jpg
ORGANIZER;CN="ENDLICH MITTWOCH!":MAILTO:endlichmittwoch@stanzerei-baden.ch
END:VEVENT
BEGIN:VEVENT
DTSTART;TZID=Europe/Zurich:20241211T201500
DTEND;TZID=Europe/Zurich:20241211T201500
DTSTAMP:20260422T185836
CREATED:20240711T204221Z
LAST-MODIFIED:20241210T134241Z
UID:10000944-1733948100-1733948100@www.stanzerei-baden.ch
SUMMARY:DIE BIENEN DES UNSICHTBAREN
DESCRIPTION:DIE AUFFÜHRUNG WIRD BEDAURLICHERWEISE AUFGRUND VON KRANKHEIT ABGESAGT \nDIE BIENEN DES UNSICHTBAREN \nWir sehnen uns na nach Ruhe\, aber wir ertragen sie nicht. Also gehen wir radikal: zu Fuss. Mehr Selbstbestimmtheit geht nicht. Plötzlich sind wir nicht mehr permanent verfügbar\, die unzähligen digitalen Universen lassen wir im Gehen an uns vorbeiziehen. Und wir bemerken es kaum\, aber eigentlich fallen wir dabei. Mit jedem Schritt fallen wir leicht nach vorne. Und fangen uns wieder auf. Fallen und Fangen\, ein Leben lang. Wie finden wir unser eigenes Tempo? Wollen wir das bequeme – oder lieber das herausfordernde\, das uns ins vertraute Ungewisse führt? \n«Warum ich heute hier bin? Ich mag den Weg des geringsten Widerstands. Er ist heiss. Und ich mag Menschen\, die sich ohne Umwege versammeln: Alles begann mit W. W fragte S \, und sie sagte: Ja\, dann hat sie den C umarmt. W schaute zu A\, A rief Interessant! und den Jan. Da \, die Helle\, sagte zu\, weil sie W und S schon kannte – Do \, weil sie S und C vertraute. E ging sowieso ein Licht auf. Und B kam wegen W. Achtung Moral! Achtet auf die Zeichen: Da war mehr als ein Stein in dieser Geschichte. Dauerte sie zwanzig Jahre oder zwei? Vermutlich beides. Und unterwegs waren da plötzlich Brücken. Die mag ich auch: Sie erleichtern so ungemein\, wo man als Nächstes hingeht…»\nStina Durrer \nEnsemble\nStina Durrer\nChristian Brantschen\nWerner Bodinek\nPiano & Komposition Christian Brantschen\nRegie Johannes Voges\nDramaturgie Anouk Gyssler\nAusstattung Benjamin Burgunder\nLicht Edith Szabò\nProduktionsleitung Daniela Eggs \nInspiration\, die Berge versetzt Dora Baumann
URL:https://www.stanzerei-baden.ch/kultur/die-bienen-des-unsichtbaren
CATEGORIES:ENDLICH MITTWOCH!,SCHEREREIEN
ATTACH;FMTTYPE=image/jpeg:https://www.stanzerei-baden.ch/wp-content/uploads/2024/07/241211_Die-Bienen-des-Unsichtbaren.jpg
ORGANIZER;CN="ENDLICH MITTWOCH!":MAILTO:endlichmittwoch@stanzerei-baden.ch
END:VEVENT
BEGIN:VEVENT
DTSTART;TZID=Europe/Zurich:20241212T201500
DTEND;TZID=Europe/Zurich:20241212T201500
DTSTAMP:20260422T185836
CREATED:20240711T204542Z
LAST-MODIFIED:20241210T134311Z
UID:10000945-1734034500-1734034500@www.stanzerei-baden.ch
SUMMARY:DIE BIENEN DES UNSICHTBAREN
DESCRIPTION:DIE AUFFÜHRUNG WIRD BEDAURLICHERWEISE AUFGRUND VON KRANKHEIT ABGESAGT \n 
URL:https://www.stanzerei-baden.ch/kultur/die-bienen-des-unsichtbaren-2
CATEGORIES:ENDLICH MITTWOCH!,SCHEREREIEN
ATTACH;FMTTYPE=image/jpeg:https://www.stanzerei-baden.ch/wp-content/uploads/2024/07/FLB_20240212_020_LowRes-e1733415964590.jpg
ORGANIZER;CN="ENDLICH MITTWOCH!":MAILTO:endlichmittwoch@stanzerei-baden.ch
END:VEVENT
BEGIN:VEVENT
DTSTART;TZID=Europe/Zurich:20241218T201500
DTEND;TZID=Europe/Zurich:20241218T201500
DTSTAMP:20260422T185836
CREATED:20240711T203405Z
LAST-MODIFIED:20241213T092611Z
UID:10000942-1734552900-1734552900@www.stanzerei-baden.ch
SUMMARY:MAX LÄSSER & DAS ÜBERLANDSORCHESTER
DESCRIPTION:AUSVERKAUFT – RESTKARTEN AN DER ABENDKASSE \nLüpfige Ländler\, stampfende Polkas und viel Platz für musikalische Ausflüge: Der Schweizer Gitarrist Max Lässer und das kleine Überlandorchester fahren wieder „Überland“ und widmen sich der Musik des Alpenraumes: eng und weit\, knorzig und luftig – ganz wie die Landschaft\, in der sie entsteht. Bereichert vom Schwyzerörgeli-Spieler Markus Flückiger\, entsteht hier eine unerhörte Art von Schweizer Tanzmusik. \nMit dem Überlandorchester ist für Lässer ein Traum wahr geworden: „Ich wollte schon immer mit Musikern in einer Langzeitband spielen. Wir sind mittlerweile so gut aufeinander eingespielt\, dass jeder genau weiß\, was der andere will. Wir können vier bis fünf Stunden an einem Abend spielen und unser Programm in jedem Konzert variieren. Es entsteht ein Flow\, wie das manchmal bei englischen oder amerikanischen Bands geschieht\, die jeden Abend auftreten.“ Neben Max Lässer spielen in der Standardformation des Kleinen Überlandorchesters Markus Flückiger\, der aktuell wohl einflussreichste und innovativste Spieler auf dem Schwyzerörgeli (diatonischen Akkordeon)\, Patrick Sommer am Kontrabass. \nWer das Überlandorchester live erlebt\, spürt sie\, diese Magie\, die auf der Bühne entsteht. Schon bei einer einfachen Polka hört man: Da sitzen Männer auf der Bühne\, die ihren musikalischen Horizont weit geöffnet halten. Markus Flückiger entlockt seinem Akkordeon höchst ungewöhnliche Klänge. Seine Eigenkompositionen verströmen eine faszinierende Mischung aus Melancholie und Virtuosität. Wo liegt die Wiege der Schweizer Volksmusik – in Osteuropa\, Finnland\, Argentinien oder doch eher im Muotathal? Und wenn Max Lässer mit seinen Gitarren\, Mandolinen und der Weissenborn Lap Slide auch noch karibische und südafrikanische Ingredienzen beimischt\, wird klar: Hier geht es nicht nur um eine Spurenfindung und Erweiterung der musikalischen Sprache der Schweizer Volksmusik. Hier sind Künstler unterwegs\, die ihre eigene alpine Musik schaffen. \nMax Lässer Gitarren\, Lap Steel\, Mandoline\nMarkus Flückiger Schwyzer Örgeli\nPatrick Sommer Bass\nMarcel Lüscher Clarinette\nKaspar Rast Drums
URL:https://www.stanzerei-baden.ch/kultur/max-laesser-das-ueberlandsorchester
CATEGORIES:DRINWIEFERN,ENDLICH MITTWOCH!
ATTACH;FMTTYPE=image/jpeg:https://www.stanzerei-baden.ch/wp-content/uploads/2024/07/241218_maxlaesser_ueberlandorchester.jpg
ORGANIZER;CN="ENDLICH MITTWOCH!":MAILTO:endlichmittwoch@stanzerei-baden.ch
END:VEVENT
END:VCALENDAR