BEGIN:VCALENDAR
VERSION:2.0
PRODID:-//Aktionshalle Stanzerei - ECPv6.15.20//NONSGML v1.0//EN
CALSCALE:GREGORIAN
METHOD:PUBLISH
X-WR-CALNAME:Aktionshalle Stanzerei
X-ORIGINAL-URL:https://www.stanzerei-baden.ch
X-WR-CALDESC:Veranstaltungen für Aktionshalle Stanzerei
REFRESH-INTERVAL;VALUE=DURATION:PT1H
X-Robots-Tag:noindex
X-PUBLISHED-TTL:PT1H
BEGIN:VTIMEZONE
TZID:Europe/Zurich
BEGIN:DAYLIGHT
TZOFFSETFROM:+0100
TZOFFSETTO:+0200
TZNAME:CEST
DTSTART:20240331T010000
END:DAYLIGHT
BEGIN:STANDARD
TZOFFSETFROM:+0200
TZOFFSETTO:+0100
TZNAME:CET
DTSTART:20241027T010000
END:STANDARD
BEGIN:DAYLIGHT
TZOFFSETFROM:+0100
TZOFFSETTO:+0200
TZNAME:CEST
DTSTART:20250330T010000
END:DAYLIGHT
BEGIN:STANDARD
TZOFFSETFROM:+0200
TZOFFSETTO:+0100
TZNAME:CET
DTSTART:20251026T010000
END:STANDARD
BEGIN:DAYLIGHT
TZOFFSETFROM:+0100
TZOFFSETTO:+0200
TZNAME:CEST
DTSTART:20260329T010000
END:DAYLIGHT
BEGIN:STANDARD
TZOFFSETFROM:+0200
TZOFFSETTO:+0100
TZNAME:CET
DTSTART:20261025T010000
END:STANDARD
END:VTIMEZONE
BEGIN:VEVENT
DTSTART;TZID=Europe/Zurich:20250108T201500
DTEND;TZID=Europe/Zurich:20250108T201500
DTSTAMP:20260422T171104
CREATED:20240713T085142Z
LAST-MODIFIED:20250108T115129Z
UID:10000943-1736367300-1736367300@www.stanzerei-baden.ch
SUMMARY:SORAS – CORIN CURSCHELLAS QUINTETT
DESCRIPTION:Wir bedauern\, so kurzfristig mitteilen zu müssen\, dass das Konzert von SORAS heute Abend aufgrund von schwerer Krankheit einer der beteiligten Künstlerinnen nicht stattfinden kann und daher verschoben werden muss. Wir freuen uns darauf\, das Programm am 26.3.25 gemeinsam in der Stanzerei geniessen zu dürfen. Bereits verkauften Tickets sind nach wie vor für das neue Datum gültig. Wir danken für Ihr Verständnis und stehen Ihnen für Fragen gerne zur Verfügung. \n  \nDas starke Frauen-Quintett mit romanischen & rumänischen Liedern \nSORAS macht sich jede Vorlage zu eigen. Mit Hingabe\, höchster Musikalität und herzlicher Offenheit\nverbinden die fünf Musikerinnen Tradition und aktuelle Weltmusik. Der freie Umgang zu\nTraditionellem spiegelt sich auch in ihren Eigenkompositionen wider. \nCorin Curschellas\, die romanische und Irina Ungureanu\, die rumänische Sängerin\, sind beide grosse\nStimmen ihrer Volksliedtradition und bekannt für ihre unverwechselbare eigene Handhabung mit dem musikalischen Vermächtnis. Die Herkunft von Rumänisch und Romanisch basiert auf Latein\, doch so nahe die sprachliche Verwandtschaft ist\, so unterschiedlich erklingen die Lieder. \nBeide Künstlerinnen sind seit der ersten musikalischen Begegnung wechselseitig fasziniert und überrascht von den erstaunlichen sprachlichen Similaritäten und den frappanten Unterschieden des\ntraditionellen Liedgutes der RumänInnen und RomanInnen. \nGemeinsam mit Akkordeonistin Patricia Draeger\, Geigerin Andrea Kirchhofer\, sowie Cellistin Barbara Gisler suchen die fünf\, in der Szene bestens bekannten und vernetzten Musikerinnen\, nach einer neuen\, eigenwilligen und besonderen «Legierung» der beiden Liedtraditionen und loten in den\nArrangements sämtliche Möglichkeiten aus. \nEine wahre Trouvaille! \nCorin Curschellas: voc\, dulcimer\, perc.\nIrina Ungureanu: voc\, geige\, guit.\nPatricia Draeger: accordeon\nAndrea Kirchhofer: geige\nBarbara Gisler: cello
URL:https://www.stanzerei-baden.ch/kultur/soras-corin-curschellas-quintett
CATEGORIES:DRINWIEFERN,ENDLICH MITTWOCH!
ATTACH;FMTTYPE=image/jpeg:https://www.stanzerei-baden.ch/wp-content/uploads/2024/07/250108_Soras-Foto-1.jpeg
ORGANIZER;CN="ENDLICH MITTWOCH!":MAILTO:endlichmittwoch@stanzerei-baden.ch
END:VEVENT
BEGIN:VEVENT
DTSTART;TZID=Europe/Zurich:20250115T201500
DTEND;TZID=Europe/Zurich:20250115T201500
DTSTAMP:20260422T171104
CREATED:20240812T093927Z
LAST-MODIFIED:20250109T211139Z
UID:10000956-1736972100-1736972100@www.stanzerei-baden.ch
SUMMARY:GUNTA ABELE - ALONE
DESCRIPTION:Thomas Demenga „Efeu“ für Violoncello solo 2010\nJohann Sebastian Bach Suite Nr 4 BWV 1010 für Violoncello solo\nGiovanni Sollima „Alone“ für Violoncello solo 1994\nPablo Casals (1876-1973) Das Lied der Vögel \nDieses Programm ist gewidmet grossartigen Solo-Werken für Cello aus dem 17.\, 20. und 21. Jahrhundert. Im Mittelpunkt des Programms steht die monumentale Suite in Es-Dur von Johann Sebastian Bach\, die eine bedeutende Inspiration für zahlreiche weitere Solo Werke in der Geschichte der Cellomusik ist.\nZudem ist „Efeu“ von Thomas Demenga ein herausragendes Beispiel für moderne Cellokunst. Demenga\, ein virtuoser Cellist und Komponist\, erschafft in „Efeu“ eine faszinierende Klangwelt\, die sowohl technische Raffinesse als auch emotionale Tiefe erfordert.\nGiovanni Sollima ist bekannt für seine innovative Spielart und seine Fähigkeit\, traditionelle und zeitgenössische Stile miteinander zu verbinden. Sein Werk „Alone“ fordert den Interpreten heraus\, die Grenzen des Instruments zu erkunden und einen persönlichen Ausdruck zu finden.
URL:https://www.stanzerei-baden.ch/kultur/gunta-abele-alone
CATEGORIES:ENDLICH MITTWOCH!,KLASSIKHALT
ATTACH;FMTTYPE=image/jpeg:https://www.stanzerei-baden.ch/wp-content/uploads/2024/08/250115_Gunta-Abele-Alone.jpg
ORGANIZER;CN="ENDLICH MITTWOCH!":MAILTO:endlichmittwoch@stanzerei-baden.ch
END:VEVENT
BEGIN:VEVENT
DTSTART;TZID=Europe/Zurich:20250118T193000
DTEND;TZID=Europe/Zurich:20250118T193000
DTSTAMP:20260422T171104
CREATED:20241216T120247Z
LAST-MODIFIED:20241216T122628Z
UID:10000971-1737228600-1737228600@www.stanzerei-baden.ch
SUMMARY:RC Wettingen & RC Wettingen-Heitersberg präsentieren: 14. Midlife Party
DESCRIPTION:Tanzen für den guten Zweck! Auch die diesjährige Ausgabe der Midlife-Party der Rotary-Clubs Wettingen und Wettingen-Heitersberg in der Stanzerei  wartet mit musikalischen Highlights auf: Wir freuen uns auf azTon und Monika Schär sowie die DJ’s DANtheMAN und LOSTandFOUND. \n  \nDer Reinerlös der Midlife-Party 2025 geht zugunsten ROKJ\, 143 die dargebotene Hand und mine-ex: \nROKJ unterstützt die Integration von sozial oder wirtschaftlich benachteiligten Kindern und Jugendlichen und sorgt für mehr Chancengleichheit. \nTel 143 – Die Dargebotene Hand steht Menschen in schwieriger Lebenslage mittels Telefonseelsorge bei. \nMine-ex unterstützt den weltweiten Kampf für ein allgemeines Minenverbot durch Öffentlichkeitsarbeit und finanziert Prothesen für Minenopfer und in die Ausbildung von einheimischen Prothesenherstellern. \n  \nMusik: \n20.30h  Konzert aZton mit Monika Schär www.azton.ch\n23.00h  DJ DANtheMAN & DJ LOSTandFOUND \n  \n     \n  \nDer Event ist bargeldlos. \n  \nTickets sind unter Eventfrog erhältlich oder im Vorverkauf in Wettingen: \nTEXMEX \nSANIDUSCH \nVINI SACRIPANTI \nPARACELSUS Apotheke \n  \n  \n 
URL:https://www.stanzerei-baden.ch/kultur/rc-wettingen-rc-wettingen-heitersberg-praesentieren-14-midlife-party
CATEGORIES:Benefizanlass,Disco,Kultur
ATTACH;FMTTYPE=image/jpeg:https://www.stanzerei-baden.ch/wp-content/uploads/2024/12/Midlifeparty_18.01.2025_v2-e1734351646532.jpg
END:VEVENT
BEGIN:VEVENT
DTSTART;TZID=Europe/Zurich:20250122T201500
DTEND;TZID=Europe/Zurich:20250122T201500
DTSTAMP:20260422T171104
CREATED:20240713T085726Z
LAST-MODIFIED:20241129T114308Z
UID:10000946-1737576900-1737576900@www.stanzerei-baden.ch
SUMMARY:SONGCIRCLE
DESCRIPTION:Hendrix Ackle und Adrian Stern zusammen mit Helen Maier und Nicole Johänntgen philosophieren und musizieren im Kreis. Im Zentrum stehen für einmal nicht die eigenen Songs\, sondern die persönlichen Lieblingssongs. Legendär – einzigartig – pur und unplugged. \nAm Songcircle dreht sich alles um Musik als lebensbegleitendes Element: Sei es der Song\, der einen zum Musikmachen bewegt hat\, der Song\, der einen die erste grosse Liebe nicht vergessen lässt\, der uncoolste Song\, zu dem man hinter gezogenen Vorhängen durchs Wohnzimmer tanzt\, der beste Song aller Zeiten\, den leider niemand kennt\, Songtrouvaillen aus Reisen in andere Länder oder auch einfach nur die aktuelle Nummer 1 der Hitparade\, der man beim besten Willen nicht entfliehen kann. All das steht im Zentrum vom Songcircle und nimmt Sie mit auf eine einzigartige Reise. \nEntdecken Sie neue Musik\, geniessen Sie den Einblick in die private Plattensammlung und den ganz persönlichen Musikgeschmack der Gäste\, lauschen Sie spannenden Geschichten und spontanen Gesprächen von Musikern unter sich und hören Sie\, wie sie sich ihre liebsten Songs gegenseitig vorspielen\, pur und unplugged. \n  \n  \nAlle bisherigen Gäste und Setlisten: www.songcircle.ch\nwww.hendrixackle.com\nwww.adrianstern.ch
URL:https://www.stanzerei-baden.ch/kultur/songcircle250129
CATEGORIES:ENDLICH MITTWOCH!,SONGCIRCLE
ATTACH;FMTTYPE=image/jpeg:https://www.stanzerei-baden.ch/wp-content/uploads/2024/07/SONGCIRCLE-1.jpg
ORGANIZER;CN="ENDLICH MITTWOCH!":MAILTO:endlichmittwoch@stanzerei-baden.ch
END:VEVENT
BEGIN:VEVENT
DTSTART;TZID=Europe/Zurich:20250128T201500
DTEND;TZID=Europe/Zurich:20250128T201500
DTSTAMP:20260422T171104
CREATED:20241209T153738Z
LAST-MODIFIED:20241209T153808Z
UID:10000970-1738095300-1738095300@www.stanzerei-baden.ch
SUMMARY:DIE ZOOGESCHICHTE - VORPREMIERE
DESCRIPTION:Am Abend vor der offiziellen Premiere führt das Ensemble eine einmalige Vorstellung für junges Publikum auf. Jugendliche bis 25 Jahre sind herzlich eingeladen\, die Vorpremiere mitzuerleben. Anschliessend findet eine Diskussion mit den Künstler:innen statt. Beschränkte Anzahl von Plätzen. Anmeldungen bitte an: endlichmittwoch@stanzerei-baden.ch \nDIE ZOOGESCHICHTE von Edward Albee – VORPREMIERE \nPeter\, ein gut situierter Verlagsangestellter\, liest sein Buch auf einer Bank im Park. Ein Fremder kommt und spricht ihn an. Sein Leben wird sich für immer verändern. Die Geschichte von einem Hund\, von einer Hausmeisterin\, von Ehre und Territorium. Die wilde und zugleich sensible Dramatik des dreimal mit dem Pulitzer-Preis gekrönten Edward Albee wägt gekonnt zwischen Drama und Komödie\, Naturalismus und Surrealismus ab und mischt scharfen Humor mit allegorischen Bildern. \n65 Jahre nach der Uraufführung des Stücks in Berlin\, wird „Die Zoogeschichte“ vom Regisseur Antonis Michalopoulos neu inszeniert. Die kraftvolle und lebhafte Übersetzung von dem renommierten Schweizer Pinkas Braun wird durch visuelle Projektionen (Silja Dietiker) und Field Recordings (Dimos Vryzas) in einer traumhaften Szenerie (Elli Moustaka) verstärkt. Dialektspiele und absurde Ausdrucksformen spiegeln die zeitlose Kraft der Menschen\, sich gegenseitig misszuverstehen und werfen ein eindringliches Licht auf die unerbittliche Einsamkeit und verdrängte Poesie des modernen Lebens. Mit Romeo Meyer und Timos Papadopoulos. \nAutor – Edward Albee\nÜbersetzung – Pinkas Braun\nRegie – Antonis Michalopoulos\nSchauspieler – Romeo Meyer\, Timos Papadopoulos\nMusik/Soundesign – Dimos Vryzas\nKostüme/Bühnenbild – Elli Moustaka\nVideo Projektionen – Silja Dietiker\nProduktionsleitung/Konzeption – Flavia Kistler \nPressefotos – Stefan Schmidlin \nProduktion – PLOŨS\nKooperationspartner – Stanzerei Baden\, ENDLICH MITTWOCH!\, Sternensaal Wohlen\, Theater Bau3\, Roxy Birsfelden\, Zoo Basel \nwww.plous.ch \n 
URL:https://www.stanzerei-baden.ch/kultur/die-zoogeschichte-vorpremiere
CATEGORIES:ENDLICH MITTWOCH!,SCHEREREIEN
ATTACH;FMTTYPE=image/jpeg:https://www.stanzerei-baden.ch/wp-content/uploads/2024/10/Zoogeschichte-Presse-9_web.jpg
ORGANIZER;CN="ENDLICH MITTWOCH!":MAILTO:endlichmittwoch@stanzerei-baden.ch
END:VEVENT
BEGIN:VEVENT
DTSTART;TZID=Europe/Zurich:20250129T201500
DTEND;TZID=Europe/Zurich:20250129T201500
DTSTAMP:20260422T171104
CREATED:20241004T114701Z
LAST-MODIFIED:20250125T191907Z
UID:10000966-1738181700-1738181700@www.stanzerei-baden.ch
SUMMARY:DIE ZOOGESCHICHTE - PREMIERE
DESCRIPTION:AUSERKAUFT – FREIE PLÄTZE FÜR DIE VORSTELLUNG AM DO\, 30.01.25 \nDIE ZOOGESCHICHTE von Edward Albee \nPeter\, ein gut situierter Verlagsangestellter\, liest sein Buch auf einer Bank im Park. Ein Fremder kommt und spricht ihn an. Sein Leben wird sich für immer verändern. Die Geschichte von einem Hund\, von einer Hausmeisterin\, von Ehre und Territorium. Die wilde und zugleich sensible Dramatik des dreimal mit dem Pulitzer-Preis gekrönten Edward Albee wägt gekonnt zwischen Drama und Komödie\, Naturalismus und Surrealismus ab und mischt scharfen Humor mit allegorischen Bildern. \n65 Jahre nach der Uraufführung des Stücks in Berlin\, wird „Die Zoogeschichte“ vom Regisseur Antonis Michalopoulos neu inszeniert. Die kraftvolle und lebhafte Übersetzung von dem renommierten Schweizer Pinkas Braun wird durch visuelle Projektionen (Silja Dietiker) und Field Recordings (Dimos Vryzas) in einer traumhaften Szenerie (Elli Moustaka) verstärkt. Dialektspiele und absurde Ausdrucksformen spiegeln die zeitlose Kraft der Menschen\, sich gegenseitig misszuverstehen und werfen ein eindringliches Licht auf die unerbittliche Einsamkeit und verdrängte Poesie des modernen Lebens. Mit Romeo Meyer und Timos Papadopoulos. \nAutor – Edward Albee\nÜbersetzung – Pinkas Braun\nRegie – Antonis Michalopoulos\nSchauspieler – Romeo Meyer\, Timos Papadopoulos\nMusik/Soundesign – Dimos Vryzas\nKostüme/Bühnenbild – Elli Moustaka\nVideo Projektionen – Silja Dietiker\nProduktionsleitung/Konzeption – Flavia Kistler \nPressefotos – Stefan Schmidlin \nProduktion – PLOŨS\nKooperationspartner – Stanzerei Baden\, ENDLICH MITTWOCH!\, Sternensaal Wohlen\, Roxy Birsfelden\, Theater Bau3\, Zoo Basel \nwww.plous.ch \n 
URL:https://www.stanzerei-baden.ch/kultur/die-zoogeschichte
CATEGORIES:ENDLICH MITTWOCH!,SCHEREREIEN
ATTACH;FMTTYPE=image/png:https://www.stanzerei-baden.ch/wp-content/uploads/2024/10/Zoogeschichte-Presse-1_web.png
ORGANIZER;CN="ENDLICH MITTWOCH!":MAILTO:endlichmittwoch@stanzerei-baden.ch
END:VEVENT
BEGIN:VEVENT
DTSTART;TZID=Europe/Zurich:20250130T201500
DTEND;TZID=Europe/Zurich:20250130T201500
DTSTAMP:20260422T171104
CREATED:20241004T120545Z
LAST-MODIFIED:20241104T132507Z
UID:10000967-1738268100-1738268100@www.stanzerei-baden.ch
SUMMARY:DIE ZOOGESCHICHTE
DESCRIPTION:DIE ZOOGESCHICHTE von Edward Albee \nPeter\, ein gut situierter Verlagsangestellter\, liest sein Buch auf einer Bank im Park. Ein Fremder kommt und spricht ihn an. Sein Leben wird sich für immer verändern. Die Geschichte von einem Hund\, von einer Hausmeisterin\, von Ehre und Territorium. Die wilde und zugleich sensible Dramatik des dreimal mit dem Pulitzer-Preis gekrönten Edward Albee wägt gekonnt zwischen Drama und Komödie\, Naturalismus und Surrealismus ab und mischt scharfen Humor mit allegorischen Bildern. \n65 Jahre nach der Uraufführung des Stücks in Berlin\, wird „Die Zoogeschichte“ vom Regisseur Antonis Michalopoulos neu inszeniert. Die kraftvolle und lebhafte Übersetzung von dem renommierten Schweizer Pinkas Braun wird durch visuelle Projektionen (Silja Dietiker) und Field Recordings (Dimos Vryzas) in einer traumhaften Szenerie (Elli Moustaka) verstärkt. Dialektspiele und absurde Ausdrucksformen spiegeln die zeitlose Kraft der Menschen\, sich gegenseitig misszuverstehen und werfen ein eindringliches Licht auf die unerbittliche Einsamkeit und verdrängte Poesie des modernen Lebens. Mit Romeo Meyer und Timos Papadopoulos. \nAutor – Edward Albee\nÜbersetzung – Pinkas Braun\nRegie – Antonis Michalopoulos\nSchauspieler – Romeo Meyer\, Timos Papadopoulos\nMusik/Soundesign – Dimos Vryzas\nKostüme/Bühnenbild – Elli Moustaka\nVideo Projektionen – Silja Dietiker\nProduktionsleitung/Konzeption – Flavia Kistler \nPressefotos – Stefan Schmidlin \nProduktion – PLOŨS\nKooperationspartner – Stanzerei Baden\, ENDLICH MITTWOCH!\, Sternensaal Wohlen\, Roxy Birsfelden\, Theater Bau3\, Zoo Basel \nwww.plous.ch \n 
URL:https://www.stanzerei-baden.ch/kultur/die-zoogeschichte-2
CATEGORIES:ENDLICH MITTWOCH!,SCHEREREIEN
ATTACH;FMTTYPE=image/jpeg:https://www.stanzerei-baden.ch/wp-content/uploads/2024/10/DSC_1206b-skall.jpg
ORGANIZER;CN="ENDLICH MITTWOCH!":MAILTO:endlichmittwoch@stanzerei-baden.ch
END:VEVENT
END:VCALENDAR