BEGIN:VCALENDAR
VERSION:2.0
PRODID:-//Aktionshalle Stanzerei - ECPv6.15.20//NONSGML v1.0//EN
CALSCALE:GREGORIAN
METHOD:PUBLISH
X-WR-CALNAME:Aktionshalle Stanzerei
X-ORIGINAL-URL:https://www.stanzerei-baden.ch
X-WR-CALDESC:Veranstaltungen für Aktionshalle Stanzerei
REFRESH-INTERVAL;VALUE=DURATION:PT1H
X-Robots-Tag:noindex
X-PUBLISHED-TTL:PT1H
BEGIN:VTIMEZONE
TZID:Europe/Zurich
BEGIN:DAYLIGHT
TZOFFSETFROM:+0100
TZOFFSETTO:+0200
TZNAME:CEST
DTSTART:20240331T010000
END:DAYLIGHT
BEGIN:STANDARD
TZOFFSETFROM:+0200
TZOFFSETTO:+0100
TZNAME:CET
DTSTART:20241027T010000
END:STANDARD
BEGIN:DAYLIGHT
TZOFFSETFROM:+0100
TZOFFSETTO:+0200
TZNAME:CEST
DTSTART:20250330T010000
END:DAYLIGHT
BEGIN:STANDARD
TZOFFSETFROM:+0200
TZOFFSETTO:+0100
TZNAME:CET
DTSTART:20251026T010000
END:STANDARD
BEGIN:DAYLIGHT
TZOFFSETFROM:+0100
TZOFFSETTO:+0200
TZNAME:CEST
DTSTART:20260329T010000
END:DAYLIGHT
BEGIN:STANDARD
TZOFFSETFROM:+0200
TZOFFSETTO:+0100
TZNAME:CET
DTSTART:20261025T010000
END:STANDARD
END:VTIMEZONE
BEGIN:VEVENT
DTSTART;TZID=Europe/Zurich:20250219T201500
DTEND;TZID=Europe/Zurich:20250219T201500
DTSTAMP:20260422T153930
CREATED:20240713T091813Z
LAST-MODIFIED:20250106T205945Z
UID:10000949-1739996100-1739996100@www.stanzerei-baden.ch
SUMMARY:WORTSCHATZ
DESCRIPTION:Lesung und Diskussion mit Zora der Buono und Barbara Schibli \nAlles dreht sich um Sprache und Geschichten. Die Autorinnen Zora der Buono und Barbara Schibli stellen ihre persönlichen „Wortschätze“ vor\, Texte mit einer persönlichen Bedeutung und einer eigenen Geschichte dazu. Sie lesen ihre Lieblingsbücher\, -gedichte\, -texte sowie eigene Werke vor. Im Zirkel wird darüber philosophiert und über prägende Literatur gesprochen. Durch den Abend führt Bettina Spoerri\, inspirierende Worte und passende Geschichten werden ausgetauscht.
URL:https://www.stanzerei-baden.ch/kultur/wortschatz-250219
CATEGORIES:ENDLICH MITTWOCH!,WORTSCHATZ
ATTACH;FMTTYPE=image/jpeg:https://www.stanzerei-baden.ch/wp-content/uploads/2024/07/WORTSCHATZ-Schibli-del-Buono-Spoerri.jpg
ORGANIZER;CN="ENDLICH MITTWOCH!":MAILTO:endlichmittwoch@stanzerei-baden.ch
END:VEVENT
BEGIN:VEVENT
DTSTART;TZID=Europe/Zurich:20250226T201500
DTEND;TZID=Europe/Zurich:20250226T201500
DTSTAMP:20260422T153930
CREATED:20240713T093010Z
LAST-MODIFIED:20250225T204304Z
UID:10000950-1740600900-1740600900@www.stanzerei-baden.ch
SUMMARY:TANZ IM OFFENEN RAUM
DESCRIPTION:Tanz und Kunst Königsfelden in der Stanzerei \nDas Badener Residenzzentrum tanz+ von Tanz und Kunst Königsfelden ist erneut in der Stanzerei zu Gast und bringt gemeinsam mit den Tanzausbildungen der Zürcher Hochschule der Künste (ZHdK) junge Tanzkunst auf die Bühne. Angehende Choreograf:innen des Master-Studiengangs Choreografie geben Einblick in die Erarbeitung ihrer Abschlussprojekte und präsentieren kreative Skizzen aus ihrer Arbeit. \nDen Abend eröffnet die Kids Company von Tanz und Kunst Königsfelden mit einer lebendigen Performance aus ihrem aktuellen Repertoire. Das Programm verbindet Einblicke in künstlerische Prozesse mit tänzerischer Inspiration und schafft einen spannenden Austausch zwischen Nachwuchstalenten und dem Publikum der Stanzerei. \n“The Art of Togetherness: Physical Theatre for Team Building and Storytelling”\nChoreographie Giorgia Paliogianni\, mit\nAudrey Djouadi\nSimon Thöni\nValentina Zatevalneva\nTomas Bashe Fernández de Gamboa\nArina Merzliakova\nLeo Lambert\nVictor Mendes\nGiorgia Paliogianni \n“Origami“\nChoreographie Christina Szegedi\, mit\nCassandra Clarke \n“Rituals of Identity”\nChoreographie Valentina Zatevalneva\, mit\nValentina Zatevalneva\nYasmin Edelmann (Cello)
URL:https://www.stanzerei-baden.ch/kultur/tanz-im-offenen-raum-2
CATEGORIES:ENDLICH MITTWOCH!,TANZ
ATTACH;FMTTYPE=image/jpeg:https://www.stanzerei-baden.ch/wp-content/uploads/2024/07/250226_TANZ-IM-OFFENEN-RAUM.jpeg
ORGANIZER;CN="ENDLICH MITTWOCH!":MAILTO:endlichmittwoch@stanzerei-baden.ch
END:VEVENT
END:VCALENDAR