BEGIN:VCALENDAR
VERSION:2.0
PRODID:-//Aktionshalle Stanzerei - ECPv6.15.20//NONSGML v1.0//EN
CALSCALE:GREGORIAN
METHOD:PUBLISH
X-ORIGINAL-URL:https://www.stanzerei-baden.ch
X-WR-CALDESC:Veranstaltungen für Aktionshalle Stanzerei
REFRESH-INTERVAL;VALUE=DURATION:PT1H
X-Robots-Tag:noindex
X-PUBLISHED-TTL:PT1H
BEGIN:VTIMEZONE
TZID:Europe/Zurich
BEGIN:DAYLIGHT
TZOFFSETFROM:+0100
TZOFFSETTO:+0200
TZNAME:CEST
DTSTART:20240331T010000
END:DAYLIGHT
BEGIN:STANDARD
TZOFFSETFROM:+0200
TZOFFSETTO:+0100
TZNAME:CET
DTSTART:20241027T010000
END:STANDARD
BEGIN:DAYLIGHT
TZOFFSETFROM:+0100
TZOFFSETTO:+0200
TZNAME:CEST
DTSTART:20250330T010000
END:DAYLIGHT
BEGIN:STANDARD
TZOFFSETFROM:+0200
TZOFFSETTO:+0100
TZNAME:CET
DTSTART:20251026T010000
END:STANDARD
BEGIN:DAYLIGHT
TZOFFSETFROM:+0100
TZOFFSETTO:+0200
TZNAME:CEST
DTSTART:20260329T010000
END:DAYLIGHT
BEGIN:STANDARD
TZOFFSETFROM:+0200
TZOFFSETTO:+0100
TZNAME:CET
DTSTART:20261025T010000
END:STANDARD
END:VTIMEZONE
BEGIN:VEVENT
DTSTART;VALUE=DATE:20250902
DTEND;VALUE=DATE:20250908
DTSTAMP:20260422T034511
CREATED:20210901T093644Z
LAST-MODIFIED:20250901T092045Z
UID:10000804-1756771200-1757289599@www.stanzerei-baden.ch
SUMMARY:Fantoche 2025
DESCRIPTION:23. Internationales Festival für Animationsfilm\n  \nAlle Infos zum Programm der Kurzfilme\, Ausstellungen und natürlich Tickets finden Sie über die Webseite des Veranstalters: www.fantoche.ch  \n  \nAusstellung „Refresh X Fantoche“ in der Stanzerei:  \nMI – FR\, 03.09. – 05.09.25 von 12.00 – 20.00 Uhr \nSA\, 06.09.25 von 12.00 – 22.00 Uhr \nSO\, 07.09.25  von 12.00 – 18.00 Uhr \n  \nFantoche-Shop auf dem Vorplatz der Stanzerei:  \nDI – SA\, 02.09. – 06.09.25 von 12.00 – 22.00 Uhr \nSO\, 07.09.25 von 12.00 – 21.00 Uhr \n 
URL:https://www.stanzerei-baden.ch/kultur/fantoche-2024
CATEGORIES:Festival,Kultur
ATTACH;FMTTYPE=image/jpeg:https://www.stanzerei-baden.ch/wp-content/uploads/2021/09/241226_fan25_presse_a5_deutsch-e1756718411815.jpg
ORGANIZER;CN="Fantoche":MAILTO:mail@fantoche.ch
END:VEVENT
BEGIN:VEVENT
DTSTART;TZID=Europe/Zurich:20250925T201500
DTEND;TZID=Europe/Zurich:20250925T201500
DTSTAMP:20260422T034511
CREATED:20250307T074305Z
LAST-MODIFIED:20250901T092607Z
UID:10000975-1758831300-1758831300@www.stanzerei-baden.ch
SUMMARY:KULAK präsentiert: Michael Attias Polybahn Trio
DESCRIPTION:Das «Michael Attias Polybahn Trio» von Michael Attias mit dem ausdrucksstarken Pianisten Benoit Delbecq und dem Ausnahmedrummer Samuel Ber\, überwindet Genregrenzen und webt ein feines\, kühnes Gleichgewicht zwischen Tradition und Innovation. Klanglandschaften werden durch kollektive Improvisationen der lebhaften Musikerpersönlichkeiten neu erschaffen und modelliert. Durchdrungen von emotionaler Tiefe und drängenden\, intensiv\, pulsierenden Empfindungen\, ist ihre Musik wie ein verschlungener Pfad\, auf dem sich entfesselte Melodien und beruhigende Klangräume vermischen. Das alles als Septemberbeitrag von KulaK Jazz in der „Aktionshalle Stanzerei“ in Baden! \nSpielerische Virtuosität und polyphone Strukturen sind Kennzeichen dieses Trios\, das mit publikumswirksamer Eingängigkeit aufwartet: Das «Michael Attias Polybahn Trio» negiert musikalische Grenzen und sorgt gleichzeitig für beste Stimmung. \nMit viel Prägnanz und Ideenvielfalt zelebrieren der Saxofonist und seine Mitspieler Benoit Delbecq (piano) und Samuel Ber (drums) mitreissenden Modernjazz mit erquickender Kreativität und bestechender Klarheit. \nEin «Muss» für jeden Kenner! \n\n  \n  \n  \nMichael Attias – (as) \nBenoit Delbecq – (p) \nSamuel Ber – (dr) \n 
URL:https://www.stanzerei-baden.ch/kultur/kulak-praesentiert-michael-attias-polybahn-trio
CATEGORIES:Jazz,Kultur
ATTACH;FMTTYPE=image/jpeg:https://www.stanzerei-baden.ch/wp-content/uploads/2025/03/michael_attas25.9.25_-e1756718760971.jpg
END:VEVENT
END:VCALENDAR