BEGIN:VCALENDAR
VERSION:2.0
PRODID:-//Aktionshalle Stanzerei - ECPv6.15.20//NONSGML v1.0//EN
CALSCALE:GREGORIAN
METHOD:PUBLISH
X-ORIGINAL-URL:https://www.stanzerei-baden.ch
X-WR-CALDESC:Veranstaltungen für Aktionshalle Stanzerei
REFRESH-INTERVAL;VALUE=DURATION:PT1H
X-Robots-Tag:noindex
X-PUBLISHED-TTL:PT1H
BEGIN:VTIMEZONE
TZID:Europe/Zurich
BEGIN:DAYLIGHT
TZOFFSETFROM:+0100
TZOFFSETTO:+0200
TZNAME:CEST
DTSTART:20240331T010000
END:DAYLIGHT
BEGIN:STANDARD
TZOFFSETFROM:+0200
TZOFFSETTO:+0100
TZNAME:CET
DTSTART:20241027T010000
END:STANDARD
BEGIN:DAYLIGHT
TZOFFSETFROM:+0100
TZOFFSETTO:+0200
TZNAME:CEST
DTSTART:20250330T010000
END:DAYLIGHT
BEGIN:STANDARD
TZOFFSETFROM:+0200
TZOFFSETTO:+0100
TZNAME:CET
DTSTART:20251026T010000
END:STANDARD
BEGIN:DAYLIGHT
TZOFFSETFROM:+0100
TZOFFSETTO:+0200
TZNAME:CEST
DTSTART:20260329T010000
END:DAYLIGHT
BEGIN:STANDARD
TZOFFSETFROM:+0200
TZOFFSETTO:+0100
TZNAME:CET
DTSTART:20261025T010000
END:STANDARD
END:VTIMEZONE
BEGIN:VEVENT
DTSTART;TZID=Europe/Zurich:20251105T201500
DTEND;TZID=Europe/Zurich:20251105T201500
DTSTAMP:20260422T000547
CREATED:20250819T104732Z
LAST-MODIFIED:20250902T104114Z
UID:10000989-1762373700-1762373700@www.stanzerei-baden.ch
SUMMARY:BERG & Corin Curschellas
DESCRIPTION:Corin Curschellas (voice\, dulcimer)\nFabian M. Mueller (piano\, synths)\nKaspar von Grünigen (bass)\nEmanuel Künzi (drums) \nAm Ursprung von BERG standen traditionelle Musik sowie drei Jazzmusiker mit Bergherkunft und Lust am Experiment. Das erste Album von Berg – damals noch mit dem norwegischen Drummer Øyvind Hegg-Lunde – erschien im Januar 2020. In den Folgejahren wurde das Repertoire so breit\, divers und imaginär wie ein Bergpanorama und besteht inzwischen hauptsächlich aus Originals von Fabian M. Mueller. 2023 stand ganz im Zeichen der Entwicklung von neuen Songs und dem Einspielen eines neuen Albums. Für einige Stücke spannte BERG dabei mit Corin zusammen: Corin Curschellas – die weit herum bekannte\, weitgereiste und gleichermassen wandelbare Sängerin\, die nicht nur den rätoromanischen Song wie keine andere geprägt hat sondern auch mit dem Vienna Art Orchestra tourte. Die Kombi war perfekt\, der Klang war schnell gefunden
URL:https://www.stanzerei-baden.ch/kultur/berg-curschellas
CATEGORIES:ENDLICH MITTWOCH!
ATTACH;FMTTYPE=image/jpeg:https://www.stanzerei-baden.ch/wp-content/uploads/2025/08/251105_-BERGCorin-Curschellas-_Ramon-Giger.jpg
ORGANIZER;CN="ENDLICH MITTWOCH!":MAILTO:endlichmittwoch@stanzerei-baden.ch
END:VEVENT
BEGIN:VEVENT
DTSTART;TZID=Europe/Zurich:20251112T201500
DTEND;TZID=Europe/Zurich:20251112T201500
DTSTAMP:20260422T000547
CREATED:20250819T105303Z
LAST-MODIFIED:20250826T114901Z
UID:10001010-1762978500-1762978500@www.stanzerei-baden.ch
SUMMARY:Kafka klingt
DESCRIPTION:In einem jener kleinen Notizhefte\, die Kafka während des 1. Weltkrieges täglich hinauf in die winzige Wohnung von Ottla brachte um sie vollzuschreiben\, findet sich ein langes Fragment\, das einer exotischen literarischen Welt zu entstammen scheint. Beim Bau der chinesischen Mauer lautet der von Kafka formulierte Titel: ein Text\, der sich zwischen Erzählung\, Legende\, politischer Reflexion und fiktiven Erinnerungen bewegt\, ohne dass völlig klar würde\, auf was der Ich-Erzähler hinaus will. Die chinesische Mauer wird zum Symbol der Vergeblichkeit aller menschlichen Bemühungen und des Tragischen des Menschen\, mit grösster Sorgfalt und unermüdlichem Fleiss das zu verwirklichen\, dem Sinn geben zu wollen\, was in der Gesamtheit\, gemeint ist die Schutzmauer\, unzweckmässig und überflüssig ist. China ist nur ein Schauplatz zwischen Traum und Wirklichkeit\, auf dem Kafka seine Erfahrung des Menschen in einem undurchschaubaren mystischen Ganzen zeigt und das scheinbar sinnvolle Dasein in Frage stellt. \nEin Text\, eher wenig bekannt\, aber von grosser Strahlkraft und einem Sog\, dem die Zuhörenden fasziniert folgen und nicht entrinnen können. Walter Küng rezitiert den Text gekonnt und dringt auch mit etwelchem Humor in die Gedankenwelt von Franz Kafka. Mit der wunderbaren Musik von Jing Yang (Pipa)\, Andi Pupato (Percussion) und Rätus Flisch (Bass) wird die ferne Welt doch sehr konkret und verführt in weitere gedankliche Reflexionen.
URL:https://www.stanzerei-baden.ch/kultur/kafkaklingt
CATEGORIES:ENDLICH MITTWOCH!
ATTACH;FMTTYPE=image/jpeg:https://www.stanzerei-baden.ch/wp-content/uploads/2025/08/251112_Kafka-Klingt.jpg
ORGANIZER;CN="ENDLICH MITTWOCH!":MAILTO:endlichmittwoch@stanzerei-baden.ch
END:VEVENT
BEGIN:VEVENT
DTSTART;TZID=Europe/Zurich:20251113T201500
DTEND;TZID=Europe/Zurich:20251113T201500
DTSTAMP:20260422T000547
CREATED:20250613T104647Z
LAST-MODIFIED:20250904T125334Z
UID:10000982-1763064900-1763064900@www.stanzerei-baden.ch
SUMMARY:ANNAKIN präsentiert: Voices from ... Outer Space
DESCRIPTION:VOICES FROM . . . Outer Space – Astronomische Songs \n  \nANNAKIN*RICK HORNBY*CHRISTIAN RIESEN*DOMINIQUE MÜLLER \n  \nMit der Astrologin Madame Étoile und dem Schauspieler Aaron Hitz \nVoices from … ist eine abendfüllende Konzertreihe\, die über ein Musikerlebnis hinausgeht. Mit hochkarätigen Performances\, spannenden Hintergrundinformationen\, berührenden Geschichten und humorvollen Anekdoten. Mit den local heroes und den rising stars\, von ernst bis fröhlich und immer unterhaltsam – tanzend\, spielend oder lesend. Sinnlich\, ein bisschen frech auch – aber anders als Vieles. Und nahe am Thema und am Herzen. \nBei „Voices from . . . Outer Space – Astronomische Songs“ heben wir zusammen ab und begeben uns auf einen Trip durch Raum und Zeit. Wir befassen uns mit den Stimmen und Liedern\, die sich mit dem Weltall befassen\, und vom Mond\, der Sonne und den Sternen erzählen. Wir ergründen den Einfluss der ersten Mondlandung auf die Musik und erfahren\, was es auf sich hat mit dem Mann im Mond. Aber wie tönt denn eigentlich ein Planet und wer ist nochmal Major Tom? Wir werfen einen Blick auf die poetische Bedeutung von Himmelskörpern in den Lyrics. Es wird spacig und überirdisch und unsere Alltagssorgen werden auf den Mond geschossen in Anbetracht der unvorstellbaren Grösse und Weite des Weltalls. \nDie Astrologin Madame Étoile beleuchtet das Thema mit ihrer persönlichen Sonne und wird für uns die Sterne deuten. Raum und Zeit werden vollends gesprengt werden mit der neuen Darstellung der Dinge des Schauspielers Aaron Hitz. \nEin Schweizer Lied\, das nicht von dieser Welt ist und Annakins Sicht auf die Erde durch die Blumen\, die sie auf dem Mond gepflanzt hat\, werden auch nicht fehlen. \nDie Stimme der Schweizer Sängerin wird irdische Wärme verbreiten und ihre Band – Christian Riesen an den Keys und Rick Hornby an den Gitarren – werden dafür sorgen\, dass die Verbindung zur Erde nie ganz abreisst. \nAnnakin und der Regisseur und Musikliebhaber Dominique Müller führen zusammen durch den Abend. Sie leiten ins Thema ein\, gehen den Songs und Lyrics auf den Grund und verbinden diese mit selbsterlebten Anekdoten\, zu denen jeweils auch Rick und Christian und bestimmt auch das Publikum noch ein Wörtchen mitzureden haben. \n  \nWeitere Infos: www.annakin.ch
URL:https://www.stanzerei-baden.ch/kultur/annakin-praesentiert-voices-from-outer-space
CATEGORIES:Kultur,Voices from ...
ATTACH;FMTTYPE=image/jpeg:https://www.stanzerei-baden.ch/wp-content/uploads/2025/06/Annakin.jpg
ORGANIZER;CN="Annakin":MAILTO:info@annakin.ch
END:VEVENT
BEGIN:VEVENT
DTSTART;TZID=Europe/Zurich:20251115T200000
DTEND;TZID=Europe/Zurich:20251115T200000
DTSTAMP:20260422T000547
CREATED:20251006T085116Z
LAST-MODIFIED:20251006T085116Z
UID:10001013-1763236800-1763236800@www.stanzerei-baden.ch
SUMMARY:CLOSE HARMONY präsentieren: Best of 30 Jahre Close Harmony
DESCRIPTION:BEST OF – 30 Jahre Close Harmony \n  \nROCK POP Chor Konzert: \nSamstag\, 15. November 2025 um 20.00 Uhr \nSonntag\, 16. November 2025 um 16.00 Uhr \n  \nSeit drei Jahrzehnten gibt es Close Harmony. Mehr als die Hälfte dieser Zeit – unglaubliche 16 Jahre – stehen wir unter der inspirierenden Leitung von Thomas Müller-Millet. Über hundert Arrangements hat er uns mittlerweile auf den Leib geschrieben. Das wollen wir feiern! \nMit unserem Jubiläumsprogramm Best Of bringen wir die beliebtesten Songs der letzten 16 Jahre auf die Bühne der Stanzerei Baden\, einen musikalischer Querschnitt durch alles\, was uns und unser Publikum über die Jahre begeistert hat\, von A wie ABBA bis Z wie Zucchero. \nWir singen mal a cappella\, mal mit grooviger Unterstützung von Bass (Hans-Peter Brack) und Schlagzeug (Hannes Hänggli). \n  \n  \nWeitere Informationen finden Sie auf dem Flyer.
URL:https://www.stanzerei-baden.ch/kultur/close-harmony-praesentieren-best-of-30-jahre-close-harmony
CATEGORIES:Chor,Kultur
ATTACH;FMTTYPE=image/jpeg:https://www.stanzerei-baden.ch/wp-content/uploads/2025/10/CloseHarmony_-e1759739934645.jpg
END:VEVENT
BEGIN:VEVENT
DTSTART;TZID=Europe/Zurich:20251116T160000
DTEND;TZID=Europe/Zurich:20251116T160000
DTSTAMP:20260422T000547
CREATED:20251006T085156Z
LAST-MODIFIED:20251006T085156Z
UID:10001014-1763308800-1763308800@www.stanzerei-baden.ch
SUMMARY:CLOSE HARMONY präsentieren: Best of 30 Jahre Close Harmony
DESCRIPTION:BEST OF – 30 Jahre Close Harmony \n  \nROCK POP Chor Konzert: \nSamstag\, 15. November 2025 um 20.00h \nSonntag\, 16. November 2025 um 16.00h \n  \nSeit drei Jahrzehnten gibt es Close Harmony. Mehr als die Hälfte dieser Zeit – unglaubliche 16 Jahre – stehen wir unter der inspirierenden Leitung von Thomas Müller-Millet. Über hundert Arrangements hat er uns mittlerweile auf den Leib geschrieben. Das wollen wir feiern! \nMit unserem Jubiläumsprogramm Best Of bringen wir die beliebtesten Songs der letzten 16 Jahre auf die Bühne der Stanzerei Baden\, einen musikalischer Querschnitt durch alles\, was uns und unser Publikum über die Jahre begeistert hat\, von A wie ABBA bis Z wie Zucchero. \nWir singen mal a cappella\, mal mit grooviger Unterstützung von Bass (Hans-Peter Brack) und Schlagzeug (Hannes Hänggli). \n  \n    \nWeitere Informationen finden Sie auf dem Flyer.
URL:https://www.stanzerei-baden.ch/kultur/close-harmony-praesentieren-best-of-30-jahre-close-harmony-2
CATEGORIES:Chor,Kultur
ATTACH;FMTTYPE=image/jpeg:https://www.stanzerei-baden.ch/wp-content/uploads/2025/10/CloseHarmony_-e1759739934645.jpg
END:VEVENT
BEGIN:VEVENT
DTSTART;TZID=Europe/Zurich:20251119T201500
DTEND;TZID=Europe/Zurich:20251119T201500
DTSTAMP:20260422T000547
CREATED:20250819T110721Z
LAST-MODIFIED:20250901T192310Z
UID:10000990-1763583300-1763583300@www.stanzerei-baden.ch
SUMMARY:Wortschatz
DESCRIPTION:Diskussion & Lesung mit Sina und Lorenz Häberli. Moderation Bettina Spoerri \nAlles dreht sich um Sprache und Geschichten. Die Sängerin und Songwriterin Sina sowie der Historiker\, Musiker und Spoken-Word-Künstler Lorenz Häberli stellen ihre persönlichen „Wortschätze“ vor\, Texte mit einer persönlichen Bedeutung und einer eigenen Geschichte dazu. Sie lesen ihre Lieblingsbücher\, -gedichte\, -texte sowie eigene Werke vor. Im Zirkel wird darüber philosophiert und über prägende Literatur gesprochen. Durch den Abend führt Bettina Spoerri\, inspirierende Worte und passende Geschichten werden ausgetauscht. \n  \n  \nFoto Credits\nSina: Pat Wettstein\nBettina: Miklós Klaus Rózsa \nLorenz: Maximilian Lederer
URL:https://www.stanzerei-baden.ch/kultur/wortschatz-251119
CATEGORIES:ENDLICH MITTWOCH!,WORTSCHATZ
ATTACH;FMTTYPE=image/png:https://www.stanzerei-baden.ch/wp-content/uploads/2025/08/251119_Wortschatz-Sina-Haebberli2.png
ORGANIZER;CN="ENDLICH MITTWOCH!":MAILTO:endlichmittwoch@stanzerei-baden.ch
END:VEVENT
BEGIN:VEVENT
DTSTART;TZID=Europe/Zurich:20251120T201500
DTEND;TZID=Europe/Zurich:20251120T201500
DTSTAMP:20260422T000547
CREATED:20250307T080136Z
LAST-MODIFIED:20250710T065902Z
UID:10000976-1763669700-1763669700@www.stanzerei-baden.ch
SUMMARY:KULAK präsentiert: Biondini Godard Niggli
DESCRIPTION:Ein Dreier Gespann „Italien-Frankreich-Schweiz“\, das sich nicht in engen Bergtälern verirrt\, sondern darüber hinweg surft\, mit freier Sicht aufs Mittelmeer\, sich über die Höhen und Tiefen dieser musikalischen Geografie hinweg swingt. Drei Virtuosen\, die auch an und über die Grenzen gehen\, was die Spieltechniken und Ausdrucksformen mit ihren Instrumenten anbelangt. Biondini – Godard – Niggli steuern eine Seelenmusik an\, voller Energie\, Poesie und auch feinem Witz. Ihre Kompositionen dienen als ideale Sprungbretter für die lustvollen Geschichtenerzähler\, die diese drei Improvisatoren sind. Das Trio hat zwei viel beachtete CDs „What is There What is Not“ und „Mavi“ auf dem renommierten Label INTAKT Records veröffentlicht.\n  \nLuciano Biondini (acc) \nMichel Godard (tuba\, serpent\, e-b) \nLucas Niggli (dr\, perc) \n  \nweitere Informationen hier: Biondini – Godard – Niggli – Lucas Niggli – DE
URL:https://www.stanzerei-baden.ch/kultur/kulak-praesentiert-biondini-godard-niggli
CATEGORIES:Jazz,Kultur
ATTACH;FMTTYPE=image/jpeg:https://www.stanzerei-baden.ch/wp-content/uploads/2025/03/0417_BiondiniGodardNiggli_byThomasRadlwimmer2-e1752130732364.jpeg
END:VEVENT
BEGIN:VEVENT
DTSTART;TZID=Europe/Zurich:20251124T183000
DTEND;TZID=Europe/Zurich:20251124T183000
DTSTAMP:20260422T000547
CREATED:20251003T085001Z
LAST-MODIFIED:20251003T085408Z
UID:10001011-1764009000-1764009000@www.stanzerei-baden.ch
SUMMARY:IG ENGELSHAAR PRÄSENTIERT: Stille Nacht war gestern
DESCRIPTION:Die legendäre IG Engelshaar ist zurück. Sie machen dieses Jahr Christmas laut again: Urs Augstburger\, Christoph Simon\, Barbara Terpoorten\, Monika Schärer\, Sven Furrer\, Pascal Dussex\, Anja Kofmel und HP Stamm. \n  \nMontag\, 24.11.2025 & Dienstag\, 25.11.2025 \n  \n18.30 Nachtessen / Barbetrieb \n20.00 Jubiläum-Weihnachtsshow \n21.30 Dessert / Barbetrieb \nDas Faro-Catering sorgt wieder für die kulinarische Rundumbetreuung. Die Konsumation ist im Ticketpreis nicht inbegriffen. \n  \nDie Zahl des Jahres? 39. Die Farbe des Jahres? Orange. Das Unwort des Jahres: Gross machen. 2025 wird das Jahr des praktizierten Blödsinns\, dem kann sich auch die IG Engelshaar nicht verschliessen. Man darf es schon ganz laut sagen: Die Weihnachtsshow rund um die legendäre Schweizer Musterfamilie Lustenberger wird die beste\, die die Welt je gesehen hat. Die kitschigste und die lustigste sowieso. Mindestens 39 Prozent besser als jede andere\, wie Karin Keller Suter in einer Telefonschaltung in die Stanzerei Baden gerne bestätigen wird. \n  \nSchriftsteller Urs Augstburger und seine Freunde laden also wieder zur  legendären Weihnachtsshow in der Stanzerei Baden\, die alljährlich auf die Schippe nimmt\, was uns bewegt und oder nervt. Augstburger schreibt zusammen mit dem vielfach ausgezeichneten Schriftsteller und Kabarettisten Christoph Simon\, unter strenger Aufsicht von Schauspielerin und Regisseurin Barbara Terpoorten. Musikkabarettist Pascal Dussex (Les trois suisses) kehrt als Bandleader und Stimmakrobat zurück\, der Brugger Jazztrompeter HP Stamm ergänzt mit Christoph Simon\, der in Baden\, und nur in Baden\, auch Gitarre spielt\, die Band. Die vielbegabte Monika Schärer\, und Comedian Sven Furrer bringen die Figuren auf die Bühne. Für die karikaturistischen Umsetzungen auf der Leinwand wiederum ist Animationsfilmerin Anja Kofmel zuständig. Die Trägerin des Schweizer Filmpreises hat mit Urs Augstburger eine Technik entwickelt\, die ihre Zeichnungen und Gemälde parallel zu ihrer Entstehung auf die Leinwand bringen. So entsteht auch dieses Jahr ein verblüffendes und witziges Comedyereignis für alle Sinne\, präsentiert von einem Künstlerkollektiv\, das sich eigens für diese beiden Abende zusammenfindet. \n  \n 
URL:https://www.stanzerei-baden.ch/kultur/ig-engelshaar-praesentiert-christmas-laut-again-stille-nacht-war-gestern
CATEGORIES:Kultur,Theater
ATTACH;FMTTYPE=image/jpeg:https://www.stanzerei-baden.ch/wp-content/uploads/2025/10/IG_Engelshaar_Jubilaeum_Weihnachtsshow_2025-e1759481642629.jpg
END:VEVENT
BEGIN:VEVENT
DTSTART;TZID=Europe/Zurich:20251125T183000
DTEND;TZID=Europe/Zurich:20251125T183000
DTSTAMP:20260422T000547
CREATED:20251003T085708Z
LAST-MODIFIED:20251003T085708Z
UID:10001012-1764095400-1764095400@www.stanzerei-baden.ch
SUMMARY:IG ENGELSHAAR PRÄSENTIERT: Stille Nacht war gestern
DESCRIPTION:Die legendäre IG Engelshaar ist zurück. Sie machen dieses Jahr Christmas laut again: Urs Augstburger\, Christoph Simon\, Barbara Terpoorten\, Monika Schärer\, Sven Furrer\, Pascal Dussex\, Anja Kofmel und HP Stamm. \n  \nMontag\, 24.11.2025 & Dienstag\, 25.11.2025 \n  \n18.30 Nachtessen / Barbetrieb \n20.00 Jubiläum-Weihnachtsshow \n21.30 Dessert / Barbetrieb \nDas Faro-Catering sorgt wieder für die kulinarische Rundumbetreuung. Die Konsumation ist im Ticketpreis nicht inbegriffen. \n  \nDie Zahl des Jahres? 39. Die Farbe des Jahres? Orange. Das Unwort des Jahres: Gross machen. 2025 wird das Jahr des praktizierten Blödsinns\, dem kann sich auch die IG Engelshaar nicht verschliessen. Man darf es schon ganz laut sagen: Die Weihnachtsshow rund um die legendäre Schweizer Musterfamilie Lustenberger wird die beste\, die die Welt je gesehen hat. Die kitschigste und die lustigste sowieso. Mindestens 39 Prozent besser als jede andere\, wie Karin Keller Suter in einer Telefonschaltung in die Stanzerei Baden gerne bestätigen wird. \n  \nSchriftsteller Urs Augstburger und seine Freunde laden also wieder zur  legendären Weihnachtsshow in der Stanzerei Baden\, die alljährlich auf die Schippe nimmt\, was uns bewegt und oder nervt. Augstburger schreibt zusammen mit dem vielfach ausgezeichneten Schriftsteller und Kabarettisten Christoph Simon\, unter strenger Aufsicht von Schauspielerin und Regisseurin Barbara Terpoorten. Musikkabarettist Pascal Dussex (Les trois suisses) kehrt als Bandleader und Stimmakrobat zurück\, der Brugger Jazztrompeter HP Stamm ergänzt mit Christoph Simon\, der in Baden\, und nur in Baden\, auch Gitarre spielt\, die Band. Die vielbegabte Monika Schärer\, und Comedian Sven Furrer bringen die Figuren auf die Bühne. Für die karikaturistischen Umsetzungen auf der Leinwand wiederum ist Animationsfilmerin Anja Kofmel zuständig. Die Trägerin des Schweizer Filmpreises hat mit Urs Augstburger eine Technik entwickelt\, die ihre Zeichnungen und Gemälde parallel zu ihrer Entstehung auf die Leinwand bringen. So entsteht auch dieses Jahr ein verblüffendes und witziges Comedyereignis für alle Sinne\, präsentiert von einem Künstlerkollektiv\, das sich eigens für diese beiden Abende zusammenfindet. \n  \n 
URL:https://www.stanzerei-baden.ch/kultur/ig-engelshaar-praesentiert-stille-nacht-war-gestern
CATEGORIES:Kultur,Theater
ATTACH;FMTTYPE=image/jpeg:https://www.stanzerei-baden.ch/wp-content/uploads/2025/10/IG_Engelshaar_Jubilaeum_Weihnachtsshow_2025-e1759481642629.jpg
END:VEVENT
BEGIN:VEVENT
DTSTART;TZID=Europe/Zurich:20251126T201500
DTEND;TZID=Europe/Zurich:20251126T201500
DTSTAMP:20260422T000547
CREATED:20250819T111159Z
LAST-MODIFIED:20251028T222638Z
UID:10000991-1764188100-1764188100@www.stanzerei-baden.ch
SUMMARY:Kubus Kollektiv & Trio Häusermann Käppeli Meier
DESCRIPTION:Seit vielen Jahren schreibt Ruedi Häusermann Kompositionen für Streichquartett\, meist in musiktheatralischen Zusammenhängen. Er ist Mitglied des Trios Häusermann/Käppeli/Meier\, wo neben seinen Kompositionen für Jazztrio die Improvisationskunst eine wichtige Rolle spielt. Nun ist die Idee gewachsen\, die Musik des Streichquartetts mit der Musik des Trios zu verbinden. Das neu entstandene Septett\, bestehend aus dem Kubus Kollektiv (Sonja Sofiia  Suldina Violine\, Sophie Wahlmüller Viola\, Liese Mészár Viola und Trude Mészár Violoncello) zusammen mit dem Trio Häusermann Käppeli Meier (Ruedi Häusermann Bassklarinette Flöte\, Marco Käppeli Schlagzeug AsaChan\, Claude Meier Bass) hat eine Klangwelt entwickelt\, die beiden Formationen ihre Eigenheit belässt und doch entsteht dabei eine dritte\, faszinierende Ebene. \nDas Konzert in der Stanzerei ist ein musikalischer Zwischenhalt auf dem Weg zur konzertanten Schauspielmusik für das neue Musiktheater von Ruedi Häusermann «Du denkst vielleicht\, was hör ich da\, und ich sage dir – es ist die Waschmaschine»\, das seine Uraufführung anfangs Februar 2026 im Schauspielhaus Zürich erfährt.
URL:https://www.stanzerei-baden.ch/kultur/hkm-kubus
CATEGORIES:ENDLICH MITTWOCH!
ATTACH;FMTTYPE=image/jpeg:https://www.stanzerei-baden.ch/wp-content/uploads/2025/08/251116_-HKM-Kubus.jpg
ORGANIZER;CN="ENDLICH MITTWOCH!":MAILTO:endlichmittwoch@stanzerei-baden.ch
END:VEVENT
END:VCALENDAR