BEGIN:VCALENDAR
VERSION:2.0
PRODID:-//Aktionshalle Stanzerei - ECPv6.15.20//NONSGML v1.0//EN
CALSCALE:GREGORIAN
METHOD:PUBLISH
X-ORIGINAL-URL:https://www.stanzerei-baden.ch
X-WR-CALDESC:Veranstaltungen für Aktionshalle Stanzerei
REFRESH-INTERVAL;VALUE=DURATION:PT1H
X-Robots-Tag:noindex
X-PUBLISHED-TTL:PT1H
BEGIN:VTIMEZONE
TZID:Europe/Zurich
BEGIN:DAYLIGHT
TZOFFSETFROM:+0100
TZOFFSETTO:+0200
TZNAME:CEST
DTSTART:20250330T010000
END:DAYLIGHT
BEGIN:STANDARD
TZOFFSETFROM:+0200
TZOFFSETTO:+0100
TZNAME:CET
DTSTART:20251026T010000
END:STANDARD
BEGIN:DAYLIGHT
TZOFFSETFROM:+0100
TZOFFSETTO:+0200
TZNAME:CEST
DTSTART:20260329T010000
END:DAYLIGHT
BEGIN:STANDARD
TZOFFSETFROM:+0200
TZOFFSETTO:+0100
TZNAME:CET
DTSTART:20261025T010000
END:STANDARD
BEGIN:DAYLIGHT
TZOFFSETFROM:+0100
TZOFFSETTO:+0200
TZNAME:CEST
DTSTART:20270328T010000
END:DAYLIGHT
BEGIN:STANDARD
TZOFFSETFROM:+0200
TZOFFSETTO:+0100
TZNAME:CET
DTSTART:20271031T010000
END:STANDARD
END:VTIMEZONE
BEGIN:VEVENT
DTSTART;TZID=Europe/Zurich:20260107T201500
DTEND;TZID=Europe/Zurich:20260107T201500
DTSTAMP:20260421T215404
CREATED:20250819T191159Z
LAST-MODIFIED:20250925T110158Z
UID:10000995-1767816900-1767816900@www.stanzerei-baden.ch
SUMMARY: Fitzgerald & Rimini – «Ennetlands»
DESCRIPTION:Mit Robert Aeberhard (Musik) und Ariane von Graffenried (Texte). \nDie Stimme einer Meerjungfrau erklingt unhörbar in einem kalifornischen Wasserpark\, ein Gletscher singt sein Abschiedslied\, ein heimatloser Geist aus der Bronzezeit gleitet in einem alten Mercedes durch den Wald\, eine Mutter durch das All. Das neue Spoken-Word-Konzert von Fitzgerald & Rimini erzählt von der Sehnsucht nach jenem\, was ausserhalb des Erreichbaren liegt und fördert Stimmen aus einem Dazwischen zutage. Zu diesen Stimmen gesellt sich ein Orchester aus Geräuschen\, aufgenommen an Orten\, die ausserhalb der Reichweite des menschlichen Ohrs liegen: Laute aus den Tiefen der Erde\, Klänge eines anderen Planeten\, Melodien eines rekonstruierten Muschelhorns aus dem Paläolithikum. Diese Geräusche werden zu literarischen Liedern\, die von Reisen zu unerreichbaren Orten\, von Übergängen und Fahrten ins Unbekannte erzählen. \nDie neuen Figuren aus Ariane von Graffenrieds Kosmos der verkannten Heldinnen und der übersehenen Antihelden durchbrechen die Schwelle zu einer anderen Sphäre. In diesen Welten haben auch die Sprachen keine Grenzen. Sie wandern\, treffen aufeinander und gehen ineinander über. In Kombination Robert Aeberhards Musik werden die Sprechtexte zu vertonten Gedichten. \nWie klingen unerreichbare Räume\, weit entfernte Zeiten? Ökologische und historische Zusammenhänge ändern sich. Zurück bleiben Reste\, die aufflackern; Spuren\, die wir hinterlassen\, wenn wir gehen\, die darauf verweisen\, wer wir sind\, was wir begehren\, was von uns noch da ist und was absent bleibt\, nie anwesend werden kann. Davon erzählen wir im Hier und Jetzt. \nWir fallen\, wir fallen\nund liegen wie Schnee.\nGehen aus der Welt\,\nwir waren\, wir sind\,\nwir liegen und sehen\nihr hinterher.\n                                        (aus: Letztes Gletscherlied) \n  \n    \nFotos ©Yannick Mosimann
URL:https://www.stanzerei-baden.ch/kultur/ennetlands
CATEGORIES:ENDLICH MITTWOCH!
ATTACH;FMTTYPE=image/jpeg:https://www.stanzerei-baden.ch/wp-content/uploads/2025/08/260107_FitzgeraldRimini-©Yannick-Mosimann.jpeg
ORGANIZER;CN="ENDLICH MITTWOCH!":MAILTO:endlichmittwoch@stanzerei-baden.ch
END:VEVENT
BEGIN:VEVENT
DTSTART;TZID=Europe/Zurich:20260114T201500
DTEND;TZID=Europe/Zurich:20260114T201500
DTSTAMP:20260421T215404
CREATED:20250819T192002Z
LAST-MODIFIED:20250918T095443Z
UID:10000996-1768421700-1768421700@www.stanzerei-baden.ch
SUMMARY:Aufbau/Abbau
DESCRIPTION:Spektakel statt Routine: Miguel Ángel García Martín verwandelt den verborgenen Alltag eines Schlagzeugers in ein kraftvolles Bühnenerlebnis. In dieser szenisch-musikalischen Performance wird das Schlagzeug zum Hauptdarsteller einer rhythmisch dichten\, körperlich intensiven Erzählung. «Aufbau/Abbau» ist Hommage und Selbstbefragung zugleich. Humorvoll\, ehrlich und physisch intensiv wirft die Performance einen Blick hinter die Kulissen – dorthin\, wo Konzerte beginnen und enden\, lange bevor der erste Ton erklingt oder der letzte Applaus verhallt. \n«Ich liebe und geniesse meine Arbeit\, die Vielfalt\, die Abwechslung und all die Möglichkeiten\, die mein Instrument bietet. Aber es ist nicht alles Gold\, was glänzt. Mein Instrument bringt unvermeidliche\, anstrengende\, zeitraubende und körperlich fordernde Tätigkeiten mit sich. Ich spreche von dem\, was für viele Instrumentalisten eine Routine von Minuten oder sogar Sekunden ist; etwas\, das nicht mit dem Publikum geteilt wird\, etwas Privates und meist etwas Einsames. Ich spreche vom Auf- und Abbau. Bevor die Schlagzeugskulpturen nicht auf der Bühne stehen\, kann kein Ton gespielt\, kein Licht aufgebaut\, kein Soundcheck gemacht werden – kein Konzert kann stattfinden. Umgekehrt kann kein Raum verlassen und kein Schluck Bier getrunken werden\, bevor nicht alle Instrumente abgebaut und ins Auto verfrachtet worden sind. Als Selbsttherapie und zur Feier meines 10-jährigen Jubiläums habe ich mich entschlossen\, mein «Trauma» musikalisch zu verarbeiten und dem Publikum diese unbekannte Problematik meines Berufes in Form einer szenischmusikalischen Performance zu präsentieren.»  Miguel Ángel García Martín \n  \n \nFoto © La Pataconera \n 
URL:https://www.stanzerei-baden.ch/kultur/auf-abbau
CATEGORIES:ENDLICH MITTWOCH!
ATTACH;FMTTYPE=image/png:https://www.stanzerei-baden.ch/wp-content/uploads/2025/08/260114_Aufbau-Abbau_Miguel-©La-Pataconera.png
ORGANIZER;CN="ENDLICH MITTWOCH!":MAILTO:endlichmittwoch@stanzerei-baden.ch
END:VEVENT
BEGIN:VEVENT
DTSTART;TZID=Europe/Zurich:20260117T193000
DTEND;TZID=Europe/Zurich:20260117T193000
DTSTAMP:20260421T215404
CREATED:20251030T140241Z
LAST-MODIFIED:20251030T163828Z
UID:10001017-1768678200-1768678200@www.stanzerei-baden.ch
SUMMARY:RC Wettingen & RC Wettingen-Heitersberg präsentieren: 15. Midlife Party
DESCRIPTION:Tanzen für den guten Zweck – sei dabei an der Midlife-Party 2026! \nDie Rotary-Clubs Wettingen und Wettingen-Heitersberg laden zur nächsten Ausgabe ihrer legendären Midlife-Party in der Stanzerei Baden. Dich erwarten eine grossartige Stimmung\, coole Drinks und jede Menge musikalische Highlights: West7 bringen Rock- und Popklassiker auf die Bühne und DJ Fab Proudy (Nachtbrise\, Itisagoodday\, Halle36 Party uvm.) sorgt mit dem besten Sound der letzten 30 Jahre für eine bebende Tanzfläche. \n  \nDer Reinerlös der Veranstaltung geht an ROKJ – Rotary für Kinder und Jugendliche. \n  \nFeiere mit uns für eine gute Sache – wir freuen uns auf dich! \n  \nMusik: \n20.30h  Konzert von West 7\n23.00h  DJ FAB PROUDY \n  \n \n  \nDer Event ist bargeldlos. \n  \nTickets sind unter Eventfrog erhältlich oder im Vorverkauf in Wettingen: \nTEXMEX \nSANIDUSCH \nVINI SACRIPANTI \nPARACELSUS Apotheke \n  \n  \n 
URL:https://www.stanzerei-baden.ch/kultur/rc-wettingen-rc-wettingen-heitersberg-praesentieren-15-midlife-party
CATEGORIES:Benefizanlass,Disco,Kultur
ATTACH;FMTTYPE=image/jpeg:https://www.stanzerei-baden.ch/wp-content/uploads/2025/10/Midlife_Plakat_2026_A3-e1761840859901.jpg
END:VEVENT
BEGIN:VEVENT
DTSTART;TZID=Europe/Zurich:20260121T201500
DTEND;TZID=Europe/Zurich:20260121T201500
DTSTAMP:20260421T215404
CREATED:20250819T192637Z
LAST-MODIFIED:20250914T210558Z
UID:10000997-1769026500-1769026500@www.stanzerei-baden.ch
SUMMARY:Nuits d' Espagne
DESCRIPTION:Camilla de Falleiro\, Sopran\nBarbara Bossert\, Flöten\nBenjamin Scheck\, Gitarre \nDie «Spanische Nacht» entführt Sie musikalisch nach Spanien und Frankreich – mit mitreissenden Rhythmen\, feuriger Leidenschaft und melancholischen Liedern. In einer nicht alltäglichen Besetzung mit Gesang\, Flöte und Gitarre erklingen Werke von Saint-Saëns\, Chaminade\, Rodrigo und Anderen. \nLieder und Melodien aus Spanien und Frankreich \nFoto Sarah Grossenbacher
URL:https://www.stanzerei-baden.ch/kultur/nuits-d-espagne
CATEGORIES:ENDLICH MITTWOCH!
ATTACH;FMTTYPE=image/jpeg:https://www.stanzerei-baden.ch/wp-content/uploads/2025/08/260121_nuit-despagne-_Foto-Sarah-Grossenbacher.jpg
ORGANIZER;CN="ENDLICH MITTWOCH!":MAILTO:endlichmittwoch@stanzerei-baden.ch
END:VEVENT
BEGIN:VEVENT
DTSTART;TZID=Europe/Zurich:20260128T201500
DTEND;TZID=Europe/Zurich:20260128T201500
DTSTAMP:20260421T215404
CREATED:20250819T193125Z
LAST-MODIFIED:20251016T103700Z
UID:10000998-1769631300-1769631300@www.stanzerei-baden.ch
SUMMARY:Songcircle
DESCRIPTION:Wenn Hendrix Ackle und Adrian Stern zwei weitere hochkarätige Musiker*innen in ihren Kreis einladen und sie bitten ihre liebsten Lieder mitzubringen\, entsteht immer etwas ganz Besonderes. \nSeit über 10  Jahren begeistert SONGCIRCLE mit seiner besonderen Mischung aus Spontanität\, Intimität und musikalischem Feingefühl. Ein einmaliges\, hautnahes und unverwechselbares Konzertformat\, welches schon bald sein 50. Jubiläum feiert! \nIm Zentrum stehen bei SONGCIRCLE\, die lebensbegleitenden und prägenden Songs: Sei es der Song\, der einen zum Musikmachen bewegt hat\, der Song\, der einen die erste grosse Liebe nicht vergessen lässt\, der uncoolste Song\, zu dem man hinter gezogenen Vorhängen durchs Wohnzimmer tanzt\, der beste Song aller Zeiten\, den leider niemand kennt oder auch einfach die aktuelle Nummer 1 der Hitparade\, der man beim besten Willen nicht entfliehen kann. \nEntdecken Sie neue Musik\, geniessen Sie den Einblick in die private Plattensammlung und den ganz persönlichen Musikgeschmack der Künstler*innen\, lauschen Sie spannenden Geschichten und spontanen Gesprächen von Musiker*innen unter sich und hören Sie\, wie sie sich ihre liebsten Songs gegenseitig vorspielen und unmittelbar neue\, gemeinsame Arrangements kreieren\, pur und unplugged. \nEingeladen am 28. Januar 2026: Meimuna und Flo Bauer \n   \nAlle bisherigen Gäste und Setlisten: www.songcircle.ch
URL:https://www.stanzerei-baden.ch/kultur/songcircle-250128
CATEGORIES:ENDLICH MITTWOCH!,SONGCIRCLE
ATTACH;FMTTYPE=image/jpeg:https://www.stanzerei-baden.ch/wp-content/uploads/2025/08/SONGCIRCLE-3.jpg
ORGANIZER;CN="ENDLICH MITTWOCH!":MAILTO:endlichmittwoch@stanzerei-baden.ch
END:VEVENT
END:VCALENDAR