BEGIN:VCALENDAR
VERSION:2.0
PRODID:-//Aktionshalle Stanzerei - ECPv6.15.20//NONSGML v1.0//EN
CALSCALE:GREGORIAN
METHOD:PUBLISH
X-WR-CALNAME:Aktionshalle Stanzerei
X-ORIGINAL-URL:https://www.stanzerei-baden.ch
X-WR-CALDESC:Veranstaltungen für Aktionshalle Stanzerei
REFRESH-INTERVAL;VALUE=DURATION:PT1H
X-Robots-Tag:noindex
X-PUBLISHED-TTL:PT1H
BEGIN:VTIMEZONE
TZID:Europe/Zurich
BEGIN:DAYLIGHT
TZOFFSETFROM:+0100
TZOFFSETTO:+0200
TZNAME:CEST
DTSTART:20250330T010000
END:DAYLIGHT
BEGIN:STANDARD
TZOFFSETFROM:+0200
TZOFFSETTO:+0100
TZNAME:CET
DTSTART:20251026T010000
END:STANDARD
BEGIN:DAYLIGHT
TZOFFSETFROM:+0100
TZOFFSETTO:+0200
TZNAME:CEST
DTSTART:20260329T010000
END:DAYLIGHT
BEGIN:STANDARD
TZOFFSETFROM:+0200
TZOFFSETTO:+0100
TZNAME:CET
DTSTART:20261025T010000
END:STANDARD
BEGIN:DAYLIGHT
TZOFFSETFROM:+0100
TZOFFSETTO:+0200
TZNAME:CEST
DTSTART:20270328T010000
END:DAYLIGHT
BEGIN:STANDARD
TZOFFSETFROM:+0200
TZOFFSETTO:+0100
TZNAME:CET
DTSTART:20271031T010000
END:STANDARD
END:VTIMEZONE
BEGIN:VEVENT
DTSTART;VALUE=DATE:20260206
DTEND;VALUE=DATE:20260215
DTSTAMP:20260421T185056
CREATED:20260203T185907Z
LAST-MODIFIED:20260204T204821Z
UID:10001024-1770336000-1771113599@www.stanzerei-baden.ch
SUMMARY:One Of A Million Festival Baden
DESCRIPTION:Unmittelbar\, überraschend\, mitreissend\, herzerwärmend. \nAm Freitag\, 6. Februar öffnet das One Of A Million Musikfestival – kurz OOAM – für mehrere Tage Räume und füllt sie mit Klängen. Die Stadt Baden wird zur Bühne\, Orte flimmern\, Töne brechen aus Ecken\, wo Mensch sie nicht erwartet. 43 Acts. 19 Länder. 19 Spielorte. Einmal durch Baden\, ohne Plan\, ohne Richtung\, aber mit offenem Ohr. Von der Kegelbahn bis zur Kapelle\, von der Druckerei bis ins Royal und wieder zurück in die Stanzerei. Von Laut zu Leise. Von Früh bis Spät. Von Hier bis Weit. \n  \nDie Stanzerei beherbergt wiederum das Festivalzentrum: Konzerte\, After-Parties\, Festivalkiosk und Ticketcenter. \nRespekt für die Kunstschaffenden. Aufmerksamkeit während den Konzerten. Das wünschen wir uns. \nTüröffnung: 18.00 Uhr (Festivalzentrum Stanzerei)\nBeginn: Diverse Zeiten\nEnde: Diverse Zeiten \n 
URL:https://www.stanzerei-baden.ch/kultur/one-of-a-million-festival-baden-2
CATEGORIES:OOAM
ATTACH;FMTTYPE=image/png:https://www.stanzerei-baden.ch/wp-content/uploads/2026/02/OOAM_2026.png
ORGANIZER;CN="ooam":MAILTO:festival@ooam.ch
END:VEVENT
BEGIN:VEVENT
DTSTART;TZID=Europe/Zurich:20260218T201500
DTEND;TZID=Europe/Zurich:20260218T201500
DTSTAMP:20260421T185056
CREATED:20250819T194048Z
LAST-MODIFIED:20251118T102851Z
UID:10001002-1771445700-1771445700@www.stanzerei-baden.ch
SUMMARY:Anna & Stoffner mit Membrez und Mantel
DESCRIPTION:So wenig anschmiegsam der Name «Anna&StoffnermitMembrezundMantel»\, so wenig anschmiegsam ist auch die Musik dieser Band. Raptexte in Mundart werden von improvisierten Gitarrensounds kommentiert\, rockige Riffs legen sich über weiche Popmeldodien und das Schlagzeug bereitet einen Boden aus Jazz\, Hiphop und Punkrock. \nDiese Band ist radikal in ihrer Eigenheit und dabei ziemlich gut gelaunt. Besonders live zieht das energetische Zusammenspiel dieser vier Musiker:innen in den Bann. Das liegt einerseits an der Rapperin und Lyrikerin Anna Frey\, die ihre berührenden Texte mit einer Dringlichkeit vorträgt\, wie man es nur selten erlebt. Andererseits ist hier eine virtuose Band am Werk\, die mit grosser Spielfreude und Ernsthaftigkeit\, die eigensinnigen Kompositionen zum Klingen bringt und mit ausdrucksstarken Soloparts die Texte kommentiert\, erweitert und verstärkt. Diese Band ist eingespielt\, hellwach und immer auf der Suche nach dem unmittelbaren Ausdruck: Ein kompromissloser Gegenentwurf zu dem auf Radio und Spotify zugeschnittenen Musik-Einheitsbrei. \nMit Anna Frey\, Florian Stoffner\, Vincent Membrez und Lukas Mantel \nFotos Maxi Schmitz
URL:https://www.stanzerei-baden.ch/kultur/annastoffnermitmembrezundmantel
CATEGORIES:ENDLICH MITTWOCH!
ATTACH;FMTTYPE=image/jpeg:https://www.stanzerei-baden.ch/wp-content/uploads/2025/08/260218_-AnnaStoffnermitMembrezundMantel.jpg
ORGANIZER;CN="ENDLICH MITTWOCH!":MAILTO:endlichmittwoch@stanzerei-baden.ch
END:VEVENT
BEGIN:VEVENT
DTSTART;TZID=Europe/Zurich:20260225T201500
DTEND;TZID=Europe/Zurich:20260225T201500
DTSTAMP:20260421T185056
CREATED:20250819T194442Z
LAST-MODIFIED:20251118T103907Z
UID:10001003-1772050500-1772050500@www.stanzerei-baden.ch
SUMMARY:Wortschatz
DESCRIPTION:Lesung & Diskussion mit Noëmi Lerch und Demian Lienhard. Moderation Bettina Spoerri \nAlles dreht sich um Sprache und Geschichten. Noëmi Lerch (Schriftstellerin) und Demian Lienhard (Schriftsteller und Archäologe) stellen ihre persönlichen „Wortschätze“ vor\, Texte mit einer persönlichen Bedeutung und einer eigenen Geschichte dazu. Sie lesen ihre Lieblingsbücher\, -gedichte\, -texte sowie eigene Werke vor. Im Zirkel wird darüber philosophiert und über prägende Literatur gesprochen. Die Moderation übernimmt die Autorin und Literaturvermittlerin Bettina Spoerri\, die mit Feingefühl und Neugier durch den Abend führt. Ein inspirierendes Zusammenspiel von Sprache\, Musik und Denken – poetisch\, persönlich und voller Charme. \n  \nFoto Demian Lienhard: Laura J Gerlach\nFoto Bettina Spoerri: Miklós Klaus Rózsa
URL:https://www.stanzerei-baden.ch/kultur/wortschatz-260225
CATEGORIES:ENDLICH MITTWOCH!,WORTSCHATZ
ATTACH;FMTTYPE=image/png:https://www.stanzerei-baden.ch/wp-content/uploads/2025/08/260225_-Wortschatz.png
ORGANIZER;CN="ENDLICH MITTWOCH!":MAILTO:endlichmittwoch@stanzerei-baden.ch
END:VEVENT
END:VCALENDAR