BEGIN:VCALENDAR
VERSION:2.0
PRODID:-//Aktionshalle Stanzerei - ECPv6.15.20//NONSGML v1.0//EN
CALSCALE:GREGORIAN
METHOD:PUBLISH
X-ORIGINAL-URL:https://www.stanzerei-baden.ch
X-WR-CALDESC:Veranstaltungen für Aktionshalle Stanzerei
REFRESH-INTERVAL;VALUE=DURATION:PT1H
X-Robots-Tag:noindex
X-PUBLISHED-TTL:PT1H
BEGIN:VTIMEZONE
TZID:Europe/Zurich
BEGIN:DAYLIGHT
TZOFFSETFROM:+0100
TZOFFSETTO:+0200
TZNAME:CEST
DTSTART:20250330T010000
END:DAYLIGHT
BEGIN:STANDARD
TZOFFSETFROM:+0200
TZOFFSETTO:+0100
TZNAME:CET
DTSTART:20251026T010000
END:STANDARD
BEGIN:DAYLIGHT
TZOFFSETFROM:+0100
TZOFFSETTO:+0200
TZNAME:CEST
DTSTART:20260329T010000
END:DAYLIGHT
BEGIN:STANDARD
TZOFFSETFROM:+0200
TZOFFSETTO:+0100
TZNAME:CET
DTSTART:20261025T010000
END:STANDARD
BEGIN:DAYLIGHT
TZOFFSETFROM:+0100
TZOFFSETTO:+0200
TZNAME:CEST
DTSTART:20270328T010000
END:DAYLIGHT
BEGIN:STANDARD
TZOFFSETFROM:+0200
TZOFFSETTO:+0100
TZNAME:CET
DTSTART:20271031T010000
END:STANDARD
END:VTIMEZONE
BEGIN:VEVENT
DTSTART;TZID=Europe/Zurich:20260304T201500
DTEND;TZID=Europe/Zurich:20260304T201500
DTSTAMP:20260421T171304
CREATED:20250819T195225Z
LAST-MODIFIED:20260313T102235Z
UID:10001004-1772655300-1772655300@www.stanzerei-baden.ch
SUMMARY:Lass mir dein Lachen
DESCRIPTION:Ein Epos mit Texten von Pablo Neruda – rezitiert von Kaspar Lüscher\, eingewoben in die Musik von Andrei Ichtchenko und Gino Suter. \nEin Abend der Poesie und Musik\, bei dem die Werke des chilenischen Dichters Pablo Neruda im Mittelpunkt stehen. Neruda war ein vehementer Kritiker politischer Diktaturen\, insbesondere derjenigen in seiner Heimat Chile. Es ist diese – leider! – zeitlose Relevanz\, die uns Neruda nahe bringt – aber nicht nur\, und vor allem: Es ist seine lebensfrohe Poesie! \nDer Abend beginnt mit dem Poem «EIN MENSCH KAM ZUR WELT» – die Schilderung der verletzten heimatlichen Erde\, in der seine Mutter begraben liegt\, und führt mit Gedichten und Erzählungen bis zum leuchtenden Abschluss mit dem Gedicht «ODE AN DEN GLÜCKLICHEN TAG». \nIn Nerudas autobiografischer Erzählung «ICH BEKENNE\, ICH HABE GELEBT»\, erstmals erschienen wenige Monate vor seinem Tod im Jahr 1973\, schildert er in prächtiger Prosa unzählige eindrückliche und teilweise geradezu traumhafte Erlebnisse aus seinem wirklichen Leben\, insbesondere auch aus seiner Jugendzeit in Chile. Seine Leidenschaft galt der Natur\, dem naturhaften Raum. Seine Prosa-Erzählungen lassen uns auf Schritt und Tritt teilhaben an seinem empfindsamen\, feinfühligen Wesen\, mit dem Neruda die Welt und die mannigfachen Beziehungen zu den Menschen in sich aufgenommen und für uns wieder gegeben hat. \n«Trianguli»:\nAndrei Ichtchenko\, Akkordeon\nGino Suter\, Violine\nKaspar Lüscher\, Rezitator \nwww.trianguli.ch \n  \nMit der Unterstützung von Pro Argovia
URL:https://www.stanzerei-baden.ch/kultur/neruda
CATEGORIES:ENDLICH MITTWOCH!
ATTACH;FMTTYPE=image/jpeg:https://www.stanzerei-baden.ch/wp-content/uploads/2025/08/260304_Lass-mir-dein-Lachen-Pablo-Neruda.jpg
ORGANIZER;CN="ENDLICH MITTWOCH!":MAILTO:endlichmittwoch@stanzerei-baden.ch
END:VEVENT
BEGIN:VEVENT
DTSTART;TZID=Europe/Zurich:20260311T201500
DTEND;TZID=Europe/Zurich:20260311T201500
DTSTAMP:20260421T171304
CREATED:20250819T193336Z
LAST-MODIFIED:20251110T153536Z
UID:10000999-1773260100-1773260100@www.stanzerei-baden.ch
SUMMARY:Songcircle
DESCRIPTION:Wenn Hendrix Ackle und Adrian Stern zwei weitere hochkarätige Musiker*innen in ihren Kreis einladen und sie bitten ihre liebsten Lieder mitzubringen\, entsteht immer etwas ganz Besonderes. \nSeit über 10  Jahren begeistert SONGCIRCLE mit seiner besonderen Mischung aus Spontanität\, Intimität und musikalischem Feingefühl. Ein einmaliges\, hautnahes und unverwechselbares Konzertformat\, welches schon bald sein 50. Jubiläum feiert! \nIm Zentrum stehen bei SONGCIRCLE\, die lebensbegleitenden und prägenden Songs: Sei es der Song\, der einen zum Musikmachen bewegt hat\, der Song\, der einen die erste grosse Liebe nicht vergessen lässt\, der uncoolste Song\, zu dem man hinter gezogenen Vorhängen durchs Wohnzimmer tanzt\, der beste Song aller Zeiten\, den leider niemand kennt oder auch einfach die aktuelle Nummer 1 der Hitparade\, der man beim besten Willen nicht entfliehen kann. \nEntdecken Sie neue Musik\, geniessen Sie den Einblick in die private Plattensammlung und den ganz persönlichen Musikgeschmack der Künstler*innen\, lauschen Sie spannenden Geschichten und spontanen Gesprächen von Musiker*innen unter sich und hören Sie\, wie sie sich ihre liebsten Songs gegenseitig vorspielen und unmittelbar neue\, gemeinsame Arrangements kreieren\, pur und unplugged. \nEingeladen am 11. März 2025 sind: Cachita und Jamila \n  \nFoto links © Cachita / Foto rechts (Jamilla) © Roberto Ecclesia Jr \nAlle bisherigen Gäste und Setlisten: www.songcircle.ch
URL:https://www.stanzerei-baden.ch/kultur/songcircle-260311
CATEGORIES:ENDLICH MITTWOCH!,SONGCIRCLE
ATTACH;FMTTYPE=image/jpeg:https://www.stanzerei-baden.ch/wp-content/uploads/2025/08/SONGCIRCLE-2.jpg
ORGANIZER;CN="ENDLICH MITTWOCH!":MAILTO:endlichmittwoch@stanzerei-baden.ch
END:VEVENT
BEGIN:VEVENT
DTSTART;TZID=Europe/Zurich:20260318T201500
DTEND;TZID=Europe/Zurich:20260318T201500
DTSTAMP:20260421T171304
CREATED:20250819T195924Z
LAST-MODIFIED:20250914T213411Z
UID:10001005-1773864900-1773864900@www.stanzerei-baden.ch
SUMMARY:Noten von Vanille und Ambra - BrueckerMeisterTrauffer
DESCRIPTION:Vanille ist eine Orchidee aus Mexiko\, Ambra stammt aus dem Magen des Pottwals. Und weil beides duftet\, kommt es in die Parfum-Flakons\, die bei uns im Laden stehen. Die Wege dorthin aber sind verschlungen und lang\, für Vanille\, Ambra und auch viele andere Rohstoffe der Parfümherstellung. \nDas Trio BrueckerMeisterTrauffer zeichnet diese Wege nach in Texten und in Tönen\, die sich vermischen zu neuen Duftnoten\, die zuweilen auch in Richtung Gestank kippen. Natürlich geht es auch ganz grundsätzlich um die Frage: Was ist eigentlich eine Nase? Und woher plötzlich dieser sagenhafte Suppenduft\, der in diese Nase eindringt? \nFranziska Bruecker gesang\, synthesizer\, live elektronik\, komposition \nAnna Trauffer gesang\, kontrabass\, komposition \nGerhard Meister sprecher\, posaune\, text \n  \n  \nhttps://www.stanzerei-baden.ch/wp-content/uploads/2025/08/Schmoecksch_lang.mp4\n  \n  \nPhotocredit: Dominik Zietlow
URL:https://www.stanzerei-baden.ch/kultur/vanilleambra
CATEGORIES:ENDLICH MITTWOCH!
ATTACH;FMTTYPE=image/jpeg:https://www.stanzerei-baden.ch/wp-content/uploads/2025/08/260318_BrueckerMeiterTrauffer.jpg
ORGANIZER;CN="ENDLICH MITTWOCH!":MAILTO:endlichmittwoch@stanzerei-baden.ch
END:VEVENT
BEGIN:VEVENT
DTSTART;TZID=Europe/Zurich:20260325T201500
DTEND;TZID=Europe/Zurich:20260325T201500
DTSTAMP:20260421T171304
CREATED:20250819T201202Z
LAST-MODIFIED:20260126T145235Z
UID:10001006-1774469700-1774469700@www.stanzerei-baden.ch
SUMMARY:Garn trifft Trio Häusermann Käppeli Meier
DESCRIPTION:Garn ist nicht nur eine Band; es ist eine Ode an die Euphorie des Lebens\, ein Echo filmischer Bilder und weitläufiger Reisen. Diesmal laden sie das improvisierende Jazz-Trio Häusermann-Käppeli-Meier ein zum gemeinsamen Konzert. Da treffen zwei Systeme aufeinander und weben zusammen ein harmonisch reichhaltiges und erdiges Klanggewebe. \nDie Verbindung ist Claude Meier und seine Bässe. Auf der einen Seite die Kompositionen von Ruedi Häusermann\, die aus mehrstöckigen Häusern bestehen mit vielen verschiedenen Zimmern in welchen sich das Trio Häusermann Käppeli Meier schon seit einiger Zeit aufhält und sich darin mit schlafwandlerischer Sicherheit bewegt. Auf der anderen Seite Garn\, ein Quintett für welches Meier immer wieder neue Gewänder schneidert\, die als Ausgangspunkte für kollektive und solistische Höhenflüge dienen. Daraus entsteht ein musikalischer Abend in welchem die sieben Herren sich zusammenraufen\, die eine oder andere Komposition miteinander anstimmen und sich musikalische Ideen zuwerfen\, welche von Spielfreude und Witz getrieben sind. \nMit Marc Stucki (Saxophon)\, Urs Müller (Gitarre)\, Fabian M Müller (Klavier)\, Christoph Steiner (Schlagzeug)\, Claude Meier (Bass)\, Marco Käppeli (Schlagzeug) und Ruedi Häusermann (Bassklarinette\, Flöten).
URL:https://www.stanzerei-baden.ch/kultur/garn-hkm
CATEGORIES:ENDLICH MITTWOCH!
ATTACH;FMTTYPE=image/jpeg:https://www.stanzerei-baden.ch/wp-content/uploads/2025/08/HKM-Garn-Collage-scaled-e1769439131131.jpg
ORGANIZER;CN="ENDLICH MITTWOCH!":MAILTO:endlichmittwoch@stanzerei-baden.ch
END:VEVENT
BEGIN:VEVENT
DTSTART;TZID=Europe/Zurich:20260326T201500
DTEND;TZID=Europe/Zurich:20260326T201500
DTSTAMP:20260421T171304
CREATED:20260112T160015Z
LAST-MODIFIED:20260112T160608Z
UID:10001020-1774556100-1774556100@www.stanzerei-baden.ch
SUMMARY:KULAK präsentiert: Arbenz vs. Arbenz & Atom String Quartet: "Reflecting Bach"
DESCRIPTION:Michael und Florian Arbenz spielen seit Jahrzehnten in den verschiedensten Bands zusammen und bereisten damit die ganze Welt. In ihren Projekten waren Jazzgrössen wie Greg Osby\, Dave Liebman oder die Basslegende Ron Carter beteiligt. An diesem Abend spielen sie in einer ebenso aufregenden wie eigenwilligen Kooperation mit dem Atom String Quartet\, dem grossartigen polnischen Streichquartett\, das den Europäischen Jazz in den letzten Jahrzehnten mitprägte. So wie Michael und Florian mit ihrem stupenden musikalischen Miteinander zu einem fast schon symbiotischen Zusammenspiel gefunden haben\, so finden sie mit dem Atom String Quartet stets auf ungemein inspirierende Weise eine musikalische Ergänzung. Auf diese Weise bewegen sich Arbenz vs Arbenz & Atom String Quartet\, mit ihrem eigenständigen\, modernen Spiel das sich der Klassischen wie auch der Jazztradition verpflichtet fühlt\, höchst souverän durch die groovebetonten\, die lyrischen\, die rhythmisch wie harmonisch komplexen und offenen Stücke und Passagen des Programms „Reflecting Bach“\, das an diesem Konzert aufgeführt wird.\n  \nMichael Arbenz (p/key) \nFlorian Arbenz (drums) \nMateusz Smoczynski (vio) \nDavid Lubowicz (vio) \nMichal Zaborski (vio) \nKrysztof Lenczowski (cello) \n 
URL:https://www.stanzerei-baden.ch/kultur/kulak-praesentiert-arbenz-vs-arbenz-atom-string-quartet-reflecting-bach
CATEGORIES:Jazz,Kultur
ATTACH;FMTTYPE=image/jpeg:https://www.stanzerei-baden.ch/wp-content/uploads/2025/11/Arbenz_26.03.26-e1765807885549.jpg
END:VEVENT
END:VCALENDAR