BEGIN:VCALENDAR
VERSION:2.0
PRODID:-//Aktionshalle Stanzerei - ECPv6.15.20//NONSGML v1.0//EN
CALSCALE:GREGORIAN
METHOD:PUBLISH
X-ORIGINAL-URL:https://www.stanzerei-baden.ch
X-WR-CALDESC:Veranstaltungen für Aktionshalle Stanzerei
REFRESH-INTERVAL;VALUE=DURATION:PT1H
X-Robots-Tag:noindex
X-PUBLISHED-TTL:PT1H
BEGIN:VTIMEZONE
TZID:Europe/Zurich
BEGIN:DAYLIGHT
TZOFFSETFROM:+0100
TZOFFSETTO:+0200
TZNAME:CEST
DTSTART:20230326T010000
END:DAYLIGHT
BEGIN:STANDARD
TZOFFSETFROM:+0200
TZOFFSETTO:+0100
TZNAME:CET
DTSTART:20231029T010000
END:STANDARD
BEGIN:DAYLIGHT
TZOFFSETFROM:+0100
TZOFFSETTO:+0200
TZNAME:CEST
DTSTART:20240331T010000
END:DAYLIGHT
BEGIN:STANDARD
TZOFFSETFROM:+0200
TZOFFSETTO:+0100
TZNAME:CET
DTSTART:20241027T010000
END:STANDARD
BEGIN:DAYLIGHT
TZOFFSETFROM:+0100
TZOFFSETTO:+0200
TZNAME:CEST
DTSTART:20250330T010000
END:DAYLIGHT
BEGIN:STANDARD
TZOFFSETFROM:+0200
TZOFFSETTO:+0100
TZNAME:CET
DTSTART:20251026T010000
END:STANDARD
END:VTIMEZONE
BEGIN:VEVENT
DTSTART;TZID=Europe/Zurich:20240320T201500
DTEND;TZID=Europe/Zurich:20240320T201500
DTSTAMP:20260425T213637
CREATED:20240122T201548Z
LAST-MODIFIED:20240122T203426Z
UID:10000930-1710965700-1710965700@www.stanzerei-baden.ch
SUMMARY:WORTSCHATZ
DESCRIPTION:Lesung und Diskussion mit Peer Teuwsen (Journalist / Leitung des Kulturteils der NZZ am Sonntag) und Thomas Strässle (Literaturwissenschaftler\, Autor und Flötist / Vize-Direktor der Hochschule der Künste Bern) \nModeration Bettina Spoerri \nAlles dreht sich um Sprache und Geschichten. \nEingeladene Gäste mit unterschiedlichen Bezügen zur Literatur stellen ihre persönlichen „Wortschätze“ vor\, Texte mit einer persönlichen Bedeutung und einer eigenen Geschichte dazu. Sie lesen ihre Lieblingsbücher\, -gedichte\, -texte sowie eigene Werke vor. Im Zirkel wird darüber philosophiert und über prägende Literatur gesprochen. Durch den Abend führt Bettina Spoerri\, inspirierende Worte und passende Geschichten werden ausgetauscht.
URL:https://www.stanzerei-baden.ch/kultur/wortschatz
CATEGORIES:ENDLICH MITTWOCH!,WORTSCHATZ
ATTACH;FMTTYPE=image/jpeg:https://www.stanzerei-baden.ch/wp-content/uploads/2024/01/240320_Wortschatz-1.jpg
ORGANIZER;CN="ENDLICH MITTWOCH!":MAILTO:endlichmittwoch@stanzerei-baden.ch
END:VEVENT
END:VCALENDAR