BEGIN:VCALENDAR
VERSION:2.0
PRODID:-//Aktionshalle Stanzerei - ECPv6.15.20//NONSGML v1.0//EN
CALSCALE:GREGORIAN
METHOD:PUBLISH
X-ORIGINAL-URL:https://www.stanzerei-baden.ch
X-WR-CALDESC:Veranstaltungen für Aktionshalle Stanzerei
REFRESH-INTERVAL;VALUE=DURATION:PT1H
X-Robots-Tag:noindex
X-PUBLISHED-TTL:PT1H
BEGIN:VTIMEZONE
TZID:Europe/Zurich
BEGIN:DAYLIGHT
TZOFFSETFROM:+0100
TZOFFSETTO:+0200
TZNAME:CEST
DTSTART:20230326T010000
END:DAYLIGHT
BEGIN:STANDARD
TZOFFSETFROM:+0200
TZOFFSETTO:+0100
TZNAME:CET
DTSTART:20231029T010000
END:STANDARD
BEGIN:DAYLIGHT
TZOFFSETFROM:+0100
TZOFFSETTO:+0200
TZNAME:CEST
DTSTART:20240331T010000
END:DAYLIGHT
BEGIN:STANDARD
TZOFFSETFROM:+0200
TZOFFSETTO:+0100
TZNAME:CET
DTSTART:20241027T010000
END:STANDARD
BEGIN:DAYLIGHT
TZOFFSETFROM:+0100
TZOFFSETTO:+0200
TZNAME:CEST
DTSTART:20250330T010000
END:DAYLIGHT
BEGIN:STANDARD
TZOFFSETFROM:+0200
TZOFFSETTO:+0100
TZNAME:CET
DTSTART:20251026T010000
END:STANDARD
END:VTIMEZONE
BEGIN:VEVENT
DTSTART;TZID=Europe/Zurich:20240327T201500
DTEND;TZID=Europe/Zurich:20240327T201500
DTSTAMP:20260425T195822
CREATED:20240205T152603Z
LAST-MODIFIED:20240320T132636Z
UID:10000932-1711570500-1711570500@www.stanzerei-baden.ch
SUMMARY:TANZ IM OFFENEN RAUM
DESCRIPTION:Erneut ist das Badener Residenzzentrum tanz+ in der Kulturreihe «Endlich Mittwoch» in der Aktionshalle der Stanzerei zu Gast. Diesmal starten sie mit einer neuen Kooperation mit den Tanzausbildungen der Zürcher Hochschule der Künste ZHdK. Die Absolvent:innen präsentieren tänzerische Skizzen und geben Einblick in ihr kreatives Schaffen. Der Abend wird durch die Badener Kids Company «Hand und Fuss» eröffnet\, die mit einer kurzen Perfomance aus ihrem aktuellen Repertoire begeistert. \nEin abendfüllendes Programm mit Einblicken in drei verschiedene Choreografien von: \nSoraya Emery (Choreografin)\nDesi Bonato (Tänzerin)\nAbraham Iglesias Rodriguez (Tänzer) \nIvana Balabanova (Choreografin)\nMarta Llopis (Tänzerin)\nAly Khamees (Tänzer)\nAline Gia Perino (Tänzerin)\nAlessandro Olla (Komposition)\nAdriana Carlota Berwt (Szenografie) \nRebeka Mondovics (Choreografin)\nVito Vidovic Bintchende (Tänzer)
URL:https://www.stanzerei-baden.ch/kultur/tanz-im-offenen-raum
CATEGORIES:ENDLICH MITTWOCH!,TANZ
ATTACH;FMTTYPE=image/jpeg:https://www.stanzerei-baden.ch/wp-content/uploads/2024/02/240327_TANZ-IM-OFFENEN-RAUM.jpeg
ORGANIZER;CN="ENDLICH MITTWOCH!":MAILTO:endlichmittwoch@stanzerei-baden.ch
END:VEVENT
END:VCALENDAR