BEGIN:VCALENDAR
VERSION:2.0
PRODID:-//Aktionshalle Stanzerei - ECPv6.15.20//NONSGML v1.0//EN
CALSCALE:GREGORIAN
METHOD:PUBLISH
X-WR-CALNAME:Aktionshalle Stanzerei
X-ORIGINAL-URL:https://www.stanzerei-baden.ch
X-WR-CALDESC:Veranstaltungen für Aktionshalle Stanzerei
REFRESH-INTERVAL;VALUE=DURATION:PT1H
X-Robots-Tag:noindex
X-PUBLISHED-TTL:PT1H
BEGIN:VTIMEZONE
TZID:Europe/Zurich
BEGIN:DAYLIGHT
TZOFFSETFROM:+0100
TZOFFSETTO:+0200
TZNAME:CEST
DTSTART:20230326T010000
END:DAYLIGHT
BEGIN:STANDARD
TZOFFSETFROM:+0200
TZOFFSETTO:+0100
TZNAME:CET
DTSTART:20231029T010000
END:STANDARD
BEGIN:DAYLIGHT
TZOFFSETFROM:+0100
TZOFFSETTO:+0200
TZNAME:CEST
DTSTART:20240331T010000
END:DAYLIGHT
BEGIN:STANDARD
TZOFFSETFROM:+0200
TZOFFSETTO:+0100
TZNAME:CET
DTSTART:20241027T010000
END:STANDARD
BEGIN:DAYLIGHT
TZOFFSETFROM:+0100
TZOFFSETTO:+0200
TZNAME:CEST
DTSTART:20250330T010000
END:DAYLIGHT
BEGIN:STANDARD
TZOFFSETFROM:+0200
TZOFFSETTO:+0100
TZNAME:CET
DTSTART:20251026T010000
END:STANDARD
END:VTIMEZONE
BEGIN:VEVENT
DTSTART;TZID=Europe/Zurich:20240410T201500
DTEND;TZID=Europe/Zurich:20240410T201500
DTSTAMP:20260425T195600
CREATED:20240117T175744Z
LAST-MODIFIED:20240201T220001Z
UID:10000929-1712780100-1712780100@www.stanzerei-baden.ch
SUMMARY:STRÖINER
DESCRIPTION:Ströiners Deep-Jazz entsteht aus Folk\, Minimalmusik\, einem gehäuften Esslöffel Rock und einem gestrichenen Teelöffel Jazz und ist ein\nKontrast zum gewohnten harmonisch\, gefahrlosen Klangbild. Das Schlagwerk\, rumpelnd und zischend\, verschmilzt prächtig mit dem\nbrummenden\, ächzenden Kontrabass und der ratternden\, pumpenden Kontrabassklarinette. Doch auch in den höchsten Tönen ihrer\nInstrumente gehen die drei spielend mit stampfenden und ungeraden Rhythmen um. \nSeit Jahren zusammen musizierend nimmt das Trio ihre Zuhörer verspielt\, frech\, knochig\, dunkel und humorvoll mit in neue und doch\nvertraute Klangwelten. \nAlfons Schröter: Kontrabass\nBoris Steiner: Schlagwerk\nBruno Strüby: Kontrabassklarinette \nwww.stroeiner.ch
URL:https://www.stanzerei-baden.ch/kultur/stroeiner
CATEGORIES:CARTEBLANCHE,ENDLICH MITTWOCH!
ATTACH;FMTTYPE=image/jpeg:https://www.stanzerei-baden.ch/wp-content/uploads/2024/01/240410_Stroeiner_Foto.jpg
ORGANIZER;CN="ENDLICH MITTWOCH!":MAILTO:endlichmittwoch@stanzerei-baden.ch
END:VEVENT
END:VCALENDAR