BEGIN:VCALENDAR
VERSION:2.0
PRODID:-//Aktionshalle Stanzerei - ECPv6.15.20//NONSGML v1.0//EN
CALSCALE:GREGORIAN
METHOD:PUBLISH
X-WR-CALNAME:Aktionshalle Stanzerei
X-ORIGINAL-URL:https://www.stanzerei-baden.ch
X-WR-CALDESC:Veranstaltungen für Aktionshalle Stanzerei
REFRESH-INTERVAL;VALUE=DURATION:PT1H
X-Robots-Tag:noindex
X-PUBLISHED-TTL:PT1H
BEGIN:VTIMEZONE
TZID:Europe/Zurich
BEGIN:DAYLIGHT
TZOFFSETFROM:+0100
TZOFFSETTO:+0200
TZNAME:CEST
DTSTART:20230326T010000
END:DAYLIGHT
BEGIN:STANDARD
TZOFFSETFROM:+0200
TZOFFSETTO:+0100
TZNAME:CET
DTSTART:20231029T010000
END:STANDARD
BEGIN:DAYLIGHT
TZOFFSETFROM:+0100
TZOFFSETTO:+0200
TZNAME:CEST
DTSTART:20240331T010000
END:DAYLIGHT
BEGIN:STANDARD
TZOFFSETFROM:+0200
TZOFFSETTO:+0100
TZNAME:CET
DTSTART:20241027T010000
END:STANDARD
BEGIN:DAYLIGHT
TZOFFSETFROM:+0100
TZOFFSETTO:+0200
TZNAME:CEST
DTSTART:20250330T010000
END:DAYLIGHT
BEGIN:STANDARD
TZOFFSETFROM:+0200
TZOFFSETTO:+0100
TZNAME:CET
DTSTART:20251026T010000
END:STANDARD
END:VTIMEZONE
BEGIN:VEVENT
DTSTART;TZID=Europe/Zurich:20240501T201500
DTEND;TZID=Europe/Zurich:20240501T201500
DTSTAMP:20260425T163809
CREATED:20230729T162902Z
LAST-MODIFIED:20240223T165456Z
UID:10000906-1714594500-1714594500@www.stanzerei-baden.ch
SUMMARY:ZUMTHOR – THINGS ARE GOING DOWN
DESCRIPTION:Things are going down \nFor piano player and piano tuner \nTritt der Klavierstimmer normalerweise ohne Publikum vor Konzerten in Erscheinung\, ist er hier im Zentrum des musikalischen Geschehens. Er stimmt oder verstimmt den Flügel\, während darauf gespielt wird. «Things are going down» titelt Zumthor seine spektakuläre Komposition für Klavierspieler und Klavierstimmer. Der Klavierspieler fächert durch schnelles\, repetitives Anschlagen wohltemperierte Oktaven auf. Der Klavierstimmer beginnt nun das Instrument allmählich runterzustimmen. Das ansonsten in seinen Tonhöhen starre Instrument gerät in Bewegung\, der gesamte Klavierklang stürzt langsam in die Tiefe. Es entsteht eine sich stetig verändernde\, immersive Klangglocke jenseits herkömmlicher Stimmungen. Unterwegs nach unten erklingen verblüffende akustische Verwirbelungen und der Flügel beginnt vielstimmig zu singen\, zu brüllen\, zu dröhnen\, zu wummern\, zu klappern\, zu flüstern. Eine hochenergetische Musik kommt zum Vorschein\, die uns in unserem Innersten anzufassen scheint. \nPeter Conradin Zumthor Klavierspieler\, Komposition\nRené Waldhauser aka Franz Stimmhammer Klavierstimmer
URL:https://www.stanzerei-baden.ch/kultur/zumthor-things-are-going-down
CATEGORIES:ENDLICH MITTWOCH!,ZUMTHOR
ATTACH;FMTTYPE=image/jpeg:https://www.stanzerei-baden.ch/wp-content/uploads/2023/07/Foto-things-are-going-down-HitschPhotography.jpg
ORGANIZER;CN="ENDLICH MITTWOCH!":MAILTO:endlichmittwoch@stanzerei-baden.ch
END:VEVENT
END:VCALENDAR