BEGIN:VCALENDAR
VERSION:2.0
PRODID:-//Aktionshalle Stanzerei - ECPv6.15.20//NONSGML v1.0//EN
CALSCALE:GREGORIAN
METHOD:PUBLISH
X-ORIGINAL-URL:https://www.stanzerei-baden.ch
X-WR-CALDESC:Veranstaltungen für Aktionshalle Stanzerei
REFRESH-INTERVAL;VALUE=DURATION:PT1H
X-Robots-Tag:noindex
X-PUBLISHED-TTL:PT1H
BEGIN:VTIMEZONE
TZID:Europe/Zurich
BEGIN:DAYLIGHT
TZOFFSETFROM:+0100
TZOFFSETTO:+0200
TZNAME:CEST
DTSTART:20230326T010000
END:DAYLIGHT
BEGIN:STANDARD
TZOFFSETFROM:+0200
TZOFFSETTO:+0100
TZNAME:CET
DTSTART:20231029T010000
END:STANDARD
BEGIN:DAYLIGHT
TZOFFSETFROM:+0100
TZOFFSETTO:+0200
TZNAME:CEST
DTSTART:20240331T010000
END:DAYLIGHT
BEGIN:STANDARD
TZOFFSETFROM:+0200
TZOFFSETTO:+0100
TZNAME:CET
DTSTART:20241027T010000
END:STANDARD
BEGIN:DAYLIGHT
TZOFFSETFROM:+0100
TZOFFSETTO:+0200
TZNAME:CEST
DTSTART:20250330T010000
END:DAYLIGHT
BEGIN:STANDARD
TZOFFSETFROM:+0200
TZOFFSETTO:+0100
TZNAME:CET
DTSTART:20251026T010000
END:STANDARD
END:VTIMEZONE
BEGIN:VEVENT
DTSTART;TZID=Europe/Zurich:20240515T201500
DTEND;TZID=Europe/Zurich:20240515T201500
DTSTAMP:20260425T182346
CREATED:20240205T163024Z
LAST-MODIFIED:20240205T163707Z
UID:10000933-1715804100-1715804100@www.stanzerei-baden.ch
SUMMARY:SEULE
DESCRIPTION:Ein Stück über eine Beziehung\, ihr Ende und das letzte Telefonat dazu. \nWir erleben die emotionalen Höhen und Tiefen einer Schauspielerin\, die sich in all ihrem Elend bemüht\, stark und tapfer zu sein. Zusätzlich zu Stimme und Musik wird ihre Rolle von einer Tänzerin verkörpert. \nIn ´La voix humaine´ von Francis Poulenc\, nach einem Text von Jean Cocteau\, hört man ihr letztes Telefonat mit dem Ex. Das Telefonkabel als letzter Draht zum Geliebten. \nIn SEULE erklingen Teile dieser Mono-Oper sowie Werke von Debussy\, Chausson\, Barbara und Jacques Brel. \nMarian Dijkhuizen\, Stimme\nAnne Jung\, Tanz\nRahel Sohn\, Klavier
URL:https://www.stanzerei-baden.ch/kultur/seule
CATEGORIES:ENDLICH MITTWOCH!,TANZ
ATTACH;FMTTYPE=image/jpeg:https://www.stanzerei-baden.ch/wp-content/uploads/2024/02/240515_Seule.jpg
ORGANIZER;CN="ENDLICH MITTWOCH!":MAILTO:endlichmittwoch@stanzerei-baden.ch
END:VEVENT
END:VCALENDAR