BEGIN:VCALENDAR
VERSION:2.0
PRODID:-//Aktionshalle Stanzerei - ECPv6.15.20//NONSGML v1.0//EN
CALSCALE:GREGORIAN
METHOD:PUBLISH
X-ORIGINAL-URL:https://www.stanzerei-baden.ch
X-WR-CALDESC:Veranstaltungen für Aktionshalle Stanzerei
REFRESH-INTERVAL;VALUE=DURATION:PT1H
X-Robots-Tag:noindex
X-PUBLISHED-TTL:PT1H
BEGIN:VTIMEZONE
TZID:Europe/Zurich
BEGIN:DAYLIGHT
TZOFFSETFROM:+0100
TZOFFSETTO:+0200
TZNAME:CEST
DTSTART:20230326T010000
END:DAYLIGHT
BEGIN:STANDARD
TZOFFSETFROM:+0200
TZOFFSETTO:+0100
TZNAME:CET
DTSTART:20231029T010000
END:STANDARD
BEGIN:DAYLIGHT
TZOFFSETFROM:+0100
TZOFFSETTO:+0200
TZNAME:CEST
DTSTART:20240331T010000
END:DAYLIGHT
BEGIN:STANDARD
TZOFFSETFROM:+0200
TZOFFSETTO:+0100
TZNAME:CET
DTSTART:20241027T010000
END:STANDARD
BEGIN:DAYLIGHT
TZOFFSETFROM:+0100
TZOFFSETTO:+0200
TZNAME:CEST
DTSTART:20250330T010000
END:DAYLIGHT
BEGIN:STANDARD
TZOFFSETFROM:+0200
TZOFFSETTO:+0100
TZNAME:CET
DTSTART:20251026T010000
END:STANDARD
END:VTIMEZONE
BEGIN:VEVENT
DTSTART;TZID=Europe/Zurich:20240926T200000
DTEND;TZID=Europe/Zurich:20240926T200000
DTSTAMP:20260423T014922
CREATED:20240912T080017Z
LAST-MODIFIED:20240912T094116Z
UID:10000963-1727380800-1727380800@www.stanzerei-baden.ch
SUMMARY:BLUUS CLUB präsentiert: Shanna Waterstown (USA)
DESCRIPTION:Shanna Waterstown ist eine echte «Blueswoman»\, die mit ihrer warmen\, sinnlichen\, kraftvollen und authentischen Stimme und eigens komponierten Bluessongs überzeugt. \nShanna Waterstown wuchs im tiefen Süden in Florida als Gospelsängerin einer kleinen Baptistengemeinde auf. Inspiriert von Motown Soul\, Country und Gospel gründete sie im jungen Teenageralter ihre erste lokale Band und übte sich im Komponieren und Kreieren von Musikstücken. Nachdem sie von einem französischen Produzenten entdeckt wurde und ihre erste Single aufnahm\, tourte Shanna Waterstown in ganz Europa und etablierte sich zu einer bedeutenden amerikanischen Künstlerin\, die gemeinsam mit James Brown\, Buddy Guy\, Maceo Parker\, Matt Bianco\, Louisiana Red und Mud Morganfield auf der Bühne stand. Nach jahrelangem Touren nahm Shanna Waterstown 2008 ihr erstes Blues-Album «Inside my Blues» auf\, das ausschliesslich von ihr selbst gesungene Eigenkompositionen enthält. Im Moment ist sie im Produktionsprozess ihres zweiten Albums\, ebenfalls mit einem komplett eigenen Repertoire im Blues- und Soul-Stil. \n  \n \n\nShanna Waterstown – Gesang  \n  \nWeitere Informationen finden Sie hier.
URL:https://www.stanzerei-baden.ch/kultur/bluus-club-praesentiert-shanna-waterstown-usa
CATEGORIES:Blues,Bluus
ATTACH;FMTTYPE=image/jpeg:https://www.stanzerei-baden.ch/wp-content/uploads/2024/09/BluusClub_ShanaWaterstown_26.09.24.jpg
END:VEVENT
END:VCALENDAR