BEGIN:VCALENDAR
VERSION:2.0
PRODID:-//Aktionshalle Stanzerei - ECPv6.15.20//NONSGML v1.0//EN
CALSCALE:GREGORIAN
METHOD:PUBLISH
X-ORIGINAL-URL:https://www.stanzerei-baden.ch
X-WR-CALDESC:Veranstaltungen für Aktionshalle Stanzerei
REFRESH-INTERVAL;VALUE=DURATION:PT1H
X-Robots-Tag:noindex
X-PUBLISHED-TTL:PT1H
BEGIN:VTIMEZONE
TZID:Europe/Zurich
BEGIN:DAYLIGHT
TZOFFSETFROM:+0100
TZOFFSETTO:+0200
TZNAME:CEST
DTSTART:20230326T010000
END:DAYLIGHT
BEGIN:STANDARD
TZOFFSETFROM:+0200
TZOFFSETTO:+0100
TZNAME:CET
DTSTART:20231029T010000
END:STANDARD
BEGIN:DAYLIGHT
TZOFFSETFROM:+0100
TZOFFSETTO:+0200
TZNAME:CEST
DTSTART:20240331T010000
END:DAYLIGHT
BEGIN:STANDARD
TZOFFSETFROM:+0200
TZOFFSETTO:+0100
TZNAME:CET
DTSTART:20241027T010000
END:STANDARD
BEGIN:DAYLIGHT
TZOFFSETFROM:+0100
TZOFFSETTO:+0200
TZNAME:CEST
DTSTART:20250330T010000
END:DAYLIGHT
BEGIN:STANDARD
TZOFFSETFROM:+0200
TZOFFSETTO:+0100
TZNAME:CET
DTSTART:20251026T010000
END:STANDARD
END:VTIMEZONE
BEGIN:VEVENT
DTSTART;TZID=Europe/Zurich:20241023T201500
DTEND;TZID=Europe/Zurich:20241023T201500
DTSTAMP:20260422T235354
CREATED:20240710T164637Z
LAST-MODIFIED:20240919T081726Z
UID:10000935-1729714500-1729714500@www.stanzerei-baden.ch
SUMMARY:SAISONERÖFFNUNG
DESCRIPTION:Start der ENDLICH MITTWOCH!-Saison 2024/25 in der Stanzerei Baden: eine bunte Vorstellung mit Musik\, Gesang und Schauspiel. Feiert mit uns und geniesst das Spezialprogramm voller Überraschungen. Mit Corin Curschellas\, Claude Meier\, Fabian F. Müller\, Annakin\, Tom Etter\, Dimos Vryzas (Musik)\, Romeo Meyer\, Timos Papadopoulos (Schauspiel).
URL:https://www.stanzerei-baden.ch/kultur/eroeffnung
CATEGORIES:CARTEBLANCHE,ENDLICH MITTWOCH!
ATTACH;FMTTYPE=image/png:https://www.stanzerei-baden.ch/wp-content/uploads/2024/07/241023_Eroeffnung-EM-Copy.png
ORGANIZER;CN="ENDLICH MITTWOCH!":MAILTO:endlichmittwoch@stanzerei-baden.ch
END:VEVENT
END:VCALENDAR