BEGIN:VCALENDAR
VERSION:2.0
PRODID:-//Aktionshalle Stanzerei - ECPv6.15.20//NONSGML v1.0//EN
CALSCALE:GREGORIAN
METHOD:PUBLISH
X-ORIGINAL-URL:https://www.stanzerei-baden.ch
X-WR-CALDESC:Veranstaltungen für Aktionshalle Stanzerei
REFRESH-INTERVAL;VALUE=DURATION:PT1H
X-Robots-Tag:noindex
X-PUBLISHED-TTL:PT1H
BEGIN:VTIMEZONE
TZID:Europe/Zurich
BEGIN:DAYLIGHT
TZOFFSETFROM:+0100
TZOFFSETTO:+0200
TZNAME:CEST
DTSTART:20230326T010000
END:DAYLIGHT
BEGIN:STANDARD
TZOFFSETFROM:+0200
TZOFFSETTO:+0100
TZNAME:CET
DTSTART:20231029T010000
END:STANDARD
BEGIN:DAYLIGHT
TZOFFSETFROM:+0100
TZOFFSETTO:+0200
TZNAME:CEST
DTSTART:20240331T010000
END:DAYLIGHT
BEGIN:STANDARD
TZOFFSETFROM:+0200
TZOFFSETTO:+0100
TZNAME:CET
DTSTART:20241027T010000
END:STANDARD
BEGIN:DAYLIGHT
TZOFFSETFROM:+0100
TZOFFSETTO:+0200
TZNAME:CEST
DTSTART:20250330T010000
END:DAYLIGHT
BEGIN:STANDARD
TZOFFSETFROM:+0200
TZOFFSETTO:+0100
TZNAME:CET
DTSTART:20251026T010000
END:STANDARD
END:VTIMEZONE
BEGIN:VEVENT
DTSTART;TZID=Europe/Zurich:20241030T201500
DTEND;TZID=Europe/Zurich:20241030T201500
DTSTAMP:20260423T011940
CREATED:20240711T105908Z
LAST-MODIFIED:20240912T193841Z
UID:10000937-1730319300-1730319300@www.stanzerei-baden.ch
SUMMARY:OXEON: LEA GASSER & SYLVIE KLIJN
DESCRIPTION:OXEON colourful & intimate jazz \nSylvie Klijn – voc\, fx\, comp // Lea Gasser – acc\, fx\, comp \nDas Duo OXEON kreiert vielseitige Dialoge zwischen Stimme und Akkordeon: mal Unisono\, dann polyphon\, intim und extrovertiert\, melancholisch und fordernd. Durch Improvisation und Komposition entsteht eine lebendige und persönliche Musik\, die zart in ferne Welten entführt. \nOXEON spielt eigene Jazz-Kompositionen und arrangiert klassische Werke. Das Repertoire des Duos beinhaltet Texte auf Englisch\, Holländisch und Italienisch und wird durch das Hinzufügen von Effektpedalen durch noch mehr Farben und Texturen angereichert – persönliche und zeitgenössische Arrangements werden zum Leben erweckt. Mit einer Ausbildung in klassischer Musik und Jazz finden die Schweizer Akkordeonistin und die Holländische Sängerin\, die beide in Lausanne leben\, in diesem Projekt eine eindringliche Symbiose. \nDas Duo spielte unter anderem am Schaffhauser Jazzfestival 2024\, am Internationalen Akkordeonfestival Wien 2023\, an den Langnau Jazz Nights 2023\, dem Festival JazzContreBand 2023\, am Mikrojazzfestival Die letzten Tage 2021 in Bern\, am Festival Riposte 2021 in Lausanne und live im SRF. 2024 wurde OXEON für den Edison Klassik Preis in den Niederlanden nominiert.
URL:https://www.stanzerei-baden.ch/kultur/oxeon
CATEGORIES:CARTEBLANCHE,ENDLICH MITTWOCH!
ATTACH;FMTTYPE=image/jpeg:https://www.stanzerei-baden.ch/wp-content/uploads/2024/07/241030_OXEON.jpg
ORGANIZER;CN="ENDLICH MITTWOCH!":MAILTO:endlichmittwoch@stanzerei-baden.ch
END:VEVENT
END:VCALENDAR