BEGIN:VCALENDAR
VERSION:2.0
PRODID:-//Aktionshalle Stanzerei - ECPv6.15.20//NONSGML v1.0//EN
CALSCALE:GREGORIAN
METHOD:PUBLISH
X-WR-CALNAME:Aktionshalle Stanzerei
X-ORIGINAL-URL:https://www.stanzerei-baden.ch
X-WR-CALDESC:Veranstaltungen für Aktionshalle Stanzerei
REFRESH-INTERVAL;VALUE=DURATION:PT1H
X-Robots-Tag:noindex
X-PUBLISHED-TTL:PT1H
BEGIN:VTIMEZONE
TZID:Europe/Zurich
BEGIN:DAYLIGHT
TZOFFSETFROM:+0100
TZOFFSETTO:+0200
TZNAME:CEST
DTSTART:20230326T010000
END:DAYLIGHT
BEGIN:STANDARD
TZOFFSETFROM:+0200
TZOFFSETTO:+0100
TZNAME:CET
DTSTART:20231029T010000
END:STANDARD
BEGIN:DAYLIGHT
TZOFFSETFROM:+0100
TZOFFSETTO:+0200
TZNAME:CEST
DTSTART:20240331T010000
END:DAYLIGHT
BEGIN:STANDARD
TZOFFSETFROM:+0200
TZOFFSETTO:+0100
TZNAME:CET
DTSTART:20241027T010000
END:STANDARD
BEGIN:DAYLIGHT
TZOFFSETFROM:+0100
TZOFFSETTO:+0200
TZNAME:CEST
DTSTART:20250330T010000
END:DAYLIGHT
BEGIN:STANDARD
TZOFFSETFROM:+0200
TZOFFSETTO:+0100
TZNAME:CET
DTSTART:20251026T010000
END:STANDARD
END:VTIMEZONE
BEGIN:VEVENT
DTSTART;TZID=Europe/Zurich:20241120T201500
DTEND;TZID=Europe/Zurich:20241120T201500
DTSTAMP:20260422T220955
CREATED:20240711T200133Z
LAST-MODIFIED:20241010T185438Z
UID:10000939-1732133700-1732133700@www.stanzerei-baden.ch
SUMMARY:VOICES FROM... OUR PARTNERS IN CRIME - MORDSLIEDER
DESCRIPTION:ANNAKIN PRESENTS \nVOICES FROM…\nOUR PARTNERS IN CRIME – MORDSLIEDER \nANNAKIN * ED HARCOURT * DOMINIQUE MÜLLER\nMit der Tänzerin Christina Szegedi und einem Local Hero aus dem Gefängnis \n  \nVoices from … ist eine abendfüllende Konzertreihe\, die über ein Musikerlebnis hinausgeht. Mit hochkarätigen Performances\, spannenden Hintergrundinformationen\, berührenden Geschichten und humorvollen Anekdoten. Mit den local heroes und den rising stars\, von ernst bis fröhlich und immer unterhaltsam – tanzend\, spielend oder lesend. Sinnlich\, ein bisschen frech auch – aber anders als Vieles. Und nahe am Thema und am Herzen. \n  \n„Voices from . . . Our Partners in Crime – Mordslieder“ befasst sich mit den Stimmen\, welche die Details der Verbrechen aus Leidenschaft und deren Konsequenzen aufdecken. Annakin und ihre Partners in Crime spielen live eine Auswahl an Mordsliedern und bringen ans Licht\, was hinter Michael Jacksons „Smooth Criminal“ und der brutalen Schilderung des Tathergangs einer Mörderballade von Nick Cave and the Bad Seeds steckt. Und „Stan“\, der verrückte Fan von Eminem wird analysiert – worauf Annakin ihren Englischen Sideman Ed Harcourt natürlich fragen wird\, ob sie nicht alle ein bisschen verrückt sind\, die Fans? Aber auch ein Schweizer Mordslied und Annakins Sichtweise zum Thema aus ihrem grossen Back Catalogue werden in dieser neuen Konzertreihe jeweils nicht fehlen. \nEin Badener Sozialarbeiter aus dem Gefängnis ist der Gast des Abends und erzählt von seinen Erlebnissen mit den harten Jungs. Die Badener Tänzerin Christina Szegedi beleuchtet das Thema mit ihrer Kunstform von einer ganz anderen Seite und zeigt mit zwei ausdrucksstarken Tänzen eine neue Bedeutungsebene auf. Annakin und der Schauspieler und Musikliebhaber Dominique Müller führen zusammen durch den Abend. Sie leiten ins Thema ein\, gehen den Songs und Lyrics auf den Grund und verbinden diese mit selbsterlebten Anekdoten\, zu denen jeweils auch Ed Harcourt und bestimmt auch das Publikum noch ein Wörtchen mitzureden haben.
URL:https://www.stanzerei-baden.ch/kultur/voices-from-our-partner-im-crime-mordslieder
CATEGORIES:ENDLICH MITTWOCH!,Voices from ...
ATTACH;FMTTYPE=image/jpeg:https://www.stanzerei-baden.ch/wp-content/uploads/2024/07/Voices-from-our-partners-in-crime-online-3_2.jpg
ORGANIZER;CN="ENDLICH MITTWOCH!":MAILTO:endlichmittwoch@stanzerei-baden.ch
END:VEVENT
END:VCALENDAR