BEGIN:VCALENDAR
VERSION:2.0
PRODID:-//Aktionshalle Stanzerei - ECPv6.15.20//NONSGML v1.0//EN
CALSCALE:GREGORIAN
METHOD:PUBLISH
X-ORIGINAL-URL:https://www.stanzerei-baden.ch
X-WR-CALDESC:Veranstaltungen für Aktionshalle Stanzerei
REFRESH-INTERVAL;VALUE=DURATION:PT1H
X-Robots-Tag:noindex
X-PUBLISHED-TTL:PT1H
BEGIN:VTIMEZONE
TZID:Europe/Zurich
BEGIN:DAYLIGHT
TZOFFSETFROM:+0100
TZOFFSETTO:+0200
TZNAME:CEST
DTSTART:20230326T010000
END:DAYLIGHT
BEGIN:STANDARD
TZOFFSETFROM:+0200
TZOFFSETTO:+0100
TZNAME:CET
DTSTART:20231029T010000
END:STANDARD
BEGIN:DAYLIGHT
TZOFFSETFROM:+0100
TZOFFSETTO:+0200
TZNAME:CEST
DTSTART:20240331T010000
END:DAYLIGHT
BEGIN:STANDARD
TZOFFSETFROM:+0200
TZOFFSETTO:+0100
TZNAME:CET
DTSTART:20241027T010000
END:STANDARD
BEGIN:DAYLIGHT
TZOFFSETFROM:+0100
TZOFFSETTO:+0200
TZNAME:CEST
DTSTART:20250330T010000
END:DAYLIGHT
BEGIN:STANDARD
TZOFFSETFROM:+0200
TZOFFSETTO:+0100
TZNAME:CET
DTSTART:20251026T010000
END:STANDARD
END:VTIMEZONE
BEGIN:VEVENT
DTSTART;TZID=Europe/Zurich:20241204T201500
DTEND;TZID=Europe/Zurich:20241204T201500
DTSTAMP:20260422T221216
CREATED:20240711T202954Z
LAST-MODIFIED:20240829T134603Z
UID:10000941-1733343300-1733343300@www.stanzerei-baden.ch
SUMMARY:DOPPEL3
DESCRIPTION:Doppel3 – Jazz & Literatur \nEin improvisierendes Jazz-Trio lädt ein Autoren-Trio ein zum gemeinsamen Konzert. Claude Meier (Bass)\, Marco Käppeli (Schlagzeug) und Ruedi Häusermann (Bassklarinette\, Flöten) sind eine eingespielte Formation\, welche immer mal wieder Gäste zu sich auf die Bühne holt. Diesmal sind es gleich deren drei. Die Autoren Beat Sterchi\, Pedro Lenz und Guy Krneta haben vor zwanzig Jahren das Spoken-Word-Ensemble «Bern ist überall» aus der Taufe gehoben und zu dritt an Ruedi Häusermanns Lenzburger Produktion «Ängelrain» mitgewirkt. Im Doppel3 begegnen sich Text und Musik\, sie lösen sich gegenseitig ab\, laden sich auf\, wirken aufeinander ein\, überlappen\, überlagern sich und bilden eine eigene Welt: Schräg und erhellend\, ungewohnt und unterhaltsam. Baden raunt sich im Versteckten zu: «Könnte ev. gut werden!».
URL:https://www.stanzerei-baden.ch/kultur/doppel3
CATEGORIES:ENDLICH MITTWOCH!,KLASSIKHALT
ATTACH;FMTTYPE=image/jpeg:https://www.stanzerei-baden.ch/wp-content/uploads/2024/07/241204_Doppel3-Collage-.jpg
ORGANIZER;CN="ENDLICH MITTWOCH!":MAILTO:endlichmittwoch@stanzerei-baden.ch
END:VEVENT
END:VCALENDAR