BEGIN:VCALENDAR
VERSION:2.0
PRODID:-//Aktionshalle Stanzerei - ECPv6.15.20//NONSGML v1.0//EN
CALSCALE:GREGORIAN
METHOD:PUBLISH
X-WR-CALNAME:Aktionshalle Stanzerei
X-ORIGINAL-URL:https://www.stanzerei-baden.ch
X-WR-CALDESC:Veranstaltungen für Aktionshalle Stanzerei
REFRESH-INTERVAL;VALUE=DURATION:PT1H
X-Robots-Tag:noindex
X-PUBLISHED-TTL:PT1H
BEGIN:VTIMEZONE
TZID:Europe/Zurich
BEGIN:DAYLIGHT
TZOFFSETFROM:+0100
TZOFFSETTO:+0200
TZNAME:CEST
DTSTART:20240331T010000
END:DAYLIGHT
BEGIN:STANDARD
TZOFFSETFROM:+0200
TZOFFSETTO:+0100
TZNAME:CET
DTSTART:20241027T010000
END:STANDARD
BEGIN:DAYLIGHT
TZOFFSETFROM:+0100
TZOFFSETTO:+0200
TZNAME:CEST
DTSTART:20250330T010000
END:DAYLIGHT
BEGIN:STANDARD
TZOFFSETFROM:+0200
TZOFFSETTO:+0100
TZNAME:CET
DTSTART:20251026T010000
END:STANDARD
BEGIN:DAYLIGHT
TZOFFSETFROM:+0100
TZOFFSETTO:+0200
TZNAME:CEST
DTSTART:20260329T010000
END:DAYLIGHT
BEGIN:STANDARD
TZOFFSETFROM:+0200
TZOFFSETTO:+0100
TZNAME:CET
DTSTART:20261025T010000
END:STANDARD
END:VTIMEZONE
BEGIN:VEVENT
DTSTART;TZID=Europe/Zurich:20250423T200000
DTEND;TZID=Europe/Zurich:20250423T200000
DTSTAMP:20260422T184734
CREATED:20240713T102303Z
LAST-MODIFIED:20250320T112534Z
UID:10000953-1745438400-1745438400@www.stanzerei-baden.ch
SUMMARY:CLOSE ENCOUNTERS
DESCRIPTION:CLOSE ENCOUNTERS\nImmersive und interaktive Virtual Reality-Installation über das Zusammentreffen auseinanderdriftender Welten\nvon pulp.noir\n\n„Sich freundschaftlich begegnen? Wie geht das\, wenn unvereinbare Anschauungen & Lebenswelten zwischen uns stehen?“\n– Das ist die Frage; und die Antwort ist weit und breit nicht in Sicht. Darum begeben sich die Besucher:innen von ‘Close Encounters’ auf eine immersive & interaktive Expedition. Ausgerüstet mit einer Virtual Reality-Brille beamen sie sich in ein Paralleluniversum und erkunden eine Welt\, die ähnlich tiefe Gräben kennt wie unsere\, aber darüber hinaus vielleicht ein Mittel\, sie zu überbrücken.\n\nDie Reise führt durch ein Labyrinth aus surrealen Bild- & Klanglandschaften\, die von Tänzer:innen & Schauspieler:innen bevölkert werden (bzw. von ihren dreidimensional gescannten Avataren). Hier haben alle einen diametralen Gegenpart\, aber sie spielen trotzdem eng als Duo zusammen\, indem sie bei den gemeinsamen Berührungspunkten ansetzen statt beim Streitpunkt.\n\n\nUnd weil der Blick durch diese Brille angesichts der gewaltvollen Konflikte in der realen Welt doch recht poetisch ist\, kommen zusätzlich einschlägige Expert:innen zu Wort\, die das Thema vom echten Leben her beleuchten.\n\n\nDie Gruppe pulp.noir operiert an der Schnittstelle zwischen den Künsten und behandelt Fälle des allzu Menschlichen sowie akute gesellschafts-politische Fragen. Kollektiv experimentiert sie an neuen Formen und testet sie an diversen Menschen in Kunsträumen\, Theatern & Musikclubs\, und seit der Gegenwart auch im digitalen Raum.\n\n\nMitwirkende:\nTanz: Issue Park\, Wellington Gadelha\nDichtung: Raphael Urweider\nSchauspiel: Wanda Wylowa\, Stefan Schönholzer\, Diana Rojas\nMusik: Christian Rösli\nVR/Videokunst: Julia Maria Morf\n\n\nSounddesign: Simon Huber\nVR-Coding: Timon Sager\n3D-Engineering: Samuel Bienz\nVolumetric Set-up: Chris Blaser\nKostümherstellung: Melika Afshari\nKonzeption\, multi-art Komposition: Thomas Fischer\n\n\nExpert:innenstimmen\nPolitologin: Denise Traber\nBuddhistischer Mönch: Andre Feitos de Sousa\nPsychiaterin: Csilla Békés\nSoziologe: Helmut Vogel\nZukunftsforscherin: Isabelle Vuong\n\nVorstellung 1: 19:00 Uhr\nVorstellung 2: 20:00 Uhr\nVorstellung 3: 21:00 Uhr \nDauer ca. 50′ \nAm 23.04.2025 mit Julia Maria Morf und Wanda Wylowa \n\n  
URL:https://www.stanzerei-baden.ch/kultur/close-encounters
CATEGORIES:CARTEBLANCHE,ENDLICH MITTWOCH!
ATTACH;FMTTYPE=image/jpeg:https://www.stanzerei-baden.ch/wp-content/uploads/2024/07/Close_Encounters_pulp.noir-2-e1740408015186.jpg
ORGANIZER;CN="ENDLICH MITTWOCH!":MAILTO:endlichmittwoch@stanzerei-baden.ch
END:VEVENT
BEGIN:VEVENT
DTSTART;TZID=Europe/Zurich:20250423T210000
DTEND;TZID=Europe/Zurich:20250423T210000
DTSTAMP:20260422T184734
CREATED:20250320T112630Z
LAST-MODIFIED:20250320T112921Z
UID:10000977-1745442000-1745442000@www.stanzerei-baden.ch
SUMMARY:CLOSE ENCOUNTERS
DESCRIPTION:CLOSE ENCOUNTERS\nImmersive und interaktive Virtual Reality-Installation über das Zusammentreffen auseinanderdriftender Welten\nvon pulp.noir\n\n„Sich freundschaftlich begegnen? Wie geht das\, wenn unvereinbare Anschauungen & Lebenswelten zwischen uns stehen?“\n– Das ist die Frage; und die Antwort ist weit und breit nicht in Sicht. Darum begeben sich die Besucher:innen von ‘Close Encounters’ auf eine immersive & interaktive Expedition. Ausgerüstet mit einer Virtual Reality-Brille beamen sie sich in ein Paralleluniversum und erkunden eine Welt\, die ähnlich tiefe Gräben kennt wie unsere\, aber darüber hinaus vielleicht ein Mittel\, sie zu überbrücken.\n\nDie Reise führt durch ein Labyrinth aus surrealen Bild- & Klanglandschaften\, die von Tänzer:innen & Schauspieler:innen bevölkert werden (bzw. von ihren dreidimensional gescannten Avataren). Hier haben alle einen diametralen Gegenpart\, aber sie spielen trotzdem eng als Duo zusammen\, indem sie bei den gemeinsamen Berührungspunkten ansetzen statt beim Streitpunkt.\n\n\nUnd weil der Blick durch diese Brille angesichts der gewaltvollen Konflikte in der realen Welt doch recht poetisch ist\, kommen zusätzlich einschlägige Expert:innen zu Wort\, die das Thema vom echten Leben her beleuchten.\n\n\nDie Gruppe pulp.noir operiert an der Schnittstelle zwischen den Künsten und behandelt Fälle des allzu Menschlichen sowie akute gesellschafts-politische Fragen. Kollektiv experimentiert sie an neuen Formen und testet sie an diversen Menschen in Kunsträumen\, Theatern & Musikclubs\, und seit der Gegenwart auch im digitalen Raum.\n\n\nMitwirkende:\nTanz: Issue Park\, Wellington Gadelha\nDichtung: Raphael Urweider\nSchauspiel: Wanda Wylowa\, Stefan Schönholzer\, Diana Rojas\nMusik: Christian Rösli\nVR/Videokunst: Julia Maria Morf\n\n\nSounddesign: Simon Huber\nVR-Coding: Timon Sager\n3D-Engineering: Samuel Bienz\nVolumetric Set-up: Chris Blaser\nKostümherstellung: Melika Afshari\nKonzeption\, multi-art Komposition: Thomas Fischer\n\n\nExpert:innenstimmen\nPolitologin: Denise Traber\nBuddhistischer Mönch: Andre Feitos de Sousa\nPsychiaterin: Csilla Békés\nSoziologe: Helmut Vogel\nZukunftsforscherin: Isabelle Vuong\n\nVorstellung 1: 19:00 Uhr\nVorstellung 2: 20:00 Uhr\nVorstellung 3: 21:00 Uhr \nDauer ca. 50′ \nAm 23.04.2025 mit Julia Maria Morf und Wanda Wylowa \n\n  
URL:https://www.stanzerei-baden.ch/kultur/close-encounters-2
CATEGORIES:CARTEBLANCHE,ENDLICH MITTWOCH!
ATTACH;FMTTYPE=image/jpeg:https://www.stanzerei-baden.ch/wp-content/uploads/2024/07/Close_Encounters_pulp.noir-8-e1742470154539.jpg
ORGANIZER;CN="ENDLICH MITTWOCH!":MAILTO:endlichmittwoch@stanzerei-baden.ch
END:VEVENT
END:VCALENDAR