BEGIN:VCALENDAR
VERSION:2.0
PRODID:-//Aktionshalle Stanzerei - ECPv6.15.20//NONSGML v1.0//EN
CALSCALE:GREGORIAN
METHOD:PUBLISH
X-ORIGINAL-URL:https://www.stanzerei-baden.ch
X-WR-CALDESC:Veranstaltungen für Aktionshalle Stanzerei
REFRESH-INTERVAL;VALUE=DURATION:PT1H
X-Robots-Tag:noindex
X-PUBLISHED-TTL:PT1H
BEGIN:VTIMEZONE
TZID:Europe/Zurich
BEGIN:DAYLIGHT
TZOFFSETFROM:+0100
TZOFFSETTO:+0200
TZNAME:CEST
DTSTART:20240331T010000
END:DAYLIGHT
BEGIN:STANDARD
TZOFFSETFROM:+0200
TZOFFSETTO:+0100
TZNAME:CET
DTSTART:20241027T010000
END:STANDARD
BEGIN:DAYLIGHT
TZOFFSETFROM:+0100
TZOFFSETTO:+0200
TZNAME:CEST
DTSTART:20250330T010000
END:DAYLIGHT
BEGIN:STANDARD
TZOFFSETFROM:+0200
TZOFFSETTO:+0100
TZNAME:CET
DTSTART:20251026T010000
END:STANDARD
BEGIN:DAYLIGHT
TZOFFSETFROM:+0100
TZOFFSETTO:+0200
TZNAME:CEST
DTSTART:20260329T010000
END:DAYLIGHT
BEGIN:STANDARD
TZOFFSETFROM:+0200
TZOFFSETTO:+0100
TZNAME:CET
DTSTART:20261025T010000
END:STANDARD
END:VTIMEZONE
BEGIN:VEVENT
DTSTART;TZID=Europe/Zurich:20250507T201500
DTEND;TZID=Europe/Zurich:20250507T201500
DTSTAMP:20260422T154831
CREATED:20240717T132620Z
LAST-MODIFIED:20240719T153251Z
UID:10000955-1746648900-1746648900@www.stanzerei-baden.ch
SUMMARY:BRIEFWEXEL - RUEDI HÄUSERMANN & ALBIN BRUN
DESCRIPTION:Der Aargauer Musiker und Theatermacher Ruedi Häusermann und der Luzerner Musiker Albin Brun pflegen seit vielen Jahren einen Briefwechsel in gereimter Form\, in welchem sie einander aus ihrem Alltag berichten. Nun bringen sie ihren „Briefwexel“ auf die Bühne und lassen damit auch einen kleinen öffentlichen Kreis an ihren persönlichen Beobachtungen und heiteren Spielereien teilhaben. Neben der Auswahl aus ihren humorvollen Texten widmen sich die beiden natürlich auch der Musik. So vermischen sich in diesem Konzert die wunderlichen zeitgenössischen Klanglandschaften Häusermanns mit Bruns volksmusikalisch durchtränkten Kompositionen. Ein heiterer\, feiner Abend. \nRuedi Häusermann: Bassklarinette\, Bassflöte\, Texte\nAlbin Brun: Tenorsax\, Schwyzerörgeli\, Texte \n  \n \n  \nRuedi Häusermanns immenses künstlerisches Schaffen passt in keine Schublade. Er inszenierte seine musiktheatralischen Abende an zahlreichen grossen Häusern wie Volksbühne Berlin\, Burgtheater Wien\, Münchner Kammerspiele\, Stuttgarter Staatsoper\, aber auch am Schauspielhaus Zürich oder im Theater Basel. Im Moment ist Ruedi Häusermann mit seiner Inszenierung von Gerhard Polts «a scheene Leich» an den Münchner Kammerspielen zu sehen. Als Musiker spielt(e) er in zahlreichen Formationen\, sein musikalisches Werk ist auf über 30 CDs dokumentiert\, aktuell ist er vor allem mit dem Trio Häusermann Meier Käppeli unterwegs. Häusermann erhielt diverse Preise wie den Kunstpreis der Stadt Zürich 2011\, den Schweizer Theaterpreis 2018 oder den Aargauer Kunstpreis 2023.\nwww.ruedihaeusermann.ch \nAlbin Brun gilt heute in der Schweiz als eine Schlüsselfigur der Szene zwischen Jazz und Zeitgenössischer Volksmusik. Er pflegt mit seinen Formationen eine intensive Konzerttätigkeit im In- und Ausland – seine Tourneen führten ihn in mehr als 25 Länder in Europa\, Afrika und Asien. Immer wieder sucht er auch den Austausch mit Musikern aus anderen Kulturen. Zudem kreierte er Musik für zahlreiche Theater\, Hörspiele\, DOK-Filme\, Tanz\, Lesungen etc. Sein Schaffen ist auf vielen CDs dokumentiert. Brun wurde mit diversen Preisen ausgezeichnet\, u.a. mit dem Kunst- und Kulturpreis der Stadt Luzern 2013 und dem Schweizer Musikpreis 2017. Aktuell ist er im Duo mit Kristina Brunner\, mit seinem Albin Brun Quartett und diversen anderen Formationen unterwegs.\nwww.albinbrun.ch
URL:https://www.stanzerei-baden.ch/kultur/briefwexel-ruedi-haeusermann-albin-brun
CATEGORIES:CARTEBLANCHE,ENDLICH MITTWOCH!
ATTACH;FMTTYPE=image/png:https://www.stanzerei-baden.ch/wp-content/uploads/2024/07/Briefwexel-2.png
ORGANIZER;CN="ENDLICH MITTWOCH!":MAILTO:endlichmittwoch@stanzerei-baden.ch
END:VEVENT
END:VCALENDAR