BEGIN:VCALENDAR
VERSION:2.0
PRODID:-//Aktionshalle Stanzerei - ECPv6.15.20//NONSGML v1.0//EN
CALSCALE:GREGORIAN
METHOD:PUBLISH
X-ORIGINAL-URL:https://www.stanzerei-baden.ch
X-WR-CALDESC:Veranstaltungen für Aktionshalle Stanzerei
REFRESH-INTERVAL;VALUE=DURATION:PT1H
X-Robots-Tag:noindex
X-PUBLISHED-TTL:PT1H
BEGIN:VTIMEZONE
TZID:Europe/Zurich
BEGIN:DAYLIGHT
TZOFFSETFROM:+0100
TZOFFSETTO:+0200
TZNAME:CEST
DTSTART:20240331T010000
END:DAYLIGHT
BEGIN:STANDARD
TZOFFSETFROM:+0200
TZOFFSETTO:+0100
TZNAME:CET
DTSTART:20241027T010000
END:STANDARD
BEGIN:DAYLIGHT
TZOFFSETFROM:+0100
TZOFFSETTO:+0200
TZNAME:CEST
DTSTART:20250330T010000
END:DAYLIGHT
BEGIN:STANDARD
TZOFFSETFROM:+0200
TZOFFSETTO:+0100
TZNAME:CET
DTSTART:20251026T010000
END:STANDARD
BEGIN:DAYLIGHT
TZOFFSETFROM:+0100
TZOFFSETTO:+0200
TZNAME:CEST
DTSTART:20260329T010000
END:DAYLIGHT
BEGIN:STANDARD
TZOFFSETFROM:+0200
TZOFFSETTO:+0100
TZNAME:CET
DTSTART:20261025T010000
END:STANDARD
END:VTIMEZONE
BEGIN:VEVENT
DTSTART;TZID=Europe/Zurich:20250515T201500
DTEND;TZID=Europe/Zurich:20250515T201500
DTSTAMP:20260422T140344
CREATED:20240713T091510Z
LAST-MODIFIED:20250508T072421Z
UID:10000948-1747340100-1747340100@www.stanzerei-baden.ch
SUMMARY:SONGCIRCLE
DESCRIPTION:Abschlusskonzert am DONNERSTAG\, 15.5.25 \nHendrix Ackle und Adrian Stern zusammen mit DANA & Tobias Carshey philosophieren und musizieren im Kreis. Im Zentrum stehen für einmal nicht die eigenen Songs\, sondern die persönlichen Lieblingssongs. Legendär – einzigartig – pur und unplugged. \nAm Songcircle dreht sich alles um Musik als lebensbegleitendes Element: Sei es der Song\, der einen zum Musikmachen bewegt hat\, der Song\, der einen die erste grosse Liebe nicht vergessen lässt\, der uncoolste Song\, zu dem man hinter gezogenen Vorhängen durchs Wohnzimmer tanzt\, der beste Song aller Zeiten\, den leider niemand kennt\, Songtrouvaillen aus Reisen in andere Länder oder auch einfach nur die aktuelle Nummer 1 der Hitparade\, der man beim besten Willen nicht entfliehen kann. All das steht im Zentrum vom Songcircle und nimmt Sie mit auf eine einzigartige Reise. \nEntdecken Sie neue Musik\, geniessen Sie den Einblick in die private Plattensammlung und den ganz persönlichen Musikgeschmack der Gäste\, lauschen Sie spannenden Geschichten und spontanen Gesprächen von Musikern unter sich und hören Sie\, wie sie sich ihre liebsten Songs gegenseitig vorspielen\, pur und unplugged. \nAlle bisherigen Gäste und Setlisten: www.songcircle.ch\nwww.hendrixackle.com\nwww.adrianstern.ch
URL:https://www.stanzerei-baden.ch/kultur/songcircle-10
CATEGORIES:ENDLICH MITTWOCH!,SONGCIRCLE
ATTACH;FMTTYPE=image/jpeg:https://www.stanzerei-baden.ch/wp-content/uploads/2024/07/SONGCIRCLE-3.jpg
ORGANIZER;CN="ENDLICH MITTWOCH!":MAILTO:endlichmittwoch@stanzerei-baden.ch
END:VEVENT
BEGIN:VEVENT
DTSTART;TZID=Europe/Zurich:20250517T200000
DTEND;TZID=Europe/Zurich:20250517T200000
DTSTAMP:20260422T140344
CREATED:20250326T152505Z
LAST-MODIFIED:20250327T121933Z
UID:10000978-1747512000-1747512000@www.stanzerei-baden.ch
SUMMARY:FREAKTAL SINGERS präsentieren: Jazz & Gospel – Ein musikalisches Erlebnis
DESCRIPTION:Jazz & Gospel – Ein musikalisches Erlebnis mit den Freaktal Singers \n  \nDer Jazz Chor FREAKTAL SINGERS aus dem Fricktal lädt zu einer inspirierenden musikalischen Reise\, die die Herzen berührt und die Seele zum Schwingen bringt. \nDie Sängerinnen und Sänger präsentieren eine Auswahl an zeitlosen Klassikern und modernen Stücken\, die die Vielfalt und Schönheit der beiden Genres Jazz & Gospel widerspiegeln. \nOb es die mitreissenden Rhythmen des Jazz oder die spirituelle Tiefe des Gospels ist – die Freaktal Singers lassen die Energie und Emotionen\, die die Musik ausstrahlt\, hautnah erleben. \nLeitung: Arthur Buck\nKlavier: Tatiana Borova\, Rahel Buser \n  \nGetränke & Snacks ab 19.00 Uhr. \n  \nWeitere Details unter Aktuell – Freaktal Singers. \n 
URL:https://www.stanzerei-baden.ch/kultur/freaktal-singers-praesentieren-jazz-gospel-ein-musikalisches-erlebnis
CATEGORIES:Chor,Kultur
ATTACH;FMTTYPE=image/jpeg:https://www.stanzerei-baden.ch/wp-content/uploads/2025/03/Freaktalsingers_17.05.25-e1743002315379.jpg
END:VEVENT
END:VCALENDAR