BEGIN:VCALENDAR
VERSION:2.0
PRODID:-//Aktionshalle Stanzerei - ECPv6.15.20//NONSGML v1.0//EN
CALSCALE:GREGORIAN
METHOD:PUBLISH
X-ORIGINAL-URL:https://www.stanzerei-baden.ch
X-WR-CALDESC:Veranstaltungen für Aktionshalle Stanzerei
REFRESH-INTERVAL;VALUE=DURATION:PT1H
X-Robots-Tag:noindex
X-PUBLISHED-TTL:PT1H
BEGIN:VTIMEZONE
TZID:Europe/Zurich
BEGIN:DAYLIGHT
TZOFFSETFROM:+0100
TZOFFSETTO:+0200
TZNAME:CEST
DTSTART:20240331T010000
END:DAYLIGHT
BEGIN:STANDARD
TZOFFSETFROM:+0200
TZOFFSETTO:+0100
TZNAME:CET
DTSTART:20241027T010000
END:STANDARD
BEGIN:DAYLIGHT
TZOFFSETFROM:+0100
TZOFFSETTO:+0200
TZNAME:CEST
DTSTART:20250330T010000
END:DAYLIGHT
BEGIN:STANDARD
TZOFFSETFROM:+0200
TZOFFSETTO:+0100
TZNAME:CET
DTSTART:20251026T010000
END:STANDARD
BEGIN:DAYLIGHT
TZOFFSETFROM:+0100
TZOFFSETTO:+0200
TZNAME:CEST
DTSTART:20260329T010000
END:DAYLIGHT
BEGIN:STANDARD
TZOFFSETFROM:+0200
TZOFFSETTO:+0100
TZNAME:CET
DTSTART:20261025T010000
END:STANDARD
END:VTIMEZONE
BEGIN:VEVENT
DTSTART;TZID=Europe/Zurich:20251022T201500
DTEND;TZID=Europe/Zurich:20251022T201500
DTSTAMP:20260422T040029
CREATED:20250818T165018Z
LAST-MODIFIED:20250826T090339Z
UID:10000985-1761164100-1761164100@www.stanzerei-baden.ch
SUMMARY:Zugluft & Jarry Singla
DESCRIPTION:Eröffnungskonzert ENDLICH MITTWOCH! Saison 2025-26 \nDen deutsch-indischen Klavierindividualisten Jarry Singla und das Zürcher Duo ZUGLUFT der Violinistin Andrea Kirchhofer und des Bassklarinettisten Bruno Strüby verbindet die Begeisterung für raffinierte Klangkombinationen und die Auseinandersetzung mit traditionellen Elementen aus Volksmusik verschiedener Herkunft. \nWährend bei Jarrys aktueller Arbeit der Einfluss indischer Musik deutlich ausgeprägt ist\, sind in den Kompositionen von Zugluft Elemente aus Klezmer\, experimentellem Rock oder Tango zu erkennen. \nSeit Jahren in den Weiten und an den Rändern von Jazz und Volksmusik wandernd\, rasteten die drei Musiker*innen im Frühling 2023 während einem Atelieraufenthalt in der Pariser Cité Internationale des Arts gleichzeitig in einem Quartier-Restaurant und beschlossen\, in einer Zusammenarbeit ihre sehr eigenständigen Klanguniversen aufeinandertreffen zu lassen. \nNach einer ersten inspirierenden Konzertserie in der Schweiz spielte das Trio im Herbst 2024 Auftritte in Deutschland\, u.a. beim Multiphonics-Festival im Wuppertaler Skulpturenpark. \nAndrea Kirchhofer – Violine\nBruno Strüby – Bassklarinette\nJarry Singla – Flügel\, indisches Harmonium \nZugluft
URL:https://www.stanzerei-baden.ch/kultur/zugluft-singla
CATEGORIES:ENDLICH MITTWOCH!
ATTACH;FMTTYPE=image/jpeg:https://www.stanzerei-baden.ch/wp-content/uploads/2025/08/251022_Zugluft-Jarry-Singla.jpg
ORGANIZER;CN="ENDLICH MITTWOCH!":MAILTO:endlichmittwoch@stanzerei-baden.ch
END:VEVENT
BEGIN:VEVENT
DTSTART;TZID=Europe/Zurich:20251023T201500
DTEND;TZID=Europe/Zurich:20251023T201500
DTSTAMP:20260422T040029
CREATED:20250710T065211Z
LAST-MODIFIED:20250804T072939Z
UID:10000983-1761250500-1761250500@www.stanzerei-baden.ch
SUMMARY:KULAK präsentiert: «Gilbert Paeffgen Trio»
DESCRIPTION:„Die zum Glück nicht eindeutig klassifizierbare Musik dieses multiplen Trios schlägt einen Bogen von Groove-Loops zu allerlei Ethno-Einflüssen (von Irland bis Indien)\, von impressionistischem Klangzauber zu minimalistischer Repetitionshypnotik.“ \n„Dieses Trio schöpft aus allen Schubladen und wirkt dabei spielversessen und kompakt.“ \nNatürlich zu hören und zu sehen bei KulaK Jazz in der Aktionshalle Stanzerei in Baden \n\n\n  \nGilbert Paeffgen (Hackbrett\, Drums) \nClaude Meier (Bass) \nFabian Müller (Piano)») \n  \nWeitere Informationen finden sie unter: www.kulak.ch
URL:https://www.stanzerei-baden.ch/kultur/kulak-praesentiert-sana-naganos-atomic-pigeons
CATEGORIES:Jazz,Kultur
ATTACH;FMTTYPE=image/jpeg:https://www.stanzerei-baden.ch/wp-content/uploads/2025/07/paeffgen-MFR2404_kulak_23.10.25-e1754292443150.jpg
END:VEVENT
BEGIN:VEVENT
DTSTART;VALUE=DATE:20251024
DTEND;VALUE=DATE:20251025
DTSTAMP:20260422T040029
CREATED:20250814T123455Z
LAST-MODIFIED:20251017T080735Z
UID:10000979-1761264000-1761350399@www.stanzerei-baden.ch
SUMMARY:Festival Casa del Vino
DESCRIPTION:  \nGrosse Namen. Grosse Weine. Grosse Emotionen.\nDas Festival Casa del Vino bringt internationale Spitzenweine ins Zentrum von Baden – zwei Tage voller Leidenschaft\, Genuss und Entdeckungen. Ob am Themenstand oder im persönlichen Austausch mit Winzer:innen vor Ort – erleben Sie grosse Namen und spannende Neuentdeckungen aus Italien\, Spanien\, Frankreich\, Deutschland\, Österreich und der Schweiz. \n  \nSortiment\nAls Spaniens Nr. 1 in der Schweiz präsentieren wir eine beeindruckende Auswahl – mit renommierten Häusern aus der Ribera del Duero wie Dominio de Pingus\, Bodegas Aalto\, Bodegas Mauro\, Carmelo Rodero\, Hacienda Monasterio\, Bodegas Sei Solo und Finca Villacreces. Ergänzt wird das Line-up durch elegante Rioja-Weine von Telmo Rodríguez und Bodegas Izadi sowie frische Weissweine aus Rueda von Bodegas José Pariente – für ein komplettes Spanien-Erlebnis. \nAus Italien werden Sie die charaktervollen Weine aus der Toskana begeistern – unter anderem von Tenuta di Trinoro\, Altesino\, Poliziano\, Campo alle Comete\, Castello di Albola und Rocca di Montemassi. Auch Klassiker wie Borgogno (Piemont) und Speri Viticoltori (Venetien) sind mit dabei. Neu im Sortiment: Passopisciaro (Sizilien) und Fattoria La Valentina (Abruzzen). \nAuch Frankreich mit Louis Latour (Burgund)\, Österreich mit dem Weingut Josef Ehmoser (Wagram)\, Deutschland mit Villa Huesgen (Mosel) und die Schweiz mit Vinattieri (Tessin) sorgen für hochkarätige Weinmomente. \nPrickelnde Highlights bieten die Schaumweine von Champagne Deutz (Frankreich)\, Bellavista (Franciacorta)\, Borgo Antico (Prosecco) und Raventós i Blanc (Cava\, Spanien) – perfekt auch für die festlichen Monate. \nHighlight:\nUnsere exklusive Raritäten-Ecke – für alle\, die das Aussergewöhnliche lieben. Einzelne Ikonenweine können dort gegen einen kleinen Aufpreis degustiert werden. \n  \n\nÖffnungszeiten: \nFreitag\, 24.10.25 von 16:00 – 20:00 Uhr\nSamstag\, 25.10.25 von 11:00 – 17:00 Uhr \n\n  \nWICHTIG: Bitte beachten Sie\, dass direkt vor der Stanzerei und dem Merker Areal keine Parkplätze vorhanden sind. Das Parkhaus „Gartenstrasse“ ist gleich um die Ecke oder ein weiteres Parkhaus finden Sie beim Bahnhof West „COOP“. \n  \n\nAuf der Webseite des Veranstalters werden laufend weitere Informationen zu den Weinen und ihren Produzenten veröffentlicht.
URL:https://www.stanzerei-baden.ch/kultur/festival-casa-del-vino-weinfest
CATEGORIES:Weinmesse
ATTACH;FMTTYPE=image/jpeg:https://www.stanzerei-baden.ch/wp-content/uploads/2025/09/Casadelvino.jpg
ORGANIZER;CN="Casa del Vino":MAILTO:mail@casadelvino.ch
END:VEVENT
BEGIN:VEVENT
DTSTART;VALUE=DATE:20251025
DTEND;VALUE=DATE:20251026
DTSTAMP:20260422T040029
CREATED:20250814T123742Z
LAST-MODIFIED:20251017T080518Z
UID:10000980-1761350400-1761436799@www.stanzerei-baden.ch
SUMMARY:Festival Casa del Vino
DESCRIPTION:  \nGrosse Namen. Grosse Weine. Grosse Emotionen.\nDas Festival Casa del Vino bringt internationale Spitzenweine ins Zentrum von Baden – zwei Tage voller Leidenschaft\, Genuss und Entdeckungen. Ob am Themenstand oder im persönlichen Austausch mit Winzer:innen vor Ort – erleben Sie grosse Namen und spannende Neuentdeckungen aus Italien\, Spanien\, Frankreich\, Deutschland\, Österreich und der Schweiz. \n  \nSortiment\nAls Spaniens Nr. 1 in der Schweiz präsentieren wir eine beeindruckende Auswahl – mit renommierten Häusern aus der Ribera del Duero wie Dominio de Pingus\, Bodegas Aalto\, Bodegas Mauro\, Carmelo Rodero\, Hacienda Monasterio\, Bodegas Sei Solo und Finca Villacreces. Ergänzt wird das Line-up durch elegante Rioja-Weine von Telmo Rodríguez und Bodegas Izadi sowie frische Weissweine aus Rueda von Bodegas José Pariente – für ein komplettes Spanien-Erlebnis. \nAus Italien werden Sie die charaktervollen Weine aus der Toskana begeistern – unter anderem von Tenuta di Trinoro\, Altesino\, Poliziano\, Campo alle Comete\, Castello di Albola und Rocca di Montemassi. Auch Klassiker wie Borgogno (Piemont) und Speri Viticoltori (Venetien) sind mit dabei. Neu im Sortiment: Passopisciaro (Sizilien) und Fattoria La Valentina (Abruzzen). \nAuch Frankreich mit Louis Latour (Burgund)\, Österreich mit dem Weingut Josef Ehmoser (Wagram)\, Deutschland mit Villa Huesgen (Mosel) und die Schweiz mit Vinattieri (Tessin) sorgen für hochkarätige Weinmomente. \nPrickelnde Highlights bieten die Schaumweine von Champagne Deutz (Frankreich)\, Bellavista (Franciacorta)\, Borgo Antico (Prosecco) und Raventós i Blanc (Cava\, Spanien) – perfekt auch für die festlichen Monate. \nHighlight:\nUnsere exklusive Raritäten-Ecke – für alle\, die das Aussergewöhnliche lieben. Einzelne Ikonenweine können dort gegen einen kleinen Aufpreis degustiert werden \n  \n\nÖffnungszeiten: \nFreitag\, 24.10.25 von 16:00 – 20:00 Uhr\nSamstag\, 25.10.25 von 11:00 – 17:00 Uhr \n  \nWICHTIG: Bitte beachten Sie\, dass direkt vor der Stanzerei und dem Merker Areal keine Parkplätze vorhanden sind. Das Parkhaus „Gartenstrasse“ ist gleich um die Ecke oder ein weiteres Parkhaus finden Sie beim Bahnhof West „COOP“. \n\n  \n\nWeitere Informationen zu den Weinen und ihren Produzenten werden laufend auf der Website des Veranstalters veröffentlicht.
URL:https://www.stanzerei-baden.ch/kultur/festival-casa-del-vino-weinfest-2
CATEGORIES:Weinmesse
ATTACH;FMTTYPE=image/jpeg:https://www.stanzerei-baden.ch/wp-content/uploads/2025/09/Casadelvino.jpg
ORGANIZER;CN="Casa del Vino":MAILTO:mail@casadelvino.ch
END:VEVENT
END:VCALENDAR