BEGIN:VCALENDAR
VERSION:2.0
PRODID:-//Aktionshalle Stanzerei - ECPv6.15.20//NONSGML v1.0//EN
CALSCALE:GREGORIAN
METHOD:PUBLISH
X-ORIGINAL-URL:https://www.stanzerei-baden.ch
X-WR-CALDESC:Veranstaltungen für Aktionshalle Stanzerei
REFRESH-INTERVAL;VALUE=DURATION:PT1H
X-Robots-Tag:noindex
X-PUBLISHED-TTL:PT1H
BEGIN:VTIMEZONE
TZID:Europe/Zurich
BEGIN:DAYLIGHT
TZOFFSETFROM:+0100
TZOFFSETTO:+0200
TZNAME:CEST
DTSTART:20240331T010000
END:DAYLIGHT
BEGIN:STANDARD
TZOFFSETFROM:+0200
TZOFFSETTO:+0100
TZNAME:CET
DTSTART:20241027T010000
END:STANDARD
BEGIN:DAYLIGHT
TZOFFSETFROM:+0100
TZOFFSETTO:+0200
TZNAME:CEST
DTSTART:20250330T010000
END:DAYLIGHT
BEGIN:STANDARD
TZOFFSETFROM:+0200
TZOFFSETTO:+0100
TZNAME:CET
DTSTART:20251026T010000
END:STANDARD
BEGIN:DAYLIGHT
TZOFFSETFROM:+0100
TZOFFSETTO:+0200
TZNAME:CEST
DTSTART:20260329T010000
END:DAYLIGHT
BEGIN:STANDARD
TZOFFSETFROM:+0200
TZOFFSETTO:+0100
TZNAME:CET
DTSTART:20261025T010000
END:STANDARD
END:VTIMEZONE
BEGIN:VEVENT
DTSTART;TZID=Europe/Zurich:20251029T201500
DTEND;TZID=Europe/Zurich:20251029T201500
DTSTAMP:20260422T034752
CREATED:20250819T103949Z
LAST-MODIFIED:20250901T115607Z
UID:10000988-1761768900-1761768900@www.stanzerei-baden.ch
SUMMARY:DAS HIRN. spoken
DESCRIPTION:Das Hirn. spoken \nvon Friedrich Dürrenmatt\n\nIn seiner naturphilosophischen Seinsgeschichte setzt Dürrenmatt anstelle des Urknalls ein Hirn\, welches das Universum und die gesamte Evolution der Natur und der Menschheit denkt. Jens Nielsen bringt diese literarische Besonderheit aus Dürrenmatts Spätwerk unterhaltsam und pikant auf die Bühne.\n\nHat das Hirn die Evolution der Säugetiere fast gedankenabwesend mit unglaublicher Fertigkeit durchgespielt\, so stutzt es\, kaum hat es die Primaten entworfen. Es weiss nicht recht\, welcher Fehler ihm unterlaufen ist. Ein Affe\, der sich von den anderen Affen wegmutiert hat\, ist ihm nicht geheuer.\n\n\n\nJubiläumsprogramm zum 100. Geburtstag von F. Dürrenmatt\n\nSpiel & Bühnenbild & Regie Jens Nielsen\n\nwww.jens-nielsen.ch\n\n\n\n\n«… Das Publikum wird intellektuell verführt\, verwirrt und beglückt … Es ist ein einzig Feuerwerk\, ein Fest der Spintisiererei der Extraklasse … ein feingeistiges Sprachspiel rund um die bare Existenz von nicht weniger als allem …» Thierry Frochaux\, P.S. Zeitung Zürich
URL:https://www.stanzerei-baden.ch/kultur/das-hirn-spoken
CATEGORIES:ENDLICH MITTWOCH!
ATTACH;FMTTYPE=image/jpeg:https://www.stanzerei-baden.ch/wp-content/uploads/2025/08/251029_DAS-HIRN-_Giorgio-von-Arb-1.jpg
ORGANIZER;CN="ENDLICH MITTWOCH!":MAILTO:endlichmittwoch@stanzerei-baden.ch
END:VEVENT
BEGIN:VEVENT
DTSTART;TZID=Europe/Zurich:20251030T200000
DTEND;TZID=Europe/Zurich:20251030T200000
DTSTAMP:20260422T034752
CREATED:20250701T143806Z
LAST-MODIFIED:20250904T131403Z
UID:10000984-1761854400-1761854400@www.stanzerei-baden.ch
SUMMARY:BLUUS CLUB präsentiert: Fast Eddy’s Blue Band (GB)
DESCRIPTION:Die vom englischen Bluessänger Eddy Wilkinson im Jahr 1990 gegründete Fast Eddy’s Blue Band verbindet dynamischen\, groovigen Blues mit dezenten Soul- und Funk-Elementen. Eddys markante\, unverwechselbare Stimme\, seine mitreißende Bühnenpräsenz\, sein Humor und seine Leidenschaft für den Blues schaffen eine einzigartige Atmosphäre und eine intensive Klangdichte.\nSein ohnehin sehr prägnanter Stil wird durch mehrjährige\, wiederholte Aufenthalte in Nordamerika und Australien stets neu inspiriert. Zurück in Europa\, prägen diese Eindrücke sowohl seine eigenen Kompositionen als auch die Interpretation bekannter Songs nachhaltig. Diese Eigenständigkeit und stilistische Vielfalt machen jedes Konzert mit ihm und seiner Band zu einem unvergleichlichen und unvergesslichen Erlebnis. \nDie Band hat auf zahlreichen renommierten Blues- und Jazzfestivals in Europa gespielt\, darunter auch beim Montreux Jazz Festival.\nEddy und seine Band präsentieren nun ihre neue Blues-CD: „Best Of 25 Years – Blues & Songs“\, erschienen bei Stormy Monday Records. \n  \nWeitere Informationen: Fast Eddy’s Blue Band – BLUUS CLUB Baden
URL:https://www.stanzerei-baden.ch/kultur/bluus-club-praesentiert-fast-eddys-blues-band-gb
CATEGORIES:Blues,Bluus
ATTACH;FMTTYPE=image/jpeg:https://www.stanzerei-baden.ch/wp-content/uploads/2025/07/Eddy_Oberi-Sounds-Good_bluusclub_2-1-e1756991635187.jpg
END:VEVENT
END:VCALENDAR