BEGIN:VCALENDAR
VERSION:2.0
PRODID:-//Aktionshalle Stanzerei - ECPv6.15.20//NONSGML v1.0//EN
CALSCALE:GREGORIAN
METHOD:PUBLISH
X-WR-CALNAME:Aktionshalle Stanzerei
X-ORIGINAL-URL:https://www.stanzerei-baden.ch
X-WR-CALDESC:Veranstaltungen für Aktionshalle Stanzerei
REFRESH-INTERVAL;VALUE=DURATION:PT1H
X-Robots-Tag:noindex
X-PUBLISHED-TTL:PT1H
BEGIN:VTIMEZONE
TZID:Europe/Zurich
BEGIN:DAYLIGHT
TZOFFSETFROM:+0100
TZOFFSETTO:+0200
TZNAME:CEST
DTSTART:20240331T010000
END:DAYLIGHT
BEGIN:STANDARD
TZOFFSETFROM:+0200
TZOFFSETTO:+0100
TZNAME:CET
DTSTART:20241027T010000
END:STANDARD
BEGIN:DAYLIGHT
TZOFFSETFROM:+0100
TZOFFSETTO:+0200
TZNAME:CEST
DTSTART:20250330T010000
END:DAYLIGHT
BEGIN:STANDARD
TZOFFSETFROM:+0200
TZOFFSETTO:+0100
TZNAME:CET
DTSTART:20251026T010000
END:STANDARD
BEGIN:DAYLIGHT
TZOFFSETFROM:+0100
TZOFFSETTO:+0200
TZNAME:CEST
DTSTART:20260329T010000
END:DAYLIGHT
BEGIN:STANDARD
TZOFFSETFROM:+0200
TZOFFSETTO:+0100
TZNAME:CET
DTSTART:20261025T010000
END:STANDARD
END:VTIMEZONE
BEGIN:VEVENT
DTSTART;TZID=Europe/Zurich:20251124T183000
DTEND;TZID=Europe/Zurich:20251124T183000
DTSTAMP:20260422T021045
CREATED:20251003T085001Z
LAST-MODIFIED:20251003T085408Z
UID:10001011-1764009000-1764009000@www.stanzerei-baden.ch
SUMMARY:IG ENGELSHAAR PRÄSENTIERT: Stille Nacht war gestern
DESCRIPTION:Die legendäre IG Engelshaar ist zurück. Sie machen dieses Jahr Christmas laut again: Urs Augstburger\, Christoph Simon\, Barbara Terpoorten\, Monika Schärer\, Sven Furrer\, Pascal Dussex\, Anja Kofmel und HP Stamm. \n  \nMontag\, 24.11.2025 & Dienstag\, 25.11.2025 \n  \n18.30 Nachtessen / Barbetrieb \n20.00 Jubiläum-Weihnachtsshow \n21.30 Dessert / Barbetrieb \nDas Faro-Catering sorgt wieder für die kulinarische Rundumbetreuung. Die Konsumation ist im Ticketpreis nicht inbegriffen. \n  \nDie Zahl des Jahres? 39. Die Farbe des Jahres? Orange. Das Unwort des Jahres: Gross machen. 2025 wird das Jahr des praktizierten Blödsinns\, dem kann sich auch die IG Engelshaar nicht verschliessen. Man darf es schon ganz laut sagen: Die Weihnachtsshow rund um die legendäre Schweizer Musterfamilie Lustenberger wird die beste\, die die Welt je gesehen hat. Die kitschigste und die lustigste sowieso. Mindestens 39 Prozent besser als jede andere\, wie Karin Keller Suter in einer Telefonschaltung in die Stanzerei Baden gerne bestätigen wird. \n  \nSchriftsteller Urs Augstburger und seine Freunde laden also wieder zur  legendären Weihnachtsshow in der Stanzerei Baden\, die alljährlich auf die Schippe nimmt\, was uns bewegt und oder nervt. Augstburger schreibt zusammen mit dem vielfach ausgezeichneten Schriftsteller und Kabarettisten Christoph Simon\, unter strenger Aufsicht von Schauspielerin und Regisseurin Barbara Terpoorten. Musikkabarettist Pascal Dussex (Les trois suisses) kehrt als Bandleader und Stimmakrobat zurück\, der Brugger Jazztrompeter HP Stamm ergänzt mit Christoph Simon\, der in Baden\, und nur in Baden\, auch Gitarre spielt\, die Band. Die vielbegabte Monika Schärer\, und Comedian Sven Furrer bringen die Figuren auf die Bühne. Für die karikaturistischen Umsetzungen auf der Leinwand wiederum ist Animationsfilmerin Anja Kofmel zuständig. Die Trägerin des Schweizer Filmpreises hat mit Urs Augstburger eine Technik entwickelt\, die ihre Zeichnungen und Gemälde parallel zu ihrer Entstehung auf die Leinwand bringen. So entsteht auch dieses Jahr ein verblüffendes und witziges Comedyereignis für alle Sinne\, präsentiert von einem Künstlerkollektiv\, das sich eigens für diese beiden Abende zusammenfindet. \n  \n 
URL:https://www.stanzerei-baden.ch/kultur/ig-engelshaar-praesentiert-christmas-laut-again-stille-nacht-war-gestern
CATEGORIES:Kultur,Theater
ATTACH;FMTTYPE=image/jpeg:https://www.stanzerei-baden.ch/wp-content/uploads/2025/10/IG_Engelshaar_Jubilaeum_Weihnachtsshow_2025-e1759481642629.jpg
END:VEVENT
BEGIN:VEVENT
DTSTART;TZID=Europe/Zurich:20251125T183000
DTEND;TZID=Europe/Zurich:20251125T183000
DTSTAMP:20260422T021045
CREATED:20251003T085708Z
LAST-MODIFIED:20251003T085708Z
UID:10001012-1764095400-1764095400@www.stanzerei-baden.ch
SUMMARY:IG ENGELSHAAR PRÄSENTIERT: Stille Nacht war gestern
DESCRIPTION:Die legendäre IG Engelshaar ist zurück. Sie machen dieses Jahr Christmas laut again: Urs Augstburger\, Christoph Simon\, Barbara Terpoorten\, Monika Schärer\, Sven Furrer\, Pascal Dussex\, Anja Kofmel und HP Stamm. \n  \nMontag\, 24.11.2025 & Dienstag\, 25.11.2025 \n  \n18.30 Nachtessen / Barbetrieb \n20.00 Jubiläum-Weihnachtsshow \n21.30 Dessert / Barbetrieb \nDas Faro-Catering sorgt wieder für die kulinarische Rundumbetreuung. Die Konsumation ist im Ticketpreis nicht inbegriffen. \n  \nDie Zahl des Jahres? 39. Die Farbe des Jahres? Orange. Das Unwort des Jahres: Gross machen. 2025 wird das Jahr des praktizierten Blödsinns\, dem kann sich auch die IG Engelshaar nicht verschliessen. Man darf es schon ganz laut sagen: Die Weihnachtsshow rund um die legendäre Schweizer Musterfamilie Lustenberger wird die beste\, die die Welt je gesehen hat. Die kitschigste und die lustigste sowieso. Mindestens 39 Prozent besser als jede andere\, wie Karin Keller Suter in einer Telefonschaltung in die Stanzerei Baden gerne bestätigen wird. \n  \nSchriftsteller Urs Augstburger und seine Freunde laden also wieder zur  legendären Weihnachtsshow in der Stanzerei Baden\, die alljährlich auf die Schippe nimmt\, was uns bewegt und oder nervt. Augstburger schreibt zusammen mit dem vielfach ausgezeichneten Schriftsteller und Kabarettisten Christoph Simon\, unter strenger Aufsicht von Schauspielerin und Regisseurin Barbara Terpoorten. Musikkabarettist Pascal Dussex (Les trois suisses) kehrt als Bandleader und Stimmakrobat zurück\, der Brugger Jazztrompeter HP Stamm ergänzt mit Christoph Simon\, der in Baden\, und nur in Baden\, auch Gitarre spielt\, die Band. Die vielbegabte Monika Schärer\, und Comedian Sven Furrer bringen die Figuren auf die Bühne. Für die karikaturistischen Umsetzungen auf der Leinwand wiederum ist Animationsfilmerin Anja Kofmel zuständig. Die Trägerin des Schweizer Filmpreises hat mit Urs Augstburger eine Technik entwickelt\, die ihre Zeichnungen und Gemälde parallel zu ihrer Entstehung auf die Leinwand bringen. So entsteht auch dieses Jahr ein verblüffendes und witziges Comedyereignis für alle Sinne\, präsentiert von einem Künstlerkollektiv\, das sich eigens für diese beiden Abende zusammenfindet. \n  \n 
URL:https://www.stanzerei-baden.ch/kultur/ig-engelshaar-praesentiert-stille-nacht-war-gestern
CATEGORIES:Kultur,Theater
ATTACH;FMTTYPE=image/jpeg:https://www.stanzerei-baden.ch/wp-content/uploads/2025/10/IG_Engelshaar_Jubilaeum_Weihnachtsshow_2025-e1759481642629.jpg
END:VEVENT
BEGIN:VEVENT
DTSTART;TZID=Europe/Zurich:20251126T201500
DTEND;TZID=Europe/Zurich:20251126T201500
DTSTAMP:20260422T021045
CREATED:20250819T111159Z
LAST-MODIFIED:20251028T222638Z
UID:10000991-1764188100-1764188100@www.stanzerei-baden.ch
SUMMARY:Kubus Kollektiv & Trio Häusermann Käppeli Meier
DESCRIPTION:Seit vielen Jahren schreibt Ruedi Häusermann Kompositionen für Streichquartett\, meist in musiktheatralischen Zusammenhängen. Er ist Mitglied des Trios Häusermann/Käppeli/Meier\, wo neben seinen Kompositionen für Jazztrio die Improvisationskunst eine wichtige Rolle spielt. Nun ist die Idee gewachsen\, die Musik des Streichquartetts mit der Musik des Trios zu verbinden. Das neu entstandene Septett\, bestehend aus dem Kubus Kollektiv (Sonja Sofiia  Suldina Violine\, Sophie Wahlmüller Viola\, Liese Mészár Viola und Trude Mészár Violoncello) zusammen mit dem Trio Häusermann Käppeli Meier (Ruedi Häusermann Bassklarinette Flöte\, Marco Käppeli Schlagzeug AsaChan\, Claude Meier Bass) hat eine Klangwelt entwickelt\, die beiden Formationen ihre Eigenheit belässt und doch entsteht dabei eine dritte\, faszinierende Ebene. \nDas Konzert in der Stanzerei ist ein musikalischer Zwischenhalt auf dem Weg zur konzertanten Schauspielmusik für das neue Musiktheater von Ruedi Häusermann «Du denkst vielleicht\, was hör ich da\, und ich sage dir – es ist die Waschmaschine»\, das seine Uraufführung anfangs Februar 2026 im Schauspielhaus Zürich erfährt.
URL:https://www.stanzerei-baden.ch/kultur/hkm-kubus
CATEGORIES:ENDLICH MITTWOCH!
ATTACH;FMTTYPE=image/jpeg:https://www.stanzerei-baden.ch/wp-content/uploads/2025/08/251116_-HKM-Kubus.jpg
ORGANIZER;CN="ENDLICH MITTWOCH!":MAILTO:endlichmittwoch@stanzerei-baden.ch
END:VEVENT
END:VCALENDAR