BEGIN:VCALENDAR
VERSION:2.0
PRODID:-//Aktionshalle Stanzerei - ECPv6.15.20//NONSGML v1.0//EN
CALSCALE:GREGORIAN
METHOD:PUBLISH
X-ORIGINAL-URL:https://www.stanzerei-baden.ch
X-WR-CALDESC:Veranstaltungen für Aktionshalle Stanzerei
REFRESH-INTERVAL;VALUE=DURATION:PT1H
X-Robots-Tag:noindex
X-PUBLISHED-TTL:PT1H
BEGIN:VTIMEZONE
TZID:Europe/Zurich
BEGIN:DAYLIGHT
TZOFFSETFROM:+0100
TZOFFSETTO:+0200
TZNAME:CEST
DTSTART:20240331T010000
END:DAYLIGHT
BEGIN:STANDARD
TZOFFSETFROM:+0200
TZOFFSETTO:+0100
TZNAME:CET
DTSTART:20241027T010000
END:STANDARD
BEGIN:DAYLIGHT
TZOFFSETFROM:+0100
TZOFFSETTO:+0200
TZNAME:CEST
DTSTART:20250330T010000
END:DAYLIGHT
BEGIN:STANDARD
TZOFFSETFROM:+0200
TZOFFSETTO:+0100
TZNAME:CET
DTSTART:20251026T010000
END:STANDARD
BEGIN:DAYLIGHT
TZOFFSETFROM:+0100
TZOFFSETTO:+0200
TZNAME:CEST
DTSTART:20260329T010000
END:DAYLIGHT
BEGIN:STANDARD
TZOFFSETFROM:+0200
TZOFFSETTO:+0100
TZNAME:CET
DTSTART:20261025T010000
END:STANDARD
END:VTIMEZONE
BEGIN:VEVENT
DTSTART;TZID=Europe/Zurich:20251217T201500
DTEND;TZID=Europe/Zurich:20251217T201500
DTSTAMP:20260422T035318
CREATED:20250819T112110Z
LAST-MODIFIED:20251121T101411Z
UID:10000994-1766002500-1766002500@www.stanzerei-baden.ch
SUMMARY:676 Sexteto - feat. Maria de la Paz  
DESCRIPTION:Seit mehr als 30 Jahren treten Vater und Sohn Zisman mit grossem Erfolg gemeinsam in verschiedensten Tangoformationen auf die Bühne. In Baden feiern sie nun die Premiere mit dem Sextett. Werke aus der goldenen Ära des Tango mit Kompositionen u.a. von Anibal Troilo\, Juan D’Arienzo\, Julian Plaza\, Raúl Garello\, Mariano Mores\, Astor Piazzolla. Mit feuriger Leidenschaft und einer Brise Buenos Aires Stadtluft sorgt das Ensemble für einen feierlichen Jahresabschluss. \nMit Daniel Zisman (Violine)\, Lorenz Hasler (Violine)\, Michael Zisman (Bandoneon)\, Luciano Jungman (Bandoneon)\, Winfried Hilzenkamp (Kontrabass)\, Gerardo Vila (Piano)\, Maria de la Paz (Gesang) \n  \n  \n  \nFoto Maria de la Pat: Georges Braunschweig\nFoto Michael Zisman
URL:https://www.stanzerei-baden.ch/kultur/676sexteto
CATEGORIES:ENDLICH MITTWOCH!
ATTACH;FMTTYPE=image/jpeg:https://www.stanzerei-baden.ch/wp-content/uploads/2025/08/251217_676-Sexteto.jpg
ORGANIZER;CN="ENDLICH MITTWOCH!":MAILTO:endlichmittwoch@stanzerei-baden.ch
END:VEVENT
END:VCALENDAR