BEGIN:VCALENDAR
VERSION:2.0
PRODID:-//Aktionshalle Stanzerei - ECPv6.15.20//NONSGML v1.0//EN
CALSCALE:GREGORIAN
METHOD:PUBLISH
X-ORIGINAL-URL:https://www.stanzerei-baden.ch
X-WR-CALDESC:Veranstaltungen für Aktionshalle Stanzerei
REFRESH-INTERVAL;VALUE=DURATION:PT1H
X-Robots-Tag:noindex
X-PUBLISHED-TTL:PT1H
BEGIN:VTIMEZONE
TZID:Europe/Zurich
BEGIN:DAYLIGHT
TZOFFSETFROM:+0100
TZOFFSETTO:+0200
TZNAME:CEST
DTSTART:20250330T010000
END:DAYLIGHT
BEGIN:STANDARD
TZOFFSETFROM:+0200
TZOFFSETTO:+0100
TZNAME:CET
DTSTART:20251026T010000
END:STANDARD
BEGIN:DAYLIGHT
TZOFFSETFROM:+0100
TZOFFSETTO:+0200
TZNAME:CEST
DTSTART:20260329T010000
END:DAYLIGHT
BEGIN:STANDARD
TZOFFSETFROM:+0200
TZOFFSETTO:+0100
TZNAME:CET
DTSTART:20261025T010000
END:STANDARD
BEGIN:DAYLIGHT
TZOFFSETFROM:+0100
TZOFFSETTO:+0200
TZNAME:CEST
DTSTART:20270328T010000
END:DAYLIGHT
BEGIN:STANDARD
TZOFFSETFROM:+0200
TZOFFSETTO:+0100
TZNAME:CET
DTSTART:20271031T010000
END:STANDARD
END:VTIMEZONE
BEGIN:VEVENT
DTSTART;VALUE=DATE:20260206
DTEND;VALUE=DATE:20260215
DTSTAMP:20260421T222718
CREATED:20260203T185907Z
LAST-MODIFIED:20260204T204821Z
UID:10001024-1770336000-1771113599@www.stanzerei-baden.ch
SUMMARY:One Of A Million Festival Baden
DESCRIPTION:Unmittelbar\, überraschend\, mitreissend\, herzerwärmend. \nAm Freitag\, 6. Februar öffnet das One Of A Million Musikfestival – kurz OOAM – für mehrere Tage Räume und füllt sie mit Klängen. Die Stadt Baden wird zur Bühne\, Orte flimmern\, Töne brechen aus Ecken\, wo Mensch sie nicht erwartet. 43 Acts. 19 Länder. 19 Spielorte. Einmal durch Baden\, ohne Plan\, ohne Richtung\, aber mit offenem Ohr. Von der Kegelbahn bis zur Kapelle\, von der Druckerei bis ins Royal und wieder zurück in die Stanzerei. Von Laut zu Leise. Von Früh bis Spät. Von Hier bis Weit. \n  \nDie Stanzerei beherbergt wiederum das Festivalzentrum: Konzerte\, After-Parties\, Festivalkiosk und Ticketcenter. \nRespekt für die Kunstschaffenden. Aufmerksamkeit während den Konzerten. Das wünschen wir uns. \nTüröffnung: 18.00 Uhr (Festivalzentrum Stanzerei)\nBeginn: Diverse Zeiten\nEnde: Diverse Zeiten \n 
URL:https://www.stanzerei-baden.ch/kultur/one-of-a-million-festival-baden-2
CATEGORIES:OOAM
ATTACH;FMTTYPE=image/png:https://www.stanzerei-baden.ch/wp-content/uploads/2026/02/OOAM_2026.png
ORGANIZER;CN="ooam":MAILTO:festival@ooam.ch
END:VEVENT
END:VCALENDAR