BEGIN:VCALENDAR
VERSION:2.0
PRODID:-//Aktionshalle Stanzerei - ECPv6.15.20//NONSGML v1.0//EN
CALSCALE:GREGORIAN
METHOD:PUBLISH
X-ORIGINAL-URL:https://www.stanzerei-baden.ch
X-WR-CALDESC:Veranstaltungen für Aktionshalle Stanzerei
REFRESH-INTERVAL;VALUE=DURATION:PT1H
X-Robots-Tag:noindex
X-PUBLISHED-TTL:PT1H
BEGIN:VTIMEZONE
TZID:Europe/Zurich
BEGIN:DAYLIGHT
TZOFFSETFROM:+0100
TZOFFSETTO:+0200
TZNAME:CEST
DTSTART:20250330T010000
END:DAYLIGHT
BEGIN:STANDARD
TZOFFSETFROM:+0200
TZOFFSETTO:+0100
TZNAME:CET
DTSTART:20251026T010000
END:STANDARD
BEGIN:DAYLIGHT
TZOFFSETFROM:+0100
TZOFFSETTO:+0200
TZNAME:CEST
DTSTART:20260329T010000
END:DAYLIGHT
BEGIN:STANDARD
TZOFFSETFROM:+0200
TZOFFSETTO:+0100
TZNAME:CET
DTSTART:20261025T010000
END:STANDARD
BEGIN:DAYLIGHT
TZOFFSETFROM:+0100
TZOFFSETTO:+0200
TZNAME:CEST
DTSTART:20270328T010000
END:DAYLIGHT
BEGIN:STANDARD
TZOFFSETFROM:+0200
TZOFFSETTO:+0100
TZNAME:CET
DTSTART:20271031T010000
END:STANDARD
END:VTIMEZONE
BEGIN:VEVENT
DTSTART;TZID=Europe/Zurich:20260401T201500
DTEND;TZID=Europe/Zurich:20260401T201500
DTSTAMP:20260421T210532
CREATED:20250819T201908Z
LAST-MODIFIED:20260316T161739Z
UID:10001007-1775074500-1775074500@www.stanzerei-baden.ch
SUMMARY:latenz ensemble - «Phantom Bands»
DESCRIPTION:Rama Gottfried schliesst sich mit latenz ensemble in «phantom bands» zusammen und zaubert neue\, nicht-menschliche Musiktheater-Ökosysteme\, die von Kreaturen bewohnt sind\, die in vage punkigen und fliessend raffinierten technischen Subkulturen auftauchen und auftreten. Teils Objekttheater\, teils Live-Kino\, verwandelt sich das Ensemble ständig – physisch und klanglich – und verkörpert Wesen\, die mit hybriden digital-akustischen Stimmen sprechen. Eine Vielzahl von Klängen\, Puppenspielen\, Videos und instrumentalen Materialien verweben mehrere von Gottfrieds animistisch-ökologischen Stücken: das Computer-Vision-Puppenspiel «Scenes from the Plastisphere»\, live-foley Ausschnitte aus «Ontopoiesis» und die Premiere von «phantom bands»\, komponiert für latenz ensemble. Die Performance ist eine experimentelle Methode der nichtmenschlichen Charakterbeziehung\, bei der das Publikum in eine neue Gesellschaft mit anderen Lebensformen\, Kontexten und Umgebungen eintritt\, die sich endlos in neue Möglichkeiten der Form und Erfahrung entfalten. \n  \n \n  \nlatenz ensemble\nBenjamin Coyte (Performance/Violoncello)\,\nDaniil Gorokhov (Performance/Bassposaune)\,\nPaula Haeni (Performance/Bassklarinette)\,\nLaura Mehmeti (Performance/Akkordeon)\,\nMaría Muñoz Lopez (Performance/Violine)\,\nMikołaj Rytowski (Performance/Perkussion)\,\nElijah Spies (Performance/Viola)\,\nHannah Wirnsperger (Performance/Flöte)\,\nMikael Szafirowski (Elektronik) \n  \nRama Gottfried (Komposition und Regie)\nAnna Paniccia (Puppen und Kostüme)\nRosa Wernecke und Giulia Spek (Licht)\nBenjamin Coyte und Paula Haeni (Co-Leitung) \n  \n  \n \n 
URL:https://www.stanzerei-baden.ch/kultur/phantom-bands
CATEGORIES:ENDLICH MITTWOCH!
ATTACH;FMTTYPE=image/png:https://www.stanzerei-baden.ch/wp-content/uploads/2025/08/260401_Auswahl_croppedskaliert.jpg.png
ORGANIZER;CN="ENDLICH MITTWOCH!":MAILTO:endlichmittwoch@stanzerei-baden.ch
END:VEVENT
END:VCALENDAR