BEGIN:VCALENDAR
VERSION:2.0
PRODID:-//Aktionshalle Stanzerei - ECPv6.15.20//NONSGML v1.0//EN
CALSCALE:GREGORIAN
METHOD:PUBLISH
X-ORIGINAL-URL:https://www.stanzerei-baden.ch
X-WR-CALDESC:Veranstaltungen für Aktionshalle Stanzerei
REFRESH-INTERVAL;VALUE=DURATION:PT1H
X-Robots-Tag:noindex
X-PUBLISHED-TTL:PT1H
BEGIN:VTIMEZONE
TZID:Europe/Zurich
BEGIN:DAYLIGHT
TZOFFSETFROM:+0100
TZOFFSETTO:+0200
TZNAME:CEST
DTSTART:20250330T010000
END:DAYLIGHT
BEGIN:STANDARD
TZOFFSETFROM:+0200
TZOFFSETTO:+0100
TZNAME:CET
DTSTART:20251026T010000
END:STANDARD
BEGIN:DAYLIGHT
TZOFFSETFROM:+0100
TZOFFSETTO:+0200
TZNAME:CEST
DTSTART:20260329T010000
END:DAYLIGHT
BEGIN:STANDARD
TZOFFSETFROM:+0200
TZOFFSETTO:+0100
TZNAME:CET
DTSTART:20261025T010000
END:STANDARD
BEGIN:DAYLIGHT
TZOFFSETFROM:+0100
TZOFFSETTO:+0200
TZNAME:CEST
DTSTART:20270328T010000
END:DAYLIGHT
BEGIN:STANDARD
TZOFFSETFROM:+0200
TZOFFSETTO:+0100
TZNAME:CET
DTSTART:20271031T010000
END:STANDARD
END:VTIMEZONE
BEGIN:VEVENT
DTSTART;TZID=Europe/Zurich:20260409T201500
DTEND;TZID=Europe/Zurich:20260409T201500
DTSTAMP:20260421T191350
CREATED:20260306T091840Z
LAST-MODIFIED:20260306T112123Z
UID:10001030-1775765700-1775765700@www.stanzerei-baden.ch
SUMMARY:Hausquartett präsentiert: FINALE FURIOSO
DESCRIPTION:Um unserer gut besuchten Abschlusssaison in der Unvermeidbar einen krönenden Schlusspunkt zu setzen\, haben Walter Küng\, Adrian Meyer und Christoph Baumann in Zusammenarbeit mit dem Hausquartett (Christoph Grab Saxes\, Christoph Baumann Piano\, Hämi Hämmerli Bass\, Tony Renold Drums) ein multimediales Projekt auf die Beine gestellt. \nIn einer assoziativen Verknüpfung von Texten\, Bildern und Musik soll die Treppe ein verbindendes Grundthema bilden\, wo auf verschiedenste Weise Musik\, Text und Bild ineinander verwoben werden. \n  \nTreppen in der Kultur symbolisieren Hierarchie\, Aufstieg und Abstieg (Macht und Ruhm) und dienen als Beispiel für Wachstum und Entwicklung\, sie ermöglichen Einlass\, Ausblick\, sie öffnen Sichtweisen und Haltungen. Treppen schaffen soziale Treffpunkte\, hier finden Begegnungen\, Liebesglück\, Streit und Abschied statt. Sicher bieten sie auch Orientierung\, dies in der Architektur\, in der Kunst\, insbesondere auch in der Musik. \nDas Motiv Treppen erscheint in Lyrik\, Prosa und Dramatik. \nAls offene Rondoform gedacht\, erleben wir verschiedene Beziehungsformen von Musik\, Text und Bild. Verschiedene Grundthemen kehren wieder\, werden variiert und mit jeweils neuen Zwischensequenzen gefüttert. \nUnsere Absicht ist: die drei verschiedenen Medien sollen gegenseitig neue Klangräume\, Bildräume und Texträume schaffen und hergebrachte Erfahrungsräume auf erfrischende Weise unterlaufen. \n  \nWalter Küng    \nSchauspieler\, Regisseur und Dozent an der  ZHdK im Bereich Schauspiel \nAdrian Meyer \nArchitekt und Maler\, Prof. em. ETH \n\n  \n  \n\nHausquartett \nDas „Hausquartett“ ist ein über Jahre zusammengewachsenes\, hochflexibles Ensemble\, das von lyrischen Zwischentönen bis hin zu explosiven Grooves die ganze Klang-Palette des zeitgenössischen Jazz aus dem Effeff beherrscht und auf ganz persönliche Art und Weise einsetzt. Eine kompakte Band\, die starke Stimmen der Schweizer Jazzszene vereinigt\, ohne sie dem Kollektiv unterzuordnen und doch aus einem Guss daherkommt. \n  \nChristoph Grab (Saxes)\,  \nChristoph Baumann (Piano) \nHämi Hämmerli (Bass) \nTony Renold (Drums) \n\n  \n  \n  \n 
URL:https://www.stanzerei-baden.ch/kultur/hausquartett-praesentiert-finale-furioso-2
CATEGORIES:Jazz,Kultur
ATTACH;FMTTYPE=image/jpeg:https://www.stanzerei-baden.ch/wp-content/uploads/2026/03/Fotosession_STANZEREI_2026-02_015-002-e1772706416447.jpeg
END:VEVENT
BEGIN:VEVENT
DTSTART;TZID=Europe/Zurich:20260410T201500
DTEND;TZID=Europe/Zurich:20260410T201500
DTSTAMP:20260421T191350
CREATED:20260306T091811Z
LAST-MODIFIED:20260306T112237Z
UID:10001029-1775852100-1775852100@www.stanzerei-baden.ch
SUMMARY:Hausquartett präsentiert: FINALE FURIOSO
DESCRIPTION:Um unserer gut besuchten Abschlusssaison in der Unvermeidbar einen krönenden Schlusspunkt zu setzen\, haben Walter Küng\, Adrian Meyer und Christoph Baumann in Zusammenarbeit mit dem Hausquartett (Christoph Grab Saxes\, Christoph Baumann Piano\, Hämi Hämmerli Bass\, Tony Renold Drums) ein multimediales Projekt auf die Beine gestellt. \nIn einer assoziativen Verknüpfung von Texten\, Bildern und Musik soll die Treppe ein verbindendes Grundthema bilden\, wo auf verschiedenste Weise Musik\, Text und Bild ineinander verwoben werden. \n  \nTreppen in der Kultur symbolisieren Hierarchie\, Aufstieg und Abstieg (Macht und Ruhm) und dienen als Beispiel für Wachstum und Entwicklung\, sie ermöglichen Einlass\, Ausblick\, sie öffnen Sichtweisen und Haltungen. Treppen schaffen soziale Treffpunkte\, hier finden Begegnungen\, Liebesglück\, Streit und Abschied statt. Sicher bieten sie auch Orientierung\, dies in der Architektur\, in der Kunst\, insbesondere auch in der Musik. \nDas Motiv Treppen erscheint in Lyrik\, Prosa und Dramatik. \nAls offene Rondoform gedacht\, erleben wir verschiedene Beziehungsformen von Musik\, Text und Bild. Verschiedene Grundthemen kehren wieder\, werden variiert und mit jeweils neuen Zwischensequenzen gefüttert. \nUnsere Absicht ist: die drei verschiedenen Medien sollen gegenseitig neue Klangräume\, Bildräume und Texträume schaffen und hergebrachte Erfahrungsräume auf erfrischende Weise unterlaufen. \n  \nWalter Küng    \nSchauspieler\, Regisseur und Dozent an der  ZHdK im Bereich Schauspiel \nAdrian Meyer \nArchitekt und Maler\, Prof. em. ETH \n\n  \n  \n\nHausquartett \nDas „Hausquartett“ ist ein über Jahre zusammengewachsenes\, hochflexibles Ensemble\, das von lyrischen Zwischentönen bis hin zu explosiven Grooves die ganze Klang-Palette des zeitgenössischen Jazz aus dem Effeff beherrscht und auf ganz persönliche Art und Weise einsetzt. Eine kompakte Band\, die starke Stimmen der Schweizer Jazzszene vereinigt\, ohne sie dem Kollektiv unterzuordnen und doch aus einem Guss daherkommt. \n  \nChristoph Grab (Saxes)\,  \nChristoph Baumann (Piano) \nHämi Hämmerli (Bass) \nTony Renold (Drums) \n\n  \n  \n  \n 
URL:https://www.stanzerei-baden.ch/kultur/hausquartett-praesentiert-finale-furioso
CATEGORIES:Jazz,Kultur
ATTACH;FMTTYPE=image/jpeg:https://www.stanzerei-baden.ch/wp-content/uploads/2026/03/Fotosession_STANZEREI_2026-02_015-002-e1772706416447.jpeg
END:VEVENT
END:VCALENDAR