BEGIN:VCALENDAR
VERSION:2.0
PRODID:-//Aktionshalle Stanzerei - ECPv6.15.20//NONSGML v1.0//EN
CALSCALE:GREGORIAN
METHOD:PUBLISH
X-ORIGINAL-URL:https://www.stanzerei-baden.ch
X-WR-CALDESC:Veranstaltungen für Aktionshalle Stanzerei
REFRESH-INTERVAL;VALUE=DURATION:PT1H
X-Robots-Tag:noindex
X-PUBLISHED-TTL:PT1H
BEGIN:VTIMEZONE
TZID:Europe/Zurich
BEGIN:DAYLIGHT
TZOFFSETFROM:+0100
TZOFFSETTO:+0200
TZNAME:CEST
DTSTART:20250330T010000
END:DAYLIGHT
BEGIN:STANDARD
TZOFFSETFROM:+0200
TZOFFSETTO:+0100
TZNAME:CET
DTSTART:20251026T010000
END:STANDARD
BEGIN:DAYLIGHT
TZOFFSETFROM:+0100
TZOFFSETTO:+0200
TZNAME:CEST
DTSTART:20260329T010000
END:DAYLIGHT
BEGIN:STANDARD
TZOFFSETFROM:+0200
TZOFFSETTO:+0100
TZNAME:CET
DTSTART:20261025T010000
END:STANDARD
BEGIN:DAYLIGHT
TZOFFSETFROM:+0100
TZOFFSETTO:+0200
TZNAME:CEST
DTSTART:20270328T010000
END:DAYLIGHT
BEGIN:STANDARD
TZOFFSETFROM:+0200
TZOFFSETTO:+0100
TZNAME:CET
DTSTART:20271031T010000
END:STANDARD
END:VTIMEZONE
BEGIN:VEVENT
DTSTART;TZID=Europe/Zurich:20260422T201500
DTEND;TZID=Europe/Zurich:20260422T201500
DTSTAMP:20260421T202249
CREATED:20250819T193514Z
LAST-MODIFIED:20260407T112205Z
UID:10001000-1776888900-1776888900@www.stanzerei-baden.ch
SUMMARY:Songcircle
DESCRIPTION:Wenn Hendrix Ackle und Adrian Stern zwei weitere hochkarätige Musiker*innen in ihren Kreis einladen und sie bitten ihre liebsten Lieder mitzubringen\, entsteht immer etwas ganz Besonderes. \nSeit über 10  Jahren begeistert SONGCIRCLE mit seiner besonderen Mischung aus Spontanität\, Intimität und musikalischem Feingefühl. Ein einmaliges\, hautnahes und unverwechselbares Konzertformat\, welches schon bald sein 50. Jubiläum feiert! \nIm Zentrum stehen bei SONGCIRCLE\, die lebensbegleitenden und prägenden Songs: Sei es der Song\, der einen zum Musikmachen bewegt hat\, der Song\, der einen die erste grosse Liebe nicht vergessen lässt\, der uncoolste Song\, zu dem man hinter gezogenen Vorhängen durchs Wohnzimmer tanzt\, der beste Song aller Zeiten\, den leider niemand kennt oder auch einfach die aktuelle Nummer 1 der Hitparade\, der man beim besten Willen nicht entfliehen kann. \nEntdecken Sie neue Musik\, geniessen Sie den Einblick in die private Plattensammlung und den ganz persönlichen Musikgeschmack der Künstler*innen\, lauschen Sie spannenden Geschichten und spontanen Gesprächen von Musiker*innen unter sich und hören Sie\, wie sie sich ihre liebsten Songs gegenseitig vorspielen und unmittelbar neue\, gemeinsame Arrangements kreieren\, pur und unplugged. \nEingeladen zum 50. Songcircle am 22. April 2026: Gigi Malua und Linda Elys \n  \nPhoto Credits: Gigi Malua / Fabio Martin (Linda) \nAlle bisherigen Gäste und Setlisten: www.songcircle.ch
URL:https://www.stanzerei-baden.ch/kultur/songcircle-260422
CATEGORIES:ENDLICH MITTWOCH!,SONGCIRCLE
ATTACH;FMTTYPE=image/jpeg:https://www.stanzerei-baden.ch/wp-content/uploads/2025/08/SONGCIRCLE-1.jpg
ORGANIZER;CN="ENDLICH MITTWOCH!":MAILTO:endlichmittwoch@stanzerei-baden.ch
END:VEVENT
BEGIN:VEVENT
DTSTART;TZID=Europe/Zurich:20260423T200000
DTEND;TZID=Europe/Zurich:20260423T200000
DTSTAMP:20260421T202249
CREATED:20251208T140901Z
LAST-MODIFIED:20251208T140901Z
UID:10001019-1776974400-1776974400@www.stanzerei-baden.ch
SUMMARY:TanTango präsentiert: Rodolfo Mederos & Orquesta Típica «Tan Tango!»
DESCRIPTION:Das Orchester «Tan Tango!» spielt mit dem legendären 85-jährigen Bandoneonisten Rodolfo Mederos traditionellen argentinischen Tango. Mit dem 14-köpfigen Orquesta Típica erklingen Tango-Melodien in wunderbaren Arrangements\, mehrheitlich von Mederos selbst. \nRodolfo Mederos war Mitglied im Orchester von Osvaldo Pugliese – einer der grössten Tangofiguren aller Zeiten –\, Kollege und Mitarbeiter von Astor Piazzolla und schaut auf eine unglaublich reiche Konzert-\, Arrangier-\, Komponier- und Lehrtätigkeit zurück. Seine Präsenz verspricht ein einmaliges Tangoerlebnis – und dies mit «Tan Tango!»\, dem einzigartigen\, typischen Tango-Orchester aus der Schweiz! \n\n  \n     \n  \nBandoneones: Rodolfo Mederos\, Jens Biedermann\, Anna Choi\, Jeanine Hauser\, Jankoen De Haan \nViolinen: Juan Maria Braceras\, Laura Morales\, Angelika Büeler\, Lilian Wiesner \nViola: Astrid Leuthold \nVioloncello: Beate Schnaithmann \nPiano: Matías Lanz \nBass: Federico Abraham \nGesang: Agustín del Pozo
URL:https://www.stanzerei-baden.ch/kultur/tantango-praesentiert-rodolfo-mederos-orquesta-tipica-tan-tango
CATEGORIES:Kultur,Tango
ATTACH;FMTTYPE=image/jpeg:https://www.stanzerei-baden.ch/wp-content/uploads/2025/12/Tango.jpg
END:VEVENT
END:VCALENDAR