BEGIN:VCALENDAR
VERSION:2.0
PRODID:-//Aktionshalle Stanzerei - ECPv6.15.20//NONSGML v1.0//EN
CALSCALE:GREGORIAN
METHOD:PUBLISH
X-ORIGINAL-URL:https://www.stanzerei-baden.ch
X-WR-CALDESC:Veranstaltungen für Aktionshalle Stanzerei
REFRESH-INTERVAL;VALUE=DURATION:PT1H
X-Robots-Tag:noindex
X-PUBLISHED-TTL:PT1H
BEGIN:VTIMEZONE
TZID:Europe/Zurich
BEGIN:DAYLIGHT
TZOFFSETFROM:+0100
TZOFFSETTO:+0200
TZNAME:CEST
DTSTART:20250330T010000
END:DAYLIGHT
BEGIN:STANDARD
TZOFFSETFROM:+0200
TZOFFSETTO:+0100
TZNAME:CET
DTSTART:20251026T010000
END:STANDARD
BEGIN:DAYLIGHT
TZOFFSETFROM:+0100
TZOFFSETTO:+0200
TZNAME:CEST
DTSTART:20260329T010000
END:DAYLIGHT
BEGIN:STANDARD
TZOFFSETFROM:+0200
TZOFFSETTO:+0100
TZNAME:CET
DTSTART:20261025T010000
END:STANDARD
BEGIN:DAYLIGHT
TZOFFSETFROM:+0100
TZOFFSETTO:+0200
TZNAME:CEST
DTSTART:20270328T010000
END:DAYLIGHT
BEGIN:STANDARD
TZOFFSETFROM:+0200
TZOFFSETTO:+0100
TZNAME:CET
DTSTART:20271031T010000
END:STANDARD
END:VTIMEZONE
BEGIN:VEVENT
DTSTART;TZID=Europe/Zurich:20260429T201500
DTEND;TZID=Europe/Zurich:20260429T201500
DTSTAMP:20260421T191712
CREATED:20250819T202440Z
LAST-MODIFIED:20260120T092453Z
UID:10001008-1777493700-1777493700@www.stanzerei-baden.ch
SUMMARY:Sarah Chaksad Large Ensemble
DESCRIPTION:Das Sarah Chaksad Large Ensemble vereint 13 hochkarätige Musiker*innen aus ganz Europa mit unterschied-lichsten kulturellen Hintergründen – und schafft einen ebenso vielfältigen wie homogenen Klangkörper. Komplexe Kompositionen\, freie Improvisationen und berührende Melodien verbinden sich zu einem musikalischen Ausdruck von Zusammenhalt und Offenheit. \nMit ihrem neuen Programm Together zeigt die Aargauer Saxophonistin und Komponistin Sarah Chaksad eindrucksvoll\, wie sich persönliche Erfahrungen\, persische Musiktradition und moderner Jazz zu einem intensiven Hörerlebnis verweben. Die eigens für dieses Ensemble geschriebenen Stücke bewegen sich in ungeraden Metren\, mit fließenden Übergängen zwischen Struktur und Freiheit. Together ist ein lebendiges Plädoyer für das Miteinander in einer pluralen Welt – musikalisch\, emotional und stilistisch grenzenlos. \n  \nSarah Chaksad (Altoand Soprano Saxophone\, Composition)\, Yumi Ito (Vocals)\, Christoph Bösch (Flutes)\, Fabian Willmann (Tenor Saxophone\, Clarinet)\, Catherine Delaunay Basset (Horn\, Clarinet) Hildegunn Øiseth (Trumpet)\, Paco Andreo (Valve Trombone\, Euphonium)\, Lukas Wyss (Trombone)\, Sophia Nidecker (Tuba)\, Julia Hülsmann (Piano)\, Fabio Gouvea (Guitar)\, Dominique Girod (Bass)\, Eva Klesse (Drums). \n  \n \n \n  \n  \n  \n  \n  \n  \n  \n  \n  \n  \n  \nFotos PeterPfister & Laura Pleifer
URL:https://www.stanzerei-baden.ch/kultur/sarah-chaksad-large-ensemble
CATEGORIES:ENDLICH MITTWOCH!
ATTACH;FMTTYPE=image/jpeg:https://www.stanzerei-baden.ch/wp-content/uploads/2025/08/skaliert-Sarah-Chaksad.jpg
ORGANIZER;CN="ENDLICH MITTWOCH!":MAILTO:endlichmittwoch@stanzerei-baden.ch
END:VEVENT
BEGIN:VEVENT
DTSTART;TZID=Europe/Zurich:20260430T201500
DTEND;TZID=Europe/Zurich:20260430T201500
DTSTAMP:20260421T191712
CREATED:20260112T160324Z
LAST-MODIFIED:20260112T160324Z
UID:10001021-1777580100-1777580100@www.stanzerei-baden.ch
SUMMARY:KULAK präsentiert: Caleb Wheeler Curtis Trio
DESCRIPTION:Da wird meisterhafte Technik mit abenteuerlichem Geist verbunden. „…ein grossartiger Querschnitt zeitgenössischer Musik… einer der beeindruckendsten Aspekte dieser Musik ist\, wie dieses Trio zischen\, explodieren\, flüstern und schweben kann\, ohne jemals gezwungen oder unnatürlich zu klingen.“. Saxophonist\, Trompeter und Multi-Instrumentalist Caleb Wheeler Curtis ist ein improvisierender Musiker\, Komponist und Kollaborateur\, der für seinen „intensiv fokussierten und wortreich erfinderischen“ Stil bekannt ist\, der aus einer Vielzahl von Einflüssen schöpft\, darunter progressiver Bop und Post-Coltrane/Ornette Free Improvisation. Ursprünglich aus Ann Arbor\, Michigan\, stammend und seit 16 Jahren in Brooklyn\, NY\, ansässig\, erstreckt sich seine Arbeit über eine breite Palette von Projekten\, von denen jedes einen charakteristischen und direkten Ansatz zur Schaffung und Aufführung von Musik bietet. Caleb wurde als „einer der mutigsten Musiker des heutigen Jazz“ bezeichnet (All About Jazz) und seine Musik wurde als „ein Meisterwerk—wir können keinen Begriff finden\, der es präziser definiert“ beschrieben (Musica Jazz\, Italien). Als Bandleader zeigt Calebs jüngste Veröffentlichung\, The True Story of Bears and the Invention of the Battery (2024\, Imani Records)\, die Breite seiner musikalischen Ideen. Auf beiden Alben spielt Caleb Stritch (ein gerades Alt-Saxophon)\, Sopraninosaxophon und Trompete.\n  \nCaleb Wheeler (saxes\, tromp) \nMichael Sarin (drums) \nSean Conly (bass)
URL:https://www.stanzerei-baden.ch/kultur/kulak-praesentiert-caleb-wheeler-curtis-trio
CATEGORIES:Jazz,Kultur
ATTACH;FMTTYPE=image/jpeg:https://www.stanzerei-baden.ch/wp-content/uploads/2025/12/Caleb_Wheeler_Curtis_by_Adrien_Tillmann_1_30.04.26-scaled-e1765808494216.jpg
END:VEVENT
END:VCALENDAR