BEGIN:VCALENDAR
VERSION:2.0
PRODID:-//Aktionshalle Stanzerei - ECPv6.15.20//NONSGML v1.0//EN
CALSCALE:GREGORIAN
METHOD:PUBLISH
X-ORIGINAL-URL:https://www.stanzerei-baden.ch
X-WR-CALDESC:Veranstaltungen für Aktionshalle Stanzerei
REFRESH-INTERVAL;VALUE=DURATION:PT1H
X-Robots-Tag:noindex
X-PUBLISHED-TTL:PT1H
BEGIN:VTIMEZONE
TZID:Europe/Zurich
BEGIN:DAYLIGHT
TZOFFSETFROM:+0100
TZOFFSETTO:+0200
TZNAME:CEST
DTSTART:20250330T010000
END:DAYLIGHT
BEGIN:STANDARD
TZOFFSETFROM:+0200
TZOFFSETTO:+0100
TZNAME:CET
DTSTART:20251026T010000
END:STANDARD
BEGIN:DAYLIGHT
TZOFFSETFROM:+0100
TZOFFSETTO:+0200
TZNAME:CEST
DTSTART:20260329T010000
END:DAYLIGHT
BEGIN:STANDARD
TZOFFSETFROM:+0200
TZOFFSETTO:+0100
TZNAME:CET
DTSTART:20261025T010000
END:STANDARD
BEGIN:DAYLIGHT
TZOFFSETFROM:+0100
TZOFFSETTO:+0200
TZNAME:CEST
DTSTART:20270328T010000
END:DAYLIGHT
BEGIN:STANDARD
TZOFFSETFROM:+0200
TZOFFSETTO:+0100
TZNAME:CET
DTSTART:20271031T010000
END:STANDARD
END:VTIMEZONE
BEGIN:VEVENT
DTSTART;TZID=Europe/Zurich:20260513T201500
DTEND;TZID=Europe/Zurich:20260513T201500
DTSTAMP:20260421T210619
CREATED:20250819T203846Z
LAST-MODIFIED:20250921T191803Z
UID:10001009-1778703300-1778703300@www.stanzerei-baden.ch
SUMMARY:Garden of Silence
DESCRIPTION:GARDEN OF SILENCE vereint neun Musiker:innen aus drei Kontinenten in einem kreativen Dialog der weit über die Musik hinaus geht. Er wird zu einer Brücke zwischen Traditionen\, schöpft seine Kraft aus dem Reichtum der Verschiedenheiten und ist ein künstlerisches Bekenntnis zur Verständigung. \nΑlles begann mit einem Traum. Die Harfenistin\, Komponistin und Sängerin Asita Hamidi vernahm den Klang eines bisher ungehörten Ensembles und begab sich\, gemeinsam mit Björn Meyer\, auf die Suche danach. Mit jedem Versuch\, diesen einzigartigen Klang umzusetzen\, wurde immer klarer\, dass er nicht nur aus Instrumenten bestand\, sondern vielmehr aus den Menschen\, die ihre Instrumente auf besondere\, zutiefst eigene Weise zum Klingen bringen. Über Jahre hinweg reisten die Beiden durch den Iran\, Ägypten und Schweden\, um mit ausgewählten Musiker:innen an der Perfektion dieses Klangs zu arbeiten. Ihr Ziel war es\, eine Musik zu schaffen\, die die Eigenarten traditioneller Instrumente und die Einflüsse der kulturell vielfarbigen Hintergründen der Beteiligten zu einem unvergleichlichen Klangerlebnis vereinen würde. \nSo entstand ein vielstimmiges\, organisch gewachsenes Klangbild\, getragen von der einzigartigen Instrumentierung – armenische Duduk\, schwedische Nyckelharpa\, Violine\, Cello\, Bassklarinette\, Percussion\, Gesang\, Bass-Mandola\, E-Bass\, Schlagzeug – aber auch von der gemeinsamen Haltung: Offenheit\, Vertrauen und Neugier. GARDEN OF SILENCE ist zu mehr als einem musikalischen Werk geworden. Es ist zugleich eine Manifestation vertrauensvoller Freundschaften\, die ebenso integraler Bestandteil des Repertoires sind wie das komponierte Material. \nAsita’s Tod im Jahr 2012 liess das Projekt kurz vor der geplanten Premiere verstummen. Doch ihre Vision blieb lebendig. In den folgenden Jahren entwickelte Björn das Werk behutsam weiter. Nach einem Jahrzehnt – im Dezember 2022 – wurde das vollständige Programm erstmals in drei gefeierten Konzerten in der Schweiz uraufgeführt. Die Resonanz war überwältigend. Im Februar 2024 folgte eine weitere Tournee\, bei der auch das Debütalbum „Neither You Nor I“ aufgenommen wurde. Die Veröffentlichung des Albums ist für den 20. November 2025 geplant – begleitet von einer internationalen Tournee im Mai 2026. \n  \n \n  \nEmilia Amper (SE) Nyckelharpa\nVeronika Stalder (CH) Stimme\nMohammed Sami (EG) Geige\nReza Askarzadeh (IR) Duduk\nKarin Streule (CH) Stimme\nKaspar Rast (CH) Schlagzeug\, Percussion\nCarlo Niederhauser (CH) Cello\nKlaus Gesing (DE) Bassklarinette\, Sopransaxophon\nBjörn Meyer (SE\, CH) Künstlerische Leitung\, Bass\, Bass-Mandola
URL:https://www.stanzerei-baden.ch/kultur/garden-of-silence
CATEGORIES:ENDLICH MITTWOCH!
ATTACH;FMTTYPE=image/jpeg:https://www.stanzerei-baden.ch/wp-content/uploads/2025/08/260513_garden-of-silence.jpg
ORGANIZER;CN="ENDLICH MITTWOCH!":MAILTO:endlichmittwoch@stanzerei-baden.ch
END:VEVENT
END:VCALENDAR