BEGIN:VCALENDAR
VERSION:2.0
PRODID:-//Aktionshalle Stanzerei - ECPv6.15.20//NONSGML v1.0//EN
CALSCALE:GREGORIAN
METHOD:PUBLISH
X-WR-CALNAME:Aktionshalle Stanzerei
X-ORIGINAL-URL:https://www.stanzerei-baden.ch
X-WR-CALDESC:Veranstaltungen für Aktionshalle Stanzerei
REFRESH-INTERVAL;VALUE=DURATION:PT1H
X-Robots-Tag:noindex
X-PUBLISHED-TTL:PT1H
BEGIN:VTIMEZONE
TZID:Europe/Zurich
BEGIN:DAYLIGHT
TZOFFSETFROM:+0100
TZOFFSETTO:+0200
TZNAME:CEST
DTSTART:20250330T010000
END:DAYLIGHT
BEGIN:STANDARD
TZOFFSETFROM:+0200
TZOFFSETTO:+0100
TZNAME:CET
DTSTART:20251026T010000
END:STANDARD
BEGIN:DAYLIGHT
TZOFFSETFROM:+0100
TZOFFSETTO:+0200
TZNAME:CEST
DTSTART:20260329T010000
END:DAYLIGHT
BEGIN:STANDARD
TZOFFSETFROM:+0200
TZOFFSETTO:+0100
TZNAME:CET
DTSTART:20261025T010000
END:STANDARD
BEGIN:DAYLIGHT
TZOFFSETFROM:+0100
TZOFFSETTO:+0200
TZNAME:CEST
DTSTART:20270328T010000
END:DAYLIGHT
BEGIN:STANDARD
TZOFFSETFROM:+0200
TZOFFSETTO:+0100
TZNAME:CET
DTSTART:20271031T010000
END:STANDARD
END:VTIMEZONE
BEGIN:VEVENT
DTSTART;TZID=Europe/Zurich:20260528T201500
DTEND;TZID=Europe/Zurich:20260528T201500
DTSTAMP:20260421T224524
CREATED:20260112T160452Z
LAST-MODIFIED:20260310T093015Z
UID:10001018-1779999300-1779999300@www.stanzerei-baden.ch
SUMMARY:KULAK präsentiert: Michael Foster-Quartet feat. Steve Swell
DESCRIPTION:Das Foster-Swell-Weber-Griener-Quartett besticht mit jazzinspirierten und geräuschverwandten Erkundungen innerhalb der akustischen Improvisationsmusik.\nHören und sehen Sie es selbst; am Donnerstag\, 28. Mai 2026 bei KulaK Jazz in Baden. \n\n  \nMichael Foster (ss) \nSteve Swell (tb) \nChristian Weber (b) \nMichael Griener (dr)
URL:https://www.stanzerei-baden.ch/kultur/kulak-praesentiert-michael-foster-quartet-feat-steve-swell
CATEGORIES:Jazz,Kultur
ATTACH;FMTTYPE=image/jpeg:https://www.stanzerei-baden.ch/wp-content/uploads/2026/01/maxresdefault_1200x800.jpg
END:VEVENT
END:VCALENDAR