BEGIN:VCALENDAR
VERSION:2.0
PRODID:-//Aktionshalle Stanzerei - ECPv6.15.20//NONSGML v1.0//EN
CALSCALE:GREGORIAN
METHOD:PUBLISH
X-WR-CALNAME:Aktionshalle Stanzerei
X-ORIGINAL-URL:https://www.stanzerei-baden.ch
X-WR-CALDESC:Veranstaltungen für Aktionshalle Stanzerei
REFRESH-INTERVAL;VALUE=DURATION:PT1H
X-Robots-Tag:noindex
X-PUBLISHED-TTL:PT1H
BEGIN:VTIMEZONE
TZID:Europe/Zurich
BEGIN:DAYLIGHT
TZOFFSETFROM:+0100
TZOFFSETTO:+0200
TZNAME:CEST
DTSTART:20250330T010000
END:DAYLIGHT
BEGIN:STANDARD
TZOFFSETFROM:+0200
TZOFFSETTO:+0100
TZNAME:CET
DTSTART:20251026T010000
END:STANDARD
BEGIN:DAYLIGHT
TZOFFSETFROM:+0100
TZOFFSETTO:+0200
TZNAME:CEST
DTSTART:20260329T010000
END:DAYLIGHT
BEGIN:STANDARD
TZOFFSETFROM:+0200
TZOFFSETTO:+0100
TZNAME:CET
DTSTART:20261025T010000
END:STANDARD
BEGIN:DAYLIGHT
TZOFFSETFROM:+0100
TZOFFSETTO:+0200
TZNAME:CEST
DTSTART:20270328T010000
END:DAYLIGHT
BEGIN:STANDARD
TZOFFSETFROM:+0200
TZOFFSETTO:+0100
TZNAME:CET
DTSTART:20271031T010000
END:STANDARD
END:VTIMEZONE
BEGIN:VEVENT
DTSTART;TZID=Europe/Zurich:20260917T201500
DTEND;TZID=Europe/Zurich:20260917T201500
DTSTAMP:20260422T012312
CREATED:20260310T091123Z
LAST-MODIFIED:20260416T064716Z
UID:10001025-1789676100-1789676100@www.stanzerei-baden.ch
SUMMARY:KULAK präsentiert: Firelapping at the Creek
DESCRIPTION:„Feuer\, das am Bach leckt\, mag sich wie ein typischer Appalachian-Blues-Album anhören\, aber die Musik ist voller Improvisation und Experimentierfreude. Das Ensemble von Alec Goldfarb bringt einen Hauch von New Orleans in die tiefen Wälder…“ \n\n  \nAlec Goldfarb (g) \nDavid Leon (as) \nZekkereya El-Magharbel (tb) \nChris Tordini (b) \nSteven Crammer (dr)
URL:https://www.stanzerei-baden.ch/kultur/kulak-praesentiert-firelapping-at-the-creek
CATEGORIES:Jazz,Kultur
ATTACH;FMTTYPE=image/jpeg:https://www.stanzerei-baden.ch/wp-content/uploads/2026/03/firelapping_goldfarb_1200x800.jpg
END:VEVENT
END:VCALENDAR