BEGIN:VCALENDAR
VERSION:2.0
PRODID:-//Aktionshalle Stanzerei - ECPv6.15.20//NONSGML v1.0//EN
CALSCALE:GREGORIAN
METHOD:PUBLISH
X-WR-CALNAME:Aktionshalle Stanzerei
X-ORIGINAL-URL:https://www.stanzerei-baden.ch
X-WR-CALDESC:Veranstaltungen für Aktionshalle Stanzerei
REFRESH-INTERVAL;VALUE=DURATION:PT1H
X-Robots-Tag:noindex
X-PUBLISHED-TTL:PT1H
BEGIN:VTIMEZONE
TZID:Europe/Zurich
BEGIN:DAYLIGHT
TZOFFSETFROM:+0100
TZOFFSETTO:+0200
TZNAME:CEST
DTSTART:20200329T010000
END:DAYLIGHT
BEGIN:STANDARD
TZOFFSETFROM:+0200
TZOFFSETTO:+0100
TZNAME:CET
DTSTART:20201025T010000
END:STANDARD
BEGIN:DAYLIGHT
TZOFFSETFROM:+0100
TZOFFSETTO:+0200
TZNAME:CEST
DTSTART:20210328T010000
END:DAYLIGHT
BEGIN:STANDARD
TZOFFSETFROM:+0200
TZOFFSETTO:+0100
TZNAME:CET
DTSTART:20211031T010000
END:STANDARD
BEGIN:DAYLIGHT
TZOFFSETFROM:+0100
TZOFFSETTO:+0200
TZNAME:CEST
DTSTART:20220327T010000
END:DAYLIGHT
BEGIN:STANDARD
TZOFFSETFROM:+0200
TZOFFSETTO:+0100
TZNAME:CET
DTSTART:20221030T010000
END:STANDARD
END:VTIMEZONE
BEGIN:VEVENT
DTSTART;TZID=Europe/Zurich:20211130T180000
DTEND;TZID=Europe/Zurich:20211130T180000
DTSTAMP:20260421T235936
CREATED:20211011T143958Z
LAST-MODIFIED:20211013T070251Z
UID:10000817-1638295200-1638295200@www.stanzerei-baden.ch
SUMMARY:IG Engelshaar präsentiert: Mehr Lametta\, Agnetha!
DESCRIPTION:Mehr Lametta\, Agnetha! – die Weihnachtsshow der legendären IG Engelshaar \nEndlich ist es wieder soweit: Nach zweijähriger Zwangspause kehrt die IG Engelshaar zurück\, und empfängt das Publikum am 29. und 30. November in Baden. Mit exquisiten Speisen und Tränken\, funkelnder\, sprühender und prächtiger als jemals zuvor\, mehr Lametta war nie. So heisst das Motto nach der Pause: \nMehr Lametta\, Agnetha! \n18.00: Food/Barbetrieb \n20.00: Show Mehr Lametta\, Agnetha! \n21.30: Dessert/Barbetrieb \nEine Gemeinschaftsproduktion der IG Engelshaar mit dem Faro Catering  \nIn ihrem erprobten und einmaligen Mix aus Comedy\, Literatur und Musik holt die IG Engelshaar Weihnachten nach zwei Jahren Eiszeit an die Wärme zurück. Wie gewohnt wird alles vorweihnachtliche liebevoll aufs Korn genommen\, von James Bond über die Google-Geschäftsgebaren bis hin zum ABBA-Comeback. Geschrieben und umgesetzt von Slampoet Christoph Simon und Schriftsteller Urs Augstburger\, von TV-Frau und Vorleserin Monika Schärer\, Comedian Sven Furrer (Edelmais)\, Livezeichnerin Anja Kofmel\, und von einem neuformierten\, explosiven Duo: Der Musikkabarettist Pascal Dussex (Les Trois Suisse) gesellt sich zum vielfältigen Blaswerk von HP Stamm. \n 
URL:https://www.stanzerei-baden.ch/kultur/ig-engelshaar-praesentiert-mehr-lametta-agnetha-2
ATTACH;FMTTYPE=image/jpeg:https://www.stanzerei-baden.ch/wp-content/uploads/2021/10/Flyer-Lametta-quad-00A-1.jpg
END:VEVENT
BEGIN:VEVENT
DTSTART;TZID=Europe/Zurich:20211129T180000
DTEND;TZID=Europe/Zurich:20211129T180000
DTSTAMP:20260421T235936
CREATED:20211011T142918Z
LAST-MODIFIED:20211013T070228Z
UID:10000816-1638208800-1638208800@www.stanzerei-baden.ch
SUMMARY:IG Engelshaar präsentiert: Mehr Lametta\, Agnetha!
DESCRIPTION:Mehr Lametta\, Agnetha! – die Weihnachtsshow der legendären IG Engelshaar \nEndlich ist es wieder soweit: Nach zweijähriger Zwangspause kehrt die IG Engelshaar zurück\, und empfängt das Publikum am 29. und 30. November in Baden. Mit exquisiten Speisen und Tränken\, funkelnder\, sprühender und prächtiger als jemals zuvor\, mehr Lametta war nie. So heisst das Motto nach der Pause: \nMehr Lametta\, Agnetha! \n18.00: Food/Barbetrieb \n20.00: Show Mehr Lametta\, Agnetha! \n21.30: Dessert/Barbetrieb \nEine Gemeinschaftsproduktion der IG Engelshaar mit dem Faro Catering  \nIn ihrem erprobten und einmaligen Mix aus Comedy\, Literatur und Musik holt die IG Engelshaar Weihnachten nach zwei Jahren Eiszeit an die Wärme zurück. Wie gewohnt wird alles vorweihnachtliche liebevoll aufs Korn genommen\, von James Bond über die Google-Geschäftsgebaren bis hin zum ABBA-Comeback. Geschrieben und umgesetzt von Slampoet Christoph Simon und Schriftsteller Urs Augstburger\, von TV-Frau und Vorleserin Monika Schärer\, Comedian Sven Furrer (Edelmais)\, Livezeichnerin Anja Kofmel\, und von einem neuformierten\, explosiven Duo: Der Musikkabarettist Pascal Dussex (Les Trois Suisse) gesellt sich zum vielfältigen Blaswerk von HP Stamm. \n 
URL:https://www.stanzerei-baden.ch/kultur/ig-engelshaar-praesentiert-mehr-lametta-agnetha
ATTACH;FMTTYPE=image/jpeg:https://www.stanzerei-baden.ch/wp-content/uploads/2021/10/Flyer-Lametta-quad-00A-1.jpg
END:VEVENT
END:VCALENDAR