BEGIN:VCALENDAR
VERSION:2.0
PRODID:-//Aktionshalle Stanzerei - ECPv6.15.20//NONSGML v1.0//EN
CALSCALE:GREGORIAN
METHOD:PUBLISH
X-WR-CALNAME:Aktionshalle Stanzerei
X-ORIGINAL-URL:https://www.stanzerei-baden.ch
X-WR-CALDESC:Veranstaltungen für Aktionshalle Stanzerei
REFRESH-INTERVAL;VALUE=DURATION:PT1H
X-Robots-Tag:noindex
X-PUBLISHED-TTL:PT1H
BEGIN:VTIMEZONE
TZID:Europe/Zurich
BEGIN:DAYLIGHT
TZOFFSETFROM:+0100
TZOFFSETTO:+0200
TZNAME:CEST
DTSTART:20220327T010000
END:DAYLIGHT
BEGIN:STANDARD
TZOFFSETFROM:+0200
TZOFFSETTO:+0100
TZNAME:CET
DTSTART:20221030T010000
END:STANDARD
BEGIN:DAYLIGHT
TZOFFSETFROM:+0100
TZOFFSETTO:+0200
TZNAME:CEST
DTSTART:20230326T010000
END:DAYLIGHT
BEGIN:STANDARD
TZOFFSETFROM:+0200
TZOFFSETTO:+0100
TZNAME:CET
DTSTART:20231029T010000
END:STANDARD
BEGIN:DAYLIGHT
TZOFFSETFROM:+0100
TZOFFSETTO:+0200
TZNAME:CEST
DTSTART:20240331T010000
END:DAYLIGHT
BEGIN:STANDARD
TZOFFSETFROM:+0200
TZOFFSETTO:+0100
TZNAME:CET
DTSTART:20241027T010000
END:STANDARD
END:VTIMEZONE
BEGIN:VEVENT
DTSTART;TZID=Europe/Zurich:20231205T180000
DTEND;TZID=Europe/Zurich:20231205T180000
DTSTAMP:20260422T115338
CREATED:20231016T082947Z
LAST-MODIFIED:20231016T120844Z
UID:10000918-1701799200-1701799200@www.stanzerei-baden.ch
SUMMARY:IG ENGELSHAAR PRÄSENTIERT: HALLELUJA\, ERLÖSUNG NAHT!
DESCRIPTION:  \nMontag\, 4.12.2023 / Dienstag\, 5.12.2023 \n  \n18.00 Nachtessen / Barbetrieb \n20.00 Show: Halleluja\, Erlösung naht! \n21.30 Dessert / Barbetrieb \nmit Barbara Terpoorten\, Christoph Simon\, Urs Augstburger\, Sven Furrer\, Anja Kofmel\, Pascal Dussex und HP Stamm \n  \nDas Faro-Catering sorgt wieder für die kulinarische Rundumbetreuung\, vom Appetizer-Plättli über die vegetarischen und nicht vegetarischen Hauptgänge bis hin zum Dessert. \n  \nDie Kultshow ist zurück! Das Jahr hat der IG Engelshaar zwar wieder alles abgefordert\, ihr drohten der Nachwuchs und neue weihnachtlichen Ideen auszugehen\, doch just im richtigen Moment naht Erlösung: Die IG hat sich eine künstliche Intelligenz gekauft. Aber ja! Und mehr noch\, sie steht auch gleich mit auf der Bühne. Seltsamerweise sieht sie ein bisschen aus wie Jane Fonda in den 80er-Jahren\, aber über künstlichen Geschmack lässt sich ja bekanntlich nicht streiten. Sie ahnen es: das alles kann natürlich nicht gutgehen\, aber wer erwartet das schon von den Engelshaarigen. Wir prophezeien: Trotzdem – oder gerade wegen der künstlichen Intelligenzkur – wird die IG auch dieses Jahr Witziges und Irrwitziges besingen\, mit Weihnachtsgeschichten betören\, grottenschlechte Tanzfilme persiflieren und die Welt an zwei Abenden mit schallendendem Gelächter und warmem Kerzenlicht füllen. \n  \nDie IG Engelshaar ist längst Legende\, und gerade deshalb mischen sich erste weisse Strähnen ins goldene Engelshaar. Das lässt sich nicht verleugnen\, und der Nachwuchs scheint Herausforderungen der Kultshow noch nicht gewachsen. Deshalb hat sich die IG auf dem Transfermarkt KI-m\, die künstliche Intelligenz\, gekauft. Sie ist natürlich gescheiter als die.. na ja: naturintelligente IG\, und KI-m ist ein Prototyp: die erste bühnentaugliche KI. Sie überrascht alle alsbald mit allzu menschlichen Vorlieben wie etwa ihrer 80er-Jahre Manie. Und sie treibt IG zu ungeahnten Höchstleistungen an. Die IG hat ja technologisch schon immer ganz vorne mitgemischt\, nun beobachtet und kommentiert sie\,  mit welchen fatalen Folgen die künstliche Intelligenz in jedem Haushalt Einzug hält. Und dann eben\, die 80er. \n  \nEs steht zu befürchten\, dass alte Tanzfilme\, von Flashdance bis Dirty Dancing persifliert werden. Herzerwärmenden Weihnachtsgeschichten treffen auf aberwitzige Stand-up-Einlagen\, auf bewegenden Lieder samt Engelsgesängen. Christoph Simon und Urs Augstburger schreiben\, Barbara Terpoorten (Der Bestatter)\, Sven Furrer (Edelmais) spielen\, klingen und singen\, Livezeichnerin Anja Kofmel kommentiert alles stets mit spitzer Feder\, und die Band mit Pascal Dussex (Les Trois Suisses)\, HP Stamm und Allzweck-Waffe Simon überraschen mit unerwarteten Versionen von 80er-Hits\, die wir KI-m lieber nicht selber singen lassen.
URL:https://www.stanzerei-baden.ch/kultur/halleluja-erloesung-naht
CATEGORIES:Kultur,Theater
ATTACH;FMTTYPE=image/jpeg:https://www.stanzerei-baden.ch/wp-content/uploads/2023/10/xmas_show_dezember2023.jpg
END:VEVENT
END:VCALENDAR