BEGIN:VCALENDAR
VERSION:2.0
PRODID:-//Aktionshalle Stanzerei - ECPv6.15.20//NONSGML v1.0//EN
CALSCALE:GREGORIAN
METHOD:PUBLISH
X-ORIGINAL-URL:https://www.stanzerei-baden.ch
X-WR-CALDESC:Veranstaltungen für Aktionshalle Stanzerei
REFRESH-INTERVAL;VALUE=DURATION:PT1H
X-Robots-Tag:noindex
X-PUBLISHED-TTL:PT1H
BEGIN:VTIMEZONE
TZID:Europe/Zurich
BEGIN:DAYLIGHT
TZOFFSETFROM:+0100
TZOFFSETTO:+0200
TZNAME:CEST
DTSTART:20220327T010000
END:DAYLIGHT
BEGIN:STANDARD
TZOFFSETFROM:+0200
TZOFFSETTO:+0100
TZNAME:CET
DTSTART:20221030T010000
END:STANDARD
BEGIN:DAYLIGHT
TZOFFSETFROM:+0100
TZOFFSETTO:+0200
TZNAME:CEST
DTSTART:20230326T010000
END:DAYLIGHT
BEGIN:STANDARD
TZOFFSETFROM:+0200
TZOFFSETTO:+0100
TZNAME:CET
DTSTART:20231029T010000
END:STANDARD
BEGIN:DAYLIGHT
TZOFFSETFROM:+0100
TZOFFSETTO:+0200
TZNAME:CEST
DTSTART:20240331T010000
END:DAYLIGHT
BEGIN:STANDARD
TZOFFSETFROM:+0200
TZOFFSETTO:+0100
TZNAME:CET
DTSTART:20241027T010000
END:STANDARD
END:VTIMEZONE
BEGIN:VEVENT
DTSTART;TZID=Europe/Zurich:20230318T203000
DTEND;TZID=Europe/Zurich:20230318T203000
DTSTAMP:20260422T125337
CREATED:20230216T083953Z
LAST-MODIFIED:20230316T105505Z
UID:10000873-1679171400-1679171400@www.stanzerei-baden.ch
SUMMARY:LIBERTANGO PRÄSENTIERT: Adios Libertango
DESCRIPTION:LIBERTANGO PRÄSENTIERT: Adios Libertango \nDer Verein Libertango verabschiedet sich mit dem Programm „Der letzte Tango von Baden“ von seinem treuen Publikum. \nNach 15 wunderschönen Jahren spielte das 676 NUEVO TANGO QUINTETT\, quasi die Hausband von Libertango\, zum Abschied ein persönliches Programm mit Werken von ASTOR PIAZZOLLA. \nGRACIAS y ADIÓS! \ncopyright Fuertes \n676 Nuevo Tango Quintett: Michael Zisman (Bandoneon)\, Daniel Zisman (Violine)\, Gerardo Vila (Klavier)\, Sébastien Fulgido (E-Gitarre) und Winfried Holzenkamp (Kontrabass) \n  \nVorverkauf: via info@libertango-baden.ch oder Tel. 079 602 17 11 \nMit freundlicher Unterstützung von Stadt Baden und dem Aargauer Kuratorium. \n 
URL:https://www.stanzerei-baden.ch/kultur/libertango-praesentiert-adios-libertango
CATEGORIES:Kultur,Tango
ATTACH;FMTTYPE=image/jpeg:https://www.stanzerei-baden.ch/wp-content/uploads/2023/02/Libertango_klein-e1676567937791.jpg
ORGANIZER;CN="Liber Tango":MAILTO:info@libertango.ch
END:VEVENT
END:VCALENDAR