BEGIN:VCALENDAR
VERSION:2.0
PRODID:-//Aktionshalle Stanzerei - ECPv6.15.20//NONSGML v1.0//EN
CALSCALE:GREGORIAN
METHOD:PUBLISH
X-WR-CALNAME:Aktionshalle Stanzerei
X-ORIGINAL-URL:https://www.stanzerei-baden.ch
X-WR-CALDESC:Veranstaltungen für Aktionshalle Stanzerei
REFRESH-INTERVAL;VALUE=DURATION:PT1H
X-Robots-Tag:noindex
X-PUBLISHED-TTL:PT1H
BEGIN:VTIMEZONE
TZID:Europe/Zurich
BEGIN:DAYLIGHT
TZOFFSETFROM:+0100
TZOFFSETTO:+0200
TZNAME:CEST
DTSTART:20240331T010000
END:DAYLIGHT
BEGIN:STANDARD
TZOFFSETFROM:+0200
TZOFFSETTO:+0100
TZNAME:CET
DTSTART:20241027T010000
END:STANDARD
BEGIN:DAYLIGHT
TZOFFSETFROM:+0100
TZOFFSETTO:+0200
TZNAME:CEST
DTSTART:20250330T010000
END:DAYLIGHT
BEGIN:STANDARD
TZOFFSETFROM:+0200
TZOFFSETTO:+0100
TZNAME:CET
DTSTART:20251026T010000
END:STANDARD
BEGIN:DAYLIGHT
TZOFFSETFROM:+0100
TZOFFSETTO:+0200
TZNAME:CEST
DTSTART:20260329T010000
END:DAYLIGHT
BEGIN:STANDARD
TZOFFSETFROM:+0200
TZOFFSETTO:+0100
TZNAME:CET
DTSTART:20261025T010000
END:STANDARD
END:VTIMEZONE
BEGIN:VEVENT
DTSTART;TZID=Europe/Zurich:20251010T201500
DTEND;TZID=Europe/Zurich:20251010T201500
DTSTAMP:20260422T004528
CREATED:20250616T083704Z
LAST-MODIFIED:20250901T093102Z
UID:10000981-1760127300-1760127300@www.stanzerei-baden.ch
SUMMARY:"Ghudni Maak" - Stephan Athanas' ContempArabic Jazz Ensemble
DESCRIPTION:ContempArabic Jazz Ensemble – „Ghudni Maak“ – Tournée  \nStephan Athanas bestritt vor 28 Jahren einen Atelieraufenthalt in Kairo\, verliehen durch die Stadt Aarau. Aus diesem Abenteuer wurde ein Musikprojekt\, welches die folgenden Jahre seines Schaffens prägten. Tatsächlich ist es so\, dass sein ContempArabic Jazz Ensemble seit damals quer durch Europa (Schweiz\, Frankreich\, Spanien\, Griechenland\, Tschechien) und Nordafrika (Aegypten\, Marokko\, Tunesien) zieht und immer wieder überraschenden Jazz mit starken arabischen Einflüssen (Vierteltonskalen\, Rhythmen\, Taqsim) präsentiert und den Jazz konsequent weiterentwickelt. Zuletzt war das Ensemble im Okt. 2023 in Tunesien auf Tournée. \nNun kommt das Ensemble wieder in die Schweiz.Anet Nyffelers Film „ContempArabic Jazz Ensemble – une aventure musicale“ dokumentierte schon 2007 auf spannende Weise das Schaffen des Ensembles. Der Film wurde auch in verkürzter Fassung auf SF1 im Klanghotel\, gezeigt.\nhttps://www.youtube.com/watch?v=-xTM0VHedaY \n  \nWie in einem Souk\, dies auch der Name der vorletzten CD\, treffen die musikalischen Parameter (Vierteltonskalen\, ungerade arabische Rhythmen\, Taqsim Improvisation aus der arabischen Kultur – Harmonien\, Jazz Improvisation\, Jazz – Rhythmik und Groove aus dem Jazz) zusammen und bilden ein immer neues Amalgam. \n  \nDie Zusammensetzung der MusikerInnen/Musikwissenschaftler*innen : \naus Tunesien:\nDr. Samiha Ben Said – Gesang/ Quanûn\nDr. Samir Ferjani – Nay Flöte \naus Frankreich:\nBenji Fellous – arab. Perkussion\nBernard Vidal – Gitarre \naus der Schweiz:\nDave Feusi – Saxphone\nPatrick Bürli – Schlagzeug\nStephan Athanas – Bass\, Komposition\nJaco Ackermann – Akkordeon
URL:https://www.stanzerei-baden.ch/kultur/stephan-athanas-contemparabic-jazz-ensemble-ghudni-maak-tournee
CATEGORIES:Jazz,Kultur
ATTACH;FMTTYPE=image/jpeg:https://www.stanzerei-baden.ch/wp-content/uploads/2025/06/StephanAthanas_ContempArabicJazzEnsemble_10.10.25-e1756985706265.jpg
ORGANIZER;CN="Stephan Athanas":MAILTO:stephanathanas@gmx.net
END:VEVENT
END:VCALENDAR