BEGIN:VCALENDAR
VERSION:2.0
PRODID:-//Aktionshalle Stanzerei - ECPv6.15.20//NONSGML v1.0//EN
CALSCALE:GREGORIAN
METHOD:PUBLISH
X-WR-CALNAME:Aktionshalle Stanzerei
X-ORIGINAL-URL:https://www.stanzerei-baden.ch
X-WR-CALDESC:Veranstaltungen für Aktionshalle Stanzerei
REFRESH-INTERVAL;VALUE=DURATION:PT1H
X-Robots-Tag:noindex
X-PUBLISHED-TTL:PT1H
BEGIN:VTIMEZONE
TZID:Europe/Zurich
BEGIN:DAYLIGHT
TZOFFSETFROM:+0100
TZOFFSETTO:+0200
TZNAME:CEST
DTSTART:20210328T010000
END:DAYLIGHT
BEGIN:STANDARD
TZOFFSETFROM:+0200
TZOFFSETTO:+0100
TZNAME:CET
DTSTART:20211031T010000
END:STANDARD
BEGIN:DAYLIGHT
TZOFFSETFROM:+0100
TZOFFSETTO:+0200
TZNAME:CEST
DTSTART:20220327T010000
END:DAYLIGHT
BEGIN:STANDARD
TZOFFSETFROM:+0200
TZOFFSETTO:+0100
TZNAME:CET
DTSTART:20221030T010000
END:STANDARD
BEGIN:DAYLIGHT
TZOFFSETFROM:+0100
TZOFFSETTO:+0200
TZNAME:CEST
DTSTART:20230326T010000
END:DAYLIGHT
BEGIN:STANDARD
TZOFFSETFROM:+0200
TZOFFSETTO:+0100
TZNAME:CET
DTSTART:20231029T010000
END:STANDARD
END:VTIMEZONE
BEGIN:VEVENT
DTSTART;TZID=Europe/Zurich:20220311T200000
DTEND;TZID=Europe/Zurich:20220311T233000
DTSTAMP:20260422T194037
CREATED:20220204T090410Z
LAST-MODIFIED:20220915T185705Z
UID:10000823-1647028800-1647041400@www.stanzerei-baden.ch
SUMMARY:The Dancing Queens präsentiert:
DESCRIPTION:«The Dancing Queens» ist die neue Schweizer ABBA Cover Band. Mit einer grossen Party möchte die Band ihr erstes Konzert feiern und sich einem grösseren Publikum vorstellen. \nYour Super Trouper ABBA Tribute Band \nSechs Profimusikerinnen und Profimusiker aus dem Raum Baden haben sich zum Ziel gesetzt\, die Musik von ABBA weiterleben zu lassen. ABBA ist pure Lebensfreude von ganz jung bis ganz alt. ABBA haben unzählige Hits geschrieben\, die heute noch jedes Kind kennt. Die Arrangings sind extrem ausgeklügelt. Texte und Melodien ergeben eine perfekte Symbiose. Und dabei sind die Songs absolut genial und musikalisch nicht zu unterschätzen. Damit ABBA-Songs nach ABBA tönen\, braucht es einiges.\nLive-Musik ist immer besser als ab Konserve. Darum hat sich die Band zum Ziel gesetzt\, die Hits von ABBA möglichst nah am Original live zu spielen. Sie wollen damit den Menschen während ca. 90 Minuten Konzert die Möglichkeit geben\, in ihre Erinnerungswelten abzutauchen oder einfach nur zur Musik abzutanzen\, mitzusingen und zu geniessen. Das Repertoire umfasst rund 19 Songs\, von denen man alle schon mindestens einmal gehört hat. «The Dancing Queens» sind keine ABBA-Show. Sie sind eine eigenständige Band\, die die Hits von ABBA spielt. Natürlich im 70er Look. Im Zentrum soll die Musik der schwedischen Band stehen! \n21 Uhr Konzert mit „Your Super Trouper ABBA Tribute Band“ \nab ca. 23 Uhr Rahmenprogramm mit DJ Adam aus Thun \nEs gelten die am 11.3.22 gültigen Covid-Vorschriften für den Einlass.
URL:https://www.stanzerei-baden.ch/kultur/the-dancing-queens-praesentiert
ATTACH;FMTTYPE=image/jpeg:https://www.stanzerei-baden.ch/wp-content/uploads/2022/02/Logo-The-Dancing-Queens-Schwarz-mit-Claim-002.jpeg
ORGANIZER;CN="The Dancing Queens":MAILTO:y-jordi@datacomm.ch
END:VEVENT
END:VCALENDAR